Workbook

Sheet Jan-Mar
A1: Lewisham Biodiversity Outputs | D1: Date: Jan-Mar 2025
C3: Demographic
A4: Organisation | B4: Total events | C4: Total number adults | D4: Total number children | E4: Number of Schools engaged | F4: Summary/Description (Please include name of schools)
A5: Environmental education
A6: Lewisham (Jess) | B6: 1 | C6: 5 | D6: 26 | E6: 1 | F6: Baring School
A7: Glendale (Emily Millhouse) | B7: 6 | C7: 20 | D7: 154 | E7: 5 | F7: Baring Primary, Cooper's Lane, St Winifred's (2 classes), All Saints, Trinity (Secondary)
A8: Thames 21 | B8: 1 | C8: 12 | D8: 0 | F8: Leading Action for Healthy Rivers January 2025, 2 day course.
A9: Chinbrook Allotment Orchard | B9: 1 | C9: 9 | D9: 48 | E9: 1 | F9: Year 5 Marvels lane - Living Things and their Habitats 2 classes 23/25 children each with 4 teachers/assistants 9:00 - 12:30 in separate groups 5 orchard volunteers
A10: Field Studies Council | B10: 4 | C10: 16 | D10: 240 | E10: 2 | F10: St. Mary's CofE and Holy Cross Primary Schools
A11: Fourth Reserve - Buckthorne NR | B11: 33 | D11: 396 | E11: 1 | F11: Forest School, DofE, school visit
A12: Creekside Discovery Centre | B12: 18 | C12: 94 | D12: 457 | E12: 10 | F12: Myatt Garden, Ashmead, Baring, Brindishe Manor, Grinling Gibbons , Horniman, John Ball, Kelvin Grove, Lucal Vale and Tidemill (DCT)
A13: Creekside Discovery Centre | B13: 1 | C13: 2 | D13: 30 | E13: 1 | F13: Home School KS2
A14: Creekside Discovery Centre | B14: 1 | C14: 2 | D14: 30 | E14: 1 | F14: Syracuse University - London Programme (18+ Students)
A15: Horniman Museum | B15: 41 | C15: 276 | D15: 1550 | E15: 16 | F15: Coopers Lane, Drumbeat School and ASD Service, Kilmorie, Abbey and Stanhope School, Holy Trinity, Our Lady and Philip Neri, Prendergrast Vale, Edmund Waller, John Ball, Perry Hall, Preeymount, St Mary's, St George's, St. Stephens, Stillness Junior, Home school
A16: The Orchard Project/Secret Adventurers | B16: 1 | C16: 22 | D16: 40 | F16: Spring School workshop, Little Lamb pre-school and Good Sheperd school
A17: Street Trees for Living | B17: 1 | C17: 1 | D17: 8 | E17: 1 | F17: Elfrida Primary School - 'eco warriors' helped to mulch their school orchard and learned about caring for trees
A19: TOTAL | B19: =SUM(B6:B18) -> 109 | C19: =SUM(C6:C18) -> 459 | D19: =SUM(D6:D18) -> 2979 | E19: =SUM(E6:E18) -> 39
A21: Organisation | B21: Total events | C21: Total number adults | D21: Total number children | E21: Total Volunteer Hours | F21: Summary/Description
A22: Volunteer
A23: Lewisham (Jess) | B23: 7 | C23: 59 | E23: 177
A24: Lewisham (James BPP) | B24: 52 | C24: 315 | D24: 0 | E24: 822.8
A25: Glendale (Emily) - NG | B25: 5 | C25: 51 | D25: 0 | E25: 153
A26: Glendale (Emily) - RaP | B26: 9 | C26: 60 | D26: 0 | E26: 180
A27: SLAM (Jess & Emily) | B27: 2 | C27: 15 | D27: 0 | E27: 20 | F27: Taster sessions
A28: Lewisham (Jess) | B28: 1 | C28: 10 | D28: 0 | E28: 20 | F28: Capel Manor session
A29: LFUG | B29: 13 | C29: 94 | D29: 5 | E29: 207.25 | F29: hedge planting for Tree Council funded project; litter pick; orchard and Iona Close NR sessions, tree planting, tiny forest maintenance, black poplar maintenance
A30: The Orchard Project - Grove Park LNR | B30: 2 | C30: 14 | D30: 13 | E30: =C30*5 -> 70 | F30: Intro session/walk the site, stag loggery, bulb & tree planting, bird & bat box making
A31: The Orchard Project - Deptford Park | B31: 2 | C31: 8 | D31: 5 | E31: =C31*5 -> 40 | F31: Stag loggery, pruning x 2 (both orchards), bird & bat box making
A32: The Orchard Project - Durham Hill | B32: 2 | C32: 11 | D32: 0 | E32: =C32*3 -> 33 | F32: pruning
A33: The Orchard Project - Blythe Hill Fields | B33: 1 | F33: Orchard planting
A34: Chinbrook Allotment Orchard | B34: 25 | C34: 26 | D34: 0 | E34: =97+25 -> 122 | F34: Monthly workdays and orchard maintenance between workdays (21 sessions), 2 Hour sessions, clearing algae from ponds, moving clematis; moving prunings, coppiced poles, reinstalled wildlife camera; hifting woodchips and mulch. 5 CCO vols helping with the wassail - 5h each
A35: LBL - Climate, Housing teams | B35: 2 | C35: 75 | D35: 0 | E35: =C35*10 -> 750 | F35: Hermitage garden improvements
A36: Downham Men | B36: 3 | C36: 16 | D36: 0 | E36: 32 | F36: Snowberry, litterpick & dead hedge
A37: FOBLC | B37: 2 | C37: 8 | D37: 0 | E37: 17 | F37: Removal of Turkey oak and sycamore saplings; trimming bases of trees
A38: Friends of Chinbrook Meadows | B38: 7 | C38: 24 | D38: 6 | E38: 187 | F38: 3x T21 Chinbrook Meadows sessions, pollinator-friendly planting event, 3x orchard tree maintenance sessions
A39: FO AMG | B39: 6 | C39: 48 | D39: 2 | E39: 198 | F39: Various activities
A40: BPP- Sensory Garden | B40: 12 | C40: 48 | D40: 0 | E40: =C40*2 -> 96 | F40: Sensory Garden Volunteers
A41: FO Mayow Park | B41: 8 | C41: 28 | D41: 1 | E41: 104 | F41: Winter pruning, Dof E work on herb and fruit beds
A42: Buckthorne Road | B42: 26 | C42: 200 | D42: 5 | E42: =SUM(B42*C42) -> 5200 | F42: Volunteer sessions (assumed 1 hour)
A43: Creekside Discovery Centre | B43: 44 | C43: 96 | D43: 0 | E43: 255 | F43: Low Tide Walks,
A44: Gilmore Park Group | B44: 3 | C44: 10 | D44: 3 | E44: 39 | F44: 3 x 1 hour volunteer litter picking sessions
A45: FO River Pool | B45: 11 | C45: 96 | D45: 0 | E45: 384 | F45: Woodland management, hedgelaying, litter pick, dead hedge. Adjusted flow deflector in Ladywell. Finished berm in Beckenham Place Park
A46: Street Trees for Living | B46: 13 | C46: 8 | D46: 0 | E46: 72.25 | F46: 17 x 2-2.5 hour weekly tree care sessions around lewisham - formative pruning and bracing, weeding, mulching, littering and securing street trees
A49: TOTAL | B49: =SUM(B23:B48) -> 258 | C49: =SUM(C23:C48) -> 1320 | D49: =SUM(D23:D48) -> 40 | E49: =SUM(E23:E48) -> 9179.3
A52: Organisation | B52: Total events | C52: Total number adults | D52: Total number children | E52: Awards | F52: Summary/Description
A53: Engagement e.g. walk, presentation
A54: F/O Forster Memorial Park | B54: 3 | C54: 130 | F54: Owl walk (19th), Big garden birdwatch event (25th), Wassail (25th) - number for wassail received from TOP (no separate children figure)
A55: Chinbrook Allotment Orchard/FOCM | B55: 1 | C55: 100 | D55: 50 | F55: January 4th 11:30 - 4:30. Morris dancing, making ivy crowns, refreshments, wassailaing trees at CCO then procession to WG Grace for more dancing, refreshments, raffle. 5 CCO volunteers but ?? ex ChART people helping at WG Grace.
A56: The Orchard Project/Chinbrook Allotment Orchard/FOCM | B56: 1 | C56: 10 | D56: 0 | F56: Apple grafting workshop organised with Friends of Chinbrook Meadows and run by The Orchard Project 12th March 11am - 3pm
A57: FOBLC | B57: 2 | C57: 62 | D57: 2 | F57: Guided Walk and Bat Walk
A58: Buckthorne Road | B58: 5 | C58: 60 | D58: 5 | F58: Health and Wellbeing, natual fitness
A59: Creekside Discovery Centre | B59: 11 | C59: 140 | D59: 29 | F59: Wildflowers in Winter, Slimewatch Algae Investigtion, Welcoming Communities, Film Screening, Connecting with nature, LTW
A60: Hilly Fields | B60: 2 | C60: 27 | D60: 19 | F60: RSPB Big Garden Bird Watch & Bird Stall at Hilly Fields
A61: Froglife (Telegraph Hill) | B61: 1 | C61: 20 | D61: 5 | F61: Froglife 'How to Build a Wildlife Pond'
A62: Telegraph Hill Festival Stall | B62: 1 | C62: 88 | D62: 10 | F62: Froglife stall at Telegraph Hill Festval's Make/Shift day
A63: Emily (Glendale) | B63: 2 | C63: 25 | D63: 0 | F63: Climate Action Lewisham, RCIG
A64: Street Trees for Living | B64: 1 | C64: 20 | D64: 0 | F64: Educational tree walk in Ladywell Fields
A65: Street Trees for Living | B65: 2 | C65: 20 | D65: 0 | F65: Meeting with volunteers to discuss community and residential planting programme 2025-26
A66: Street Trees for Living | B66: 1 | C66: 12 | D66: 0 | F66: Training for volunteer area reps - tree siting and scanning
A68: Total | B68: =SUM(B54:B67) -> 33 | C68: =SUM(C54:C67) -> 714 | D68: =SUM(D54:D67) -> 120 | E68: =COUNTIF(E54:E67,"<>") -> 0
A70: Total Outputs
B71: Events | C71: Adults | D71: Children | E71: Awards
B72: =SUM(B19+B49+B68) -> 400 | C72: =SUM(C19+C49+C68) -> 2493 | D72: =SUM(D19+D49+D68) -> 3139 | E72: =SUM(E68) -> 0
A75: Surveys | C75: Category | E75: Summary/Description
A76: Location | B76: Number | C76: Type of survey
A77: Beckenham Place Park | B77: 1 | C77: Bird | E77: Quarterly bird suverys approx. 2 hours
A78: Hilly Fields | B78: 1 | C78: Butterfly | E78: Brown Hairstreak egg survey
A79: Blythe Hill Fields | B79: 1 | C79: Butterfly | E79: Brown Hairstreak egg survey
A80: Northbrook Park | B80: 1 | C80: Butterfly | E80: Brown Hairstreak egg survey
A81: Forster Park | B81: 1 | C81: Butterfly | E81: Brown Hairstreak egg survey
A82: Brockley Ladywell Cemetery | B82: 12 | C82: Butterfly | E82: Weekly
A83: Ladywell Fields | B83: 3 | C83: Bird
A84: Hilly Fields | B84: 3 | C84: Bird
A85: Chinbrook Meadows | B85: 2 | C85: Water sampling | E85: ZSL organised water sampling using adapted Riverfly method for wetlands. Also ammonia and phosphate checking
A86: Creekside | B86: 1 | C86: Bird
A87: Brookmill Park | B87: 3 | C87: Bird
A88: Mountsfield Park | B88: 3 | C88: Bird
A89: Chinbrook Community Orchard | B89: 1 | C89: Amphibian | E89: Seasonal Amphibian Survey
A90: Manor House Gardens | B90: 1 | C90: Amphibian | E90: Seasonal Amphibian Survey
A91: Hare and Billet Pond, Blackheath | B91: 1 | C91: Amphibian | E91: Seasonal Amphibian Survey
A92: Bell Green Pond | B92: 1 | C92: Amphibian | E92: Seasonal Amphibian Survey
A93: Brookmill Park | B93: 1 | C93: Amphibian | E93: Seasonal Amphibian Survey
A94: Telegraph Hill Lower | B94: 1 | C94: Amphibian | E94: Seasonal Amphibian Survey
A95: Sydenham Wells (Froglife) | B95: 1 | C95: Amphibian | E95: Year 1 survey for London Blue Chain Natural England Reporting
A96: Hillcrest Wood (Foglife) | B96: 1 | C96: Amphibian | E96: Year 1 survey for London Blue Chain Natural England Reporting
A97: Mountsfield Park | B97: 1 | C97: Amphibian | E97: Year 1 survey for London Blue Chain Natural England Reporting
A98: Ravensbourne Catchment | B98: 15 | C98: Riverfly | E98: Monthly riverfly surveys in Linear Park, Beckenham Place Park, Manor Park, Brookmill Park and Ladywell
A102: Total | B102: =SUM(B77:B101) -> 56
A104: Website data | C104: Views | D104: Visits | E104: Posts published | F104: Link
A105: Nature conservation website | C105: 3965 | D105: 2402 | E105: 2 | F105: https://natureconservationlewisham.co.uk/
A106: Rivers and people website | C106: 750 | D106: 342 | F106: https://riversandpeople.com/
A107: Totals | C107: =SUM(C105:C106) -> 4715 | D107: =SUM(D105:D106) -> 2744 | E107: =SUM(E105:E106) -> 2
A109: Habitat/Species outputs | C109: Category | K109: Summary/Description
A110: Location | C110: Hedge (m) | D110: Loggery | E110: Bird box | F110: Bat box | G110: Bug/bee hotel | H110: Trees | I110: Pond | J110: Other habitat
A111: Ladywell Fields North | C111: 70 | H111: 4 | K111: 350 whips, Tree Council funded, c60m; 1 native black poplar, 1 apple, 1 quince, 1 medlar in Orchard
A112: Mountsfield Park | I112: 1 | J112: 2 swales | K112: Part of Froglife's London Blue Chain project
A113: Hillcrest Woods | I113: 1 | K113: Part of Froglife's London Blue Chain project
A114: Forster M Park | H114: 6 | K114: The Orchard project, Community orchard
A115: Blythe Hill Fields | H115: 22 | K115: The Orchard project, Community orchard + Disease resistant elms
A116: River Pool - F/O + R&P | H116: 5 | K116: black poplars
...

Sheet Apr-Jun
A1: Lewisham Biodiversity Outputs | D1: Date: April - June 2025
C3: Demographic
A4: Organisation | B4: Total events | C4: Total number adults | D4: Total number children | E4: Number of Schools engaged | F4: Summary/Description (Please include name of schools)
A5: Environmental education
A6: Lewisham (Jess) | B6: 4 | C6: 17 | D6: 99 | E6: 2 | F6: Ashmead Primary, Baring Primary
A7: Glendale (Emily) | B7: 6 | C7: 34 | D7: 166 | E7: 6 | F7: St Mary's PS, SD Learning, Brindishe Green PS, Brindishe Lee PS + Trinity and Colfe SS
A8: LBL Lewisham Housing | B8: 1 | C8: 2 | D8: 32 | E8: 1 | F8: Turnham Academy School; orchard and biodiversity education event in Honor Oak Estate community orchard
A9: Field Studies Council (BPP) | B9: 4 | C9: 19 | D9: 123 | E9: 4 | F9: St Bartholomew's C of E Primary, Our Lady and St Philip Neri Primary, St. Augustine’s Catholic Primary School, Prendergast ( A Level)
A10: Fourth Reserve - Buckthorne Cutting NR | B10: 57 | D10: 744 | E10: 2 | F10: Forest Clubs (552) and Turn, Stillness and Drumbeat (210), Duke of Edinburgh (12)
A11: Chinbrook Community Orchard | B11: 2 | C11: 16 | D11: 98 | E11: 1 | F11: Marvels Lane
A12: Froglife | B12: 4 | C12: 46 | F12: Blue Chain Links Workshops @ The Albany, Deptford
A15: TOTAL | B15: =SUM(B6:B14) -> 78 | C15: =SUM(C6:C14) -> 134 | D15: =SUM(D6:D14) -> 1262 | E15: =SUM(E6:E14) -> 16
A17: Organisation | B17: Total events | C17: Total number adults | D17: Total number children | E17: Total Volunteer Hours | F17: Summary/Description
A18: Volunteer
A19: Lewisham (Jess) | B19: 6 | C19: 45 | D19: 0 | E19: 120 | F19: incl. corporate group
A20: Lewisham (James BPP) | B20: 55 | C20: 330 | D20: 12 | E20: 923.5
A21: Glendale (Emily) - NG | B21: 3 | C21: 34 | D21: 0 | E21: 102
A22: Glendale (Emily) - RaP | B22: 11 | C22: 57 | D22: 0 | E22: =C22*3 -> 171 | F22: incl. 3RCU
A23: FO Mayow Park | B23: 1 | C23: 16 | D23: 12 | E23: =C23*3 -> 48 | F23: Litter picking
A24: LBL+Glendale - SLAM (Jess + Emily) | B24: 2 | C24: 6 | D24: 0 | F24: SLAM taster sessions
A25: LBL + Glendale 3RCU (Jess + Emily) | B25: 1 | C25: 13 | D25: 0 | E25: 26 | F25: 3 River Clean Up
A26: Downham Men (Trevor Pybus) | B26: 1 | C26: 7 | D26: 0 | E26: 28 | F26: Rubbish clearing (4 hours)
A27: F/O Ladywell and Brockley Cemeteries | B27: 1 | C27: 5 | D27: 0 | E27: 8.25 | F27: tree trunk growth cut bac at work session
A28: Fourth Reserve - Buckthorne Cutting NR | B28: 26 | C28: 208 | D28: 5 | E28: =C28*3 -> 624 | F28: Digging/bramble clearance for new meadow, weeding garden area, plum tree orchard work, watering.
A29: Ladywell Fields User Group | B29: 18 | C29: 105 | D29: 14 | E29: 129
A30: Beckenham Place Park (Sensory Garden) | B30: 16 | C30: 48 | D30: 0 | E30: 120
A31: Chinbrook Community Orchard | B31: 22 | C31: 17 | D31: 0 | E31: 66
A32: Friends of River Pool | B32: 10 | C32: 146 | E32: 584 | F32: 146x4 hour sessions. Work in the Linear Park and Ladywell clearing vegitation, removing rubbish and fallen trees from the river and park, watering hedges, building a berm. Trolleys and electric bikes are becoming more of a nuisance. We removed 14 trolleys and 11 electric bikes (mostly Lime) from the river. 68 bags of rubbish were removed from the river and park (Pool, Linear Park and Ladywell)
A34: TOTAL | B34: =SUM(B19:B33) -> 173 | C34: =SUM(C19:C33) -> 1037 | D34: =SUM(D19:D33) -> 43 | E34: =SUM(E19:E33) -> 2949.75
A37: Organisation | B37: Total events | C37: Total number adults | D37: Total number children | E37: Awards | F37: Summary/Description
A38: Engagement e.g. walk, presentation
A39: FO Mayow Park | B39: 1 | C39: 39 | D39: 12 | F39: April guided bat walk
A40: FO Brookmill Road LNR | B40: 1 | C40: 36 | D40: 10 | F40: Open Day
A41: F/O Ladywell and Brockley Cemeteries | B41: 2 | C41: 27 | F41: Guided walks on nature and other topics
A42: Fourth Reserve - Buckthorne Cutting NR | B42: 10 | C42: 1045 | D42: 410 | F42: Health and Well-being Groups (Anne McBride, St Peters Church), Natural Fitness Groups, open days, homless persons bird watch walk, rescue hedgehog
A43: Stree Trees for Living | B43: 1 | C43: 15 | D43: 0 | F43: Walk around Ladywell Fields
A44: Friends of Mayow Park | B44: 2 | C44: 51 | D44: 24 | F44: Family litter pick and bat walk
A45: Friends of Forster Memorial Park | B45: 1 | F45: Plant stall at Mayow Park funfair
A46: 3RCU (Jess+Emily) | B46: 1 | C46: 9 | D46: 0 | F46: 3 Rivers Clean Up Walk
A47: Glendale (Emily) | B47: 1 | C47: 31 | D47: 0 | F47: U3A Science Group talk
A48: F/O Chinbrook Meadows | B48: 1 | C48: 80 | D48: 60 | F48: River week event in May with pond dipping, wetlands talk
A49: Lewisham Healthy Walks | B49: 125 | C49: 1445
A50: Froglife | B50: 1 | C50: 12 | D50: 3 | F50: A guided walk from Sydenham Wells Park - Hillcrest Woods, to talk about ponds, amphibians and other wildlife in that area
A51: Bumblebee Conservation Trust - Fordham Park | B51: 3 | C51: 4 | D51: 0 | F51: Bumblebee ID, BeeWalk; B.E.E. project
A53: Total | B53: =SUM(B39:B52) -> 150 | C53: =SUM(C39:C52) -> 2794 | D53: =SUM(D39:D52) -> 519 | E53: =COUNTIF(E41:E52,"<>") -> 0
A55: Total Outputs
B56: Events | C56: Adults | D56: Children | E56: Hours | F56: Awards
B57: =SUM(B15+B34+B53) -> 401 | C57: =SUM(C15+C34+C53) -> 3965 | D57: =SUM(D15+D34+D53) -> 1824 | E57: =E34 -> 2949.75 | F57: =SUM(E53) -> 0
A60: Surveys | C60: Category | E60: Summary/Description
A61: Location | B61: Number | C61: Type of survey
A62: Verges - various | B62: 16 | C62: Plant | E62: No Mow Zone verges
A63: Sydenham Garden roof | B63: 2 | C63: Plant | E63: Living roof survey by Alona Sheridan
A64: Beckenham Place Park | B64: 1 | C64: Plant | E64: Ancient meadow survey
A65: Beckenham Place Park | B65: 1 | C65: Bird | E65: Quarterly bird survey
A66: Fourth Reserve - Buckthorne Cutting NR | B66: 2 | C66: Bird | E66: nesting woodpeckers, hobbie, green woodpeckers
A67: Fourth Reserve - Buckthorne Cutting NR | B67: 1 | C67: Oak Processionary moth | E67: 1 nest found, reported to Tree Alert and Forestry Commission
A68: Hilly Fields | B68: 3 | C68: Bird | E68: Monthly bird surveys
A69: Ladywell Fields | B69: 3 | C69: Bird | E69: Monthly bird surveys
A70: Mountsfield Park | B70: 3 | C70: Bird | E70: Monthly bird surveys
A71: Bell Green Pond | B71: 1 | C71: Bird, butterfly and wildflower | E71: Survey with Nature's Gym volunteers
A72: Brookmill Park | B72: 3 | C72: Bird
A73: Linear park | B73: 1 | C73: Bird
A74: Linear park | B74: 1 | C74: Lepidoptera and Odonata
A75: Chinbrook Community Orchard | B75: 4 | C75: Hedgehog, bird, flower and lizards
A76: Fordham Park | B76: 4 | C76: 3 Bumblebee, 1 wildflower | E76: Bumblebee Conservation Trust, B.E.E. project
A77: Beckenham Place Park | B77: 1 | C77: Bat box | E77: Bat box check
A78: Ravensbourne Catchment | B78: 15 | C78: Riverfly | E78: Monthly riverfly surveys in Linear Park, Beckenham Place Park, Manor Park, Brookmill Park and Ladywell
A83: Total | B83: =SUM(B62:B82) -> 62
A85: Website data | C85: Views | D85: Visits | E85: Posts published | F85: Link
A86: Nature conservation website | C86: 2504 | D86: 1586 | E86: 3 | F86: https://natureconservationlewisham.co.uk/
A87: Rivers and people website | C87: 763 | D87: 362 | E87: 4 | F87: https://riversandpeople.com/
A88: Total | C88: =SUM(C86:C87) -> 3267 | D88: =SUM(D86:D87) -> 1948 | E88: =SUM(E86:E87) -> 7
A90: Habitat/Species outputs | C90: Category | K90: Summary/Description
A91: Location | C91: Hedge (m) | D91: Loggery | E91: Bird box | F91: Bat box | G91: Bug hotel | H91: Trees | I91: Pond | J91: Other habitat
A92: Honor Oak Estate Orchard (Lewisham Housing) | G92: 32 | K92: Part of an educational event in the orchard
A93: Buckthorne Cutting NR | J93: new meadows being created
A94: Liner Park | D94: 1
A95: Urban Organic Garden @ 35 Scawen Road | I95: 1 | K95: Froglife (Blue Chain Project - small pond)
A96: Bramdean Crescent | I96: 1 | K96: Froglife (Blue Chain Project - small pond)
A97: 80 Revelon Road | I97: 1 | K97: Froglife (Blue Chain Project - small pond)
A98: David Holloway (TBC Telegraph Hill address) | I98: 1 | K98: Froglife (Blue Chain Project - small pond)
A99: Grove Centre Church | I99: 1 | K99: Froglife (Blue Chain Project - small pond)
A100: TOTAL | C100: =SUM(C92:C99) -> 0 | D100: =SUM(D92:D99) -> 1 | E100: =SUM(E92:E99) -> 0 | F100: =SUM(F92:F99) -> 0 | G100: =SUM(G92:G99) -> 32 | H100: =SUM(H92:H99) -> 0 | I100: =SUM(I92:I99) -> 5 | J100: =COUNTIF(J92:J99, "<>") -> 1
A102: Planning applications/documents reviewed
C103: Number
A104: Number of planning applications/documents reviewed | C104: 40
A106: Habitat/Species outputs/advice given* | C106: Category | M106: Notes
A107: Location | C107: Hedge (m) | D107: Loggery | E107: Bird box | F107: Bat box | G107: Bug hotel | H107: Trees | I107: Pond | J107: Living roof (m2) | K107: Other habitat | L107: Advice given (species, habitats, lighting, maintenance etc.)
A108: Melfield Gardens - DC/25/139769 | J108: 300
A109: 27 INGLEMERE ROAD - DC/25/139844 | J109: 244
A110: Crossfields Open Space | E110: 5
A114: TOTAL planning applications | C114: =SUM(C108:C113) -> 0 | D114: =SUM(D108:D113) -> 0 | E114: =SUM(E108:E113) -> 5 | F114: =SUM(F108:F113) -> 0 | G114: =SUM(G108:G113) -> 0 | H114: =SUM(H108:H113) -> 0 | I114: =SUM(I108:I113) -> 0 | J114: =SUM(J108:J113) -> 544 | K114: =SUM(K108:K113) -> 0
A115: *Please note that only biodiversity enhancements that are at condition discharge phase are recorded here.

Sheet Jul-Sep
A1: Lewisham Biodiversity Outputs | D1: Date: July - September 2025
C3: Demographic
A4: Organisation | B4: Total events | C4: Total number adults | D4: Total number children | E4: Number of Schools engaged | F4: Summary/Description (Please include name of schools)
A5: Environmental education
A6: Lewisham (Jess) | B6: 3 | C6: 12 | D6: 66 | E6: 3 | F6: St. Michaels, Ashmead and Baring Primary
A7: Fourth Reserve (Buckthorne Road) | B7: 37 | D7: 486 | E7: 2 | F7: Turnham and John Stainer. Also DofE, Cubs & Scouts, Forest Club
A8: Chinbrook Community Orchard | B8: 3 | C8: 25 | D8: 72 | E8: 1 | F8: Marvels Lane
A9: Froglife | B9: 2 | C9: 0 | D9: 6 | E9: 0 | F9: Creative Eduction Sessions at The Albany
A10: Field Studies Council | B10: 4 | C10: 3 | D10: 112 | F10: Holbeach Primary School, John Stainer Community Primary School, Brindishe Manor Primary School, Sydenham Secondary School
A15: TOTAL | B15: =SUM(B6:B14) -> 49 | C15: =SUM(C6:C14) -> 40 | D15: =SUM(D6:D14) -> 742 | E15: =SUM(E6:E14) -> 6
A17: Organisation | B17: Total events | C17: Total number adults | D17: Total number children | E17: Total Volunteer Hours | F17: Summary/Description
A18: Volunteer
A19: Lewisham (Jess) | B19: 6 | C19: 43 | D19: 0 | E19: =C19*3 -> 129
A20: Lewisham (James BPP) | B20: 62 | C20: 372 | E20: 997.5
A21: Glendale (Emily) - NG | B21: 5 | C21: 60 | D21: 0 | E21: 180
A22: Glendale (Emily) - RaP | B22: 13 | C22: 39 | D22: 0 | E22: 507
A23: Fouth Reserve (Buckthorne Road) | B23: 23 | C23: 184 | D23: 3 | E23: =SUM(C23*D23) -> 552
A24: Downham Men | B24: 3
A25: Ladywell Fields User Group | B25: 18 | C25: 76 | D25: 3 | E25: 107.5 | F25: Community Orchard work
A26: BPP - Sensory Garden | B26: 17 | C26: 68 | D26: 0 | E26: 132
A27: F/O Brockley and Ladywell Cemetery | B27: 2 | C27: 11 | D27: 0 | E27: 21 | F27: Sycamore growth cut back
A28: Chinbrook Community Orchard | B28: 19 | C28: 32 | D28: 1 | E28: 117 | F28: Monthly Orchard Sessions
A29: F/O Mayow Park | B29: 2 | C29: 12 | E29: 25 | F29: 5 x 2.5 hour volunteer session to improve pond; 2 x 1.5 hrs stone fruits & some apple
A30: F/O River Pool Linear Park | B30: 7 | C30: 51 | D30: 0 | E30: 204 | F30: 3rivers cleanup, weeding and watering new hedges, chopping up fallen trees x 3' to make them safe, making faggot bundles and log piles. Litter picking 14 bags of rubbish
A31: Gilmore Road Park | B31: 3 | C31: 8 | D31: 0 | E31: 24 | F31: Litter picking sessions
A32: F/O Albion Millennium Green | B32: 4 | C32: 14 | D32: 0 | E32: 30.5 | F32: Various volunteer wok sessions including bramble clearance, litter picking and labyrinth maintenance.
A33: Street Trees for Living | E33: 143.75 | F33: Heavy Tree Care
A34: Froglife | B34: 3 | C34: 10 | D34: 0 | E34: 39 | F34: Volunteer contributions across 3 pond restoration/creation sessions: Mayow, Manor Park and Arica road
A35: T21 - Northbrook Park wetlands | B35: 3 | C35: 21 | D35: 0 | E35: =21*5 -> 105 | F35: First volunteer/engagement sessions
A36: Bumblebee Conservation Trust - Fordham Park | B36: 1 | C36: 6 | D36: 0 | E36: =6*4 -> 24 | F36: Habitat work session
A37: TOTAL | B37: =SUM(B19:B36) -> 191 | C37: =SUM(C19:C36) -> 1007 | D37: =SUM(D19:D36) -> 7 | E37: =SUM(E19:E36) -> 3338.25
A40: Organisation | B40: Total events | C40: Total number adults | D40: Total number children | E40: Awards | F40: Summary/Description
A41: Engagement e.g. walk, presentation
A42: F/O Devonshire Rd | B42: 1 | C42: 20 | F42: British Orchid talk, 27 Aug
A43: LBL - Burnt Ash Pond | B43: 1 | C43: 24 | D43: 26 | F43: Open day
A44: Fourth Reserve (Buckthorne Road) | B44: 8 | C44: 670 | D44: 200 | F44: Health & Wellbeing Groups, Natural Fitness, Open Day, 2 art sessions and plum picking/jam making.
A45: F/O Brockley and Ladywell Cemetery | B45: 1 | C45: 300 | D45: 35 | F45: Open day, including guided walks and 2 nature trail walks
A46: Emily Milhouse | B46: 2 | C46: 53 | D46: 0 | F46: U3A talk and Healthy Walks (Enable Lewisham)
A47: Lewisham (James - BPP) | B47: 1 | C47: 9 | D47: 0 | F47: Mayoral Chairty Fundraiser - Guided walk for visiting dignitaries about the park and our conservation work
A48: F/O Mayow Park - Bat walk | B48: 1 | C48: 35 | D48: 19 | F48: Guided walk around Mayow Park with bat detectors
A49: Friends of Forster Memorial Park | B49: 4 | C49: 16 | D49: 7
A50: F/O Albion Millennium Green | B50: 1 | C50: 8 | D50: 0 | F50: A labyrinth walking workshop and talk on the Green as part of the Association for Art History's Art History Festival 9Art and Nature.2)
A51: Street Trees for Living | B51: 7 | C51: 24 | F51: Tree Trails
A52: Bumblebee Conservation Trust - Fordham Park | B52: 2 | C52: 3 | D52: 0 | F52: Bumblebee ID, BeeWalk, Wildflower survey; B.E.E. project
A54: Total | B54: =SUM(B42:B53) -> 29 | C54: =SUM(C42:C53) -> 1162 | D54: =SUM(D42:D53) -> 287 | E54: =COUNTIF(E42:E53,"<>") -> 0
A56: Total Outputs
B57: Events | C57: Adults | D57: Children | E57: Hours | F57: Awards
B58: =SUM(B15+B37+B54) -> 269 | C58: =SUM(C15+C37+C54) -> 2209 | D58: =SUM(D15+D37+D54) -> 1036 | E58: =E37 -> 3338.25 | F58: =SUM(E54) -> 0
A61: Surveys | C61: Category | E61: Summary/Description
A62: Location | B62: Number | C62: Type of survey
A63: Ravensbourne Catchment | B63: 15 | C63: Riverfly | E63: Monthly riverfly surveys in Linear Park, Beckenham Place Park, Manor Park, Brookmill Park and Ladywell
A64: Northbrook Park | B64: 1 | C64: Butterfly | E64: Big Butterfly Count
A65: Forster Memorial Park | B65: 1 | C65: Butterfly | E65: Brown Hairstreak (found)
A66: Burnt Ash Pond | B66: 1 | C66: water quality | E66: Earthwatch's Waterblitz survey
A67: Beckehnam Place Park | B67: 1 | C67: Bird
A68: Upper Pepys Park | B68: 1 | C68: Bird, wildflower, Butterfly | E68: Nature's Gym Survey
A69: Hilly Fields | B69: 3 | C69: Bird
A70: Ladywell Fields | B70: 3 | C70: Bird
A71: Mountsfield park | B71: 3 | C71: Bird
A72: Beckenham Place Park | B72: 1 | C72: Bat box | E72: Bat box check
A73: Brookmill Park | B73: 3 | C73: Bird
A74: Sydenham Garden roof | B74: 3 | C74: Plant | E74: Living roof survey by Alona Sheridan; 17 July, 21 Aug, 18 September
A75: Fordham Park | B75: 3 | C75: Bumblebee, wildflower | E75: Bumblebee Conservation Trust, B.E.E. project
A76: Blackheath, Manor House Gardens, Beckenham Place Park | B76: 3 | C76: Bumblebee | E76: Bumblebee blitz, Bumblebee Conservation Trust, B.E.E. project
A77: TOTAL | B77: =SUM(B64:B76) -> 27
A79: Website data | C79: Views | D79: Visits | E79: Posts published | F79: Link
A80: Nature conservation website | C80: 3744 | D80: 2296 | E80: 1 | F80: https://natureconservationlewisham.co.uk/
A81: Rivers and people website | C81: 611 | D81: 383 | E81: 5 | F81: https://riversandpeople.com/
A82: Total | C82: =SUM(C80:C81) -> 4355 | D82: =SUM(D80:D81) -> 2679 | E82: =SUM(E80:E81) -> 6
A84: Habitat/Species outputs | C84: Category | K84: Summary/Description
A85: Location | C85: Hedge (m) | D85: Loggery | E85: Bird box | F85: Bat box | G85: Bug hotel | H85: Trees | I85: Pond | J85: Other habitat
A86: Dacres Wood NR | G86: 1 | J86: 3 rain gardens; 1 bee bank
A87: Mountsfield Park | D87: 3 | K87: 1 large loggery circle
A88: Clarendon Rise | E88: 6 | G88: 6 | K88: Greening Fund project, 3x open front, 3x 32mm
A89: Forster Memorial Park | D89: 2 | G89: 3 | J89: extended boggy area | K89: 2 gabions incl hoverfly lagoon, 1 bee bank
A90: Linear Park | J90: 4 log piles
A91: Mayow Park - Froglife | C91: 15 | I91: 1 | K91: De-lining of small wildlife pond and creation of surrounding deadhedge
A92: Manor Avenue - Froglife | I92: 1 | K92: Restoration of small back garden pond
A93: Arica Road - Froglife | I93: 1 | K93: Creation of a small background pond
A95: TOTAL | C95: =SUM(C86:C94) -> 15 | D95: =SUM(D86:D94) -> 5 | E95: =SUM(E86:E94) -> 6 | F95: =SUM(F86:F94) -> 0 | G95: =SUM(G86:G94) -> 10 | H95: =SUM(H86:H94) -> 0 | I95: =SUM(I86:I94) -> 3 | J95: =COUNTIF(J86:J94, "<>") -> 3
A97: Planning applications/documents reviewed
C98: Number
A99: Number of planning applications/documents reviewed | C99: 31
A101: Habitat/Species outputs/advice given* | C101: Category | M101: Notes
A102: Location | C102: Hedge (m) | D102: Loggery | E102: Bird box | F102: Bat box | G102: Bug hotel | H102: Trees | I102: Pond | J102: Living roof (m2) | K102: Other habitat | L102: Advice given (species, habitats, lighting, maintenance etc.)
A103: CROWN AND NEW BALTIC, PARK AND BRIDGE AND VICTORIA WHARVES - DC/25/140235 | J103: 875
A111: TOTAL planning applications | C111: =SUM(C103:C110) -> 0 | D111: =SUM(D103:D110) -> 0 | E111: =SUM(E103:E110) -> 0 | F111: =SUM(F103:F110) -> 0 | G111: =SUM(G103:G110) -> 0 | H111: =SUM(H103:H110) -> 0 | I111: =SUM(I103:I110) -> 0 | J111: =SUM(J103:J110) -> 875 | K111: =SUM(K103:K110) -> 0
A112: *Please note that only biodiversity enhancements that are at condition discharge phase are recorded here.

Sheet Oct-Dec
A1: Lewisham Biodiversity Outputs | D1: Date: October- December 2025
C3: Demographic
A4: Organisation | B4: Total events | C4: Total number adults | D4: Total number children | E4: Number of Schools engaged | F4: Summary/Description (Please include name of schools)
A5: Environmental education
A6: Lewisham (Jess) | B6: 1 | C6: 2 | D6: 25 | E6: 1 | F6: Baring Primary School
A7: Glendale (Emily Millhouse) | B7: 0 | C7: 0 | D7: 0
A8: Fields Studies Council (BPP) | B8: 1 | F8: St. William of York
A9: Fourth Reserve (Buckthorne Cutting) | B9: 53 | D9: 945 | E9: 3 | F9: Drumbeat, Turnham and John Stainer
A10: Friends of River Pool Linear Park | B10: 1 | C10: 4 | D10: 2 | E10: 0 | F10: Riverfly training sessions
A11: Friends of Forster Memorial Park | B11: 1 | C11: 0 | D11: 20 | E11: 0 | F11: Christmas fair secret adventures outdoors activity
A12: Chinbrook Community Orchard | B12: 3 | C12: 26 | D12: 42 | E12: 1 | F12: Marvels Lane and University of Greenwich
A13: Creekside Discovery Centre | B13: 15 | C13: 75 | D13: 445 | E13: 8 | F13: Adamsrill Primary, Beecroft Garden Primary, Brindishe Lee Primary, Childeric Primary, Elfrida Primary, John Stainer Community Primary, Prendergast School, Downderry Primary School,
A14: Horniman Museum | B14: 3 | C14: 68 | D14: 125 | E14: 2 | F14: St. Philips (Lewisham?) Turnham Academy, pond dipping and minibeasts
A15: TOTAL | B15: =SUM(B6:B14) -> 78 | C15: =SUM(C6:C14) -> 175 | D15: =SUM(D6:D14) -> 1604 | E15: =SUM(E6:E14) -> 15
A17: Organisation | B17: Total events | C17: Total number adults | D17: Total number children | E17: Total Volunteer Hours | F17: Summary/Description
A18: Volunteer
A19: Lewisham (Jess) | B19: 5 | C19: 60 | D19: 0 | E19: =C19*3 -> 180
A20: Lewisham (James BPP) | B20: 48 | C20: 293 | D20: 1 | E20: 632.5
A21: Glendale (Emily) - NG | B21: 5 | C21: 59 | D21: 0 | E21: =C21*3 -> 177
A22: Glendale (Emily) - RaP | B22: 8 | C22: 75 | D22: 0 | E22: =C22*3 -> 225
A23: Lewisham (Eszter) - Free We Grow | B23: 1 | C23: 3 | D23: 6 | E23: 6 | F23: Rain garden planting session, >300 plants planted
A24: Lewisham (Eszter) - F/O Dev Rd | B24: 1 | C24: 6 | D24: 0 | E24: 18 | F24: flytip removal event
A25: F/O Blythe Hill Fields | B25: 1 | C25: 40 | D25: 0 | E25: =C25*3 -> 120 | F25: whip planting to create hazel coppice and shrubby blocks
A26: F/O Devonshire Road NR | B26: 1 | C26: 8 | D26: 0 | E26: =C26*5 -> 40 | F26: Scything training session
A27: Bumblebee Conservation Trust - Fordham Park | B27: 1 | C27: 2 | D27: 0 | E27: 10 | F27: Habitat creation session, whip planting
A28: LBL Councillors - Reigate Road | B28: 1 | C28: 20 | D28: 0 | E28: =C28*2 -> 40 | F28: Community litter pick in Reigate Road
A29: F/O Grove Park NR | B29: 1 | C29: 9 | D29: 10 | E29: =9*2 -> 18 | F29: Community litter pick in Grove Park NR
A30: F/O Hatcham Gardens | B30: 1 | C30: 10 | D30: 7 | E30: =C30*2 -> 20 | F30: Wildflower plug planting to improve meadow, plus some whips to orchard area
A31: F/O Brockley & Ladywell Cemeteries | B31: 2 | C31: 15 | D31: 0 | E31: 22.5 | F31: Sycamore & turkey oak cutback; bulb planting
A32: Fourth Reserve (Buckthorne Cutting) | B32: 24 | C32: 240 | D32: 0 | F32: Reed bed cutting, brambles, path work and dead hedge
A33: Beckenham Place Park (garden volunteers) | B33: 15 | C33: 45 | D33: 0 | E33: 98 | F33: + added survey vol hours (4 adults, 2h)
A34: Ladywell Fields User Group | B34: 4 | C34: 21 | D34: 0 | E34: 28.5 | F34: River clean up, trees and tiny forest
A35: F/O River Pool Linear Park | B35: 10 | C35: 70 | D35: 0 | E35: 280 | F35: Chopped up 4 fallen trees, made faggot bundles, cleared 2 blockages in the river, planted existing berms, built a stag beetle loggery, cleared brambles, maintained the flow of the fish bypass, chopped back the reeds in the Bell Green Pond.
A36: F/O Forster Memorial Park | B36: 14 | C36: 14 | D36: 0 | E36: 174 | F36: Sensory Garden, Woodland and Orchard
A37: F/O Chinbrook Meadows | B37: 2 | C37: 12 | D37: 4 | E37: 32 | F37: Work on habitat maintenance - wetlands and boardwalk areas
A38: STfL | B38: 11 | C38: 9 | D38: 0 | E38: 52.75 | F38: Tree Care Group Sessions
A39: Thames21 - Northbrook Park Wetlands | B39: 3 | C39: 30 | D39: 0 | E39: =5*C39 -> 150 | F39: Monthly volunteer sessions
A40: F/O Mayow Park | B40: 3 | C40: 17 | D40: 6 | E40: 47.5 | F40: Bulb planting and scrub clearance
A41: Creekside Discovery Centre | B41: 27 | C41: 70 | D41: 5 | E41: 452 | F41: Habitat Management, Litter picks and support with Low Tide Walks and school learning
A42: Horniman Museum | B42: 7 | C42: 199 | D42: 250 | E42: 57
A43: Chinbrook Community Orchard | B43: 14 | C43: 17 | D43: 114 | F43: Orchard maintenance sessions. Planting spring bulbs, summer pruning, cleaning bird boxes, juicing apples, clearing brambles, clearing vegetation in/round ponds, clearing weeds from entrance area
A44: TOTAL | B44: =SUM(B19:B43) -> 210 | C44: =SUM(C19:C43) -> 1344 | D44: =SUM(D19:D43) -> 403 | E44: =SUM(E19:E43) -> 2880.75
A47: Organisation | B47: Total events | C47: Total number adults | D47: Total number children | E47: Awards | F47: Summary/Description
A48: Engagement e.g. walk, presentation
A49: LBL, T21, Glendale - Northbrook Park Wetlands launch event | B49: 1 | C49: 28 | D49: 27 | F49: official opening of the wetlands area in Northbrook Park
A50: LBL - BPP | B50: 4 | C50: 32 | D50: 18 | F50: Bat walks
A51: QWAG/Manor Park | B51: 2 | C51: 13 | D51: 13 | F51: River Walk
A52: Chinbrook Community Orchard | E52: 2 | F52: London in Bloom Gold + Best in Biodiversity Award
A53: Garthorne Road Nature Reserve | E53: 2 | F53: London in Bloom Gold + Best in Conservation Area
A54: Blythe Hill Fields | E54: 2 | F54: London in Bloom Gold + Best in Large Park
A55: Devonshire Road Nature Reserve | E55: 1 | F55: London in Bloom Gold
A56: Forster Memorial Park | E56: 1 | F56: London in Bloom Gold
A57: Beckenham Place Park | E57: 1 | F57: London in Bloom Gold
A58: Mountsfield Park | E58: 1 | F58: London in Bloom Gold
A59: Brookmill Park | E59: 1 | F59: London in Bloom Gold
A60: Frendsbury Gardens | E60: 1 | F60: London in Bloom Gold
A61: Mayow Park | E61: 1 | F61: London in Bloom Silver
A62: Enable - Lewisham Healthy Walks | B62: 125 | C62: 1498 | D62: 0 | F62: Also train 5 new walk leaders. Work with the Lewisham Refugee and Migrant Network - annual figure (including Forster Memorial Park)
A63: T21, Glendale, LBL | B63: 1 | C63: 10 | D63: 14 | F63: Halloween event at Northbrook Park Wetlands; Folklore talk by Emily
A64: Bumblebee Conservation Trust - Fordham Park | B64: 1 | C64: 3 | D64: 0 | F64: Bumblebee ID, BeeWalk; B.E.E. project
A65: Riverdale Sculpture Park project - LBL, Citizen Zoo, East | B65: 4 | C65: =32+27+15+22 -> 96 | D65: 2 | F65: East with RHDHV, Future Nature, Citizen Zoo, The Community Brain, Studio Dekka, A&T: 1 bat walk, 1river and tree walk with Paul Wood, 1 historic mapping and 1 modelling event
A66: F/O Blythe Hill Fields | E66: 1 | F66: Green Roots Award
A67: Fourth Reserve | E67: 1 | F67: Green Roots Award for invertebrate survey
A68: St John's Society | E68: 1 | F68: Green Roots Award
A69: Field Studies Council (BPP) | B69: 3 | F69: Eco Adventures
A70: Friends of Brockley & Ladywell Cemeteries | B70: 2 | C70: 40 | D70: 3 | F70: General tour & Remembrance Sunday events and walks
A71: Fourth Reserve (Buckthorne Cutting) | B71: 5 | C71: 100 | D71: 0 | F71: Open days, Great North Wood hike, Christmas opening
A72: F/O Chinbrook Meadows | B72: 1 | C72: 5 | D72: 0 | F72: Queen Mary College Geography students - Urban river naturalisation
A73: T21 - Northbrook Park project | B73: 1 | C73: 21 | D73: 32 | F73: Arts & Crafts Pattern & Print Club
A74: Creekside Discovery Centre | B74: 11 | C74: 134 | D74: 31 | F74: Low Tide Walks, After School Adventure, River Dipping and Family LTW
A76: Total | B76: =SUM(B49:B75) -> 161 | C76: =SUM(C49:C75) -> 1980 | D76: =SUM(D49:D75) -> 140 | E76: =SUM(E49:E75) -> 16
A78: Total Outputs
B79: Events | C79: Adults | D79: Children | E79: Hours | F79: Awards
B80: =SUM(B15+B44+B76) -> 449 | C80: =SUM(C15+C44+C76) -> 3499 | D80: =SUM(D15+D44+D76) -> 2147 | E80: =E44 -> 2880.75 | F80: =SUM(E76) -> 16
A83: Surveys | C83: Category | E83: Summary/Description
A84: Location | B84: Number | C84: Type of survey
A85: Sydenham Garden roof | B85: 1 | C85: Plant | E85: Living roof survey by Alona Sheridan; 6 Nov
A86: Beckenham Place park | B86: 1 | C86: Bird | E86: quarterly bird survey
A87: Ravensbourne Catchment | B87: 15 | C87: Riverfly | E87: Monthly riverfly surveys in Linear Park, Beckenham Place Park, Manor Park, Brookmill Park and Ladywell
A88: Hilly Fields | B88: 3 | C88: Bird | E88: monthly bird surveys
A89: Ladywell Fields | B89: 3 | C89: Bird | E89: monthly bird surveys
A90: Mountsfield Park | B90: 3 | C90: Bird | E90: monthly bird surveys
A91: Garthorne Road NR | B91: 1
A92: Creekside Discovery Centre | B92: 3 | C92: Bird
A93: Creekside Discovery Centre | B93: 1 | C93: Pavement Plant walk
A94: Total | B94: =SUM(B85:B93) -> 31
A96: Website data | C96: Views | D96: Visits | E96: Posts published | F96: Link
A97: Nature conservation website | C97: 2877 | D97: 1861 | E97: 7 | F97: https://natureconservationlewisham.co.uk/
A98: Rivers and people website | C98: 952 | D98: 598 | E98: 2 | F98: https://riversandpeople.com/
A99: Total | C99: =SUM(C97:C98) -> 3829 | D99: =SUM(D97:D98) -> 2459 | E99: =SUM(E97:E98) -> 9
A101: Habitat/Species outputs | C101: Category | K101: Summary/Description
A102: Location | C102: Hedge (m) | D102: Loggery | E102: Bird box | F102: Bat box | G102: Bug hotel | H102: Trees | I102: Pond | J102: Other habitat
A103: Mayow Park | E103: 1 | F103: 2 | K103: From 2024 Kenneth White Grant
A104: Manor Park | G104: 1
A105: Blythe Hill Fields | H105: 200 | K105: whips planted to create hazel coppice and shrubby blocks
A106: Fordham Park | C106: 25 | K106: 75 whips along fenceline by Bumblebee Conservation Trust, B.E.E. project
A107: Hatcham Gardens | H107: 3 | J107: meadow improvement with plugs | K107: 150 wildflower plugs in meadow + 3 crab apple whips in orchard
A108: Ladywell Fields | D108: 1 | H108: 3 | J108: hibernaculum | K108: 2 Black poplars, 1 Quince
A109: River Pool Linear Park | D109: 1 | J109: 3 log piles | K109: 3 log piles and a stag beetle loggery
A110: Mountsfield Park | J110: 60m hedge laid
...

Sheet Summary
A1: Lewisham Biodiversity Outputs | D1: Summary for 2025
A3: Environmental education
A4: Quarter | B4: Total events | C4: Total number adults | D4: Total number children | E4: Number of Schools engaged | F4: Summary of events carried out this quarter | K4: Summary of schools engaged
A5: QTR1 January - March 2025 | B5: ='Jan-Mar'!B19 -> 109 | C5: ='Jan-Mar'!C19 -> 459 | D5: ='Jan-Mar'!D19 -> 2979 | E5: ='Jan-Mar'!E19 -> 39
A6: QTR2 April - June 2025 | B6: ='Apr-Jun'!B15 -> 78 | C6: ='Apr-Jun'!C15 -> 134 | D6: ='Apr-Jun'!D15 -> 1262 | E6: ='Apr-Jun'!E15 -> 16
A7: QTR3 July - September 2025 | B7: ='Jul-Sep'!B15 -> 49 | C7: ='Jul-Sep'!C15 -> 40 | D7: ='Jul-Sep'!D15 -> 742 | E7: ='Jul-Sep'!E15 -> 6
A8: QTR4 October - December 2025 | B8: ='Oct-Dec'!B15 -> 78 | C8: ='Oct-Dec'!C15 -> 175 | D8: ='Oct-Dec'!D15 -> 1604 | E8: ='Oct-Dec'!E15 -> 15
A9: Total | B9: =SUM(B5:B8) -> 314 | C9: =SUM(C5:C8) -> 808 | D9: =SUM(D5:D8) -> 6587 | E9: =SUM(E5:E8) -> 76
A11: Volunteer (incl. LBL)
A12: Quarter | B12: Total events | C12: Total number adults | D12: Total number children | E12: Total volunteer hours | F12: Summary of events carried out this quarter | K12: Summary of groups engaged
A13: QTR1 January - March 2025 | B13: ='Jan-Mar'!B49 -> 258 | C13: ='Jan-Mar'!C49 -> 1320 | D13: ='Jan-Mar'!D49 -> 40 | E13: ='Jan-Mar'!E49 -> 9179.3
A14: QTR2 April - June 2025 | B14: ='Apr-Jun'!B34 -> 173 | C14: ='Apr-Jun'!C34 -> 1037 | D14: ='Apr-Jun'!D34 -> 43 | E14: ='Apr-Jun'!E34 -> 2949.75
A15: QTR3 July - September 2025 | B15: ='Jul-Sep'!B37 -> 191 | C15: ='Jul-Sep'!C37 -> 1007 | D15: ='Jul-Sep'!D37 -> 7 | E15: ='Jul-Sep'!E37 -> 3338.25
A16: QTR4 October - December 2025 | B16: ='Oct-Dec'!B44 -> 210 | C16: ='Oct-Dec'!C44 -> 1344 | D16: ='Oct-Dec'!D44 -> 403 | E16: ='Oct-Dec'!E44 -> 2880.75
A17: Total: | B17: =SUM(B13:B16) -> 832 | C17: =SUM(C13:C16) -> 4708 | D17: =SUM(D13:D16) -> 493 | E17: =SUM(E13:E16) -> 18348.05
A19: Volunteer events - LBL (also included in above events figures so do not add to above figures)
A20: Quarter | B20: Total Nature's Gym events | C20: Total number adults (NG) | D20: Total volunteer hours | E20: Total Rivers and People events | F20: Total number adults (RaP) | G20: Total volunteer hours | H20: Total BPP events | I20: Total number adults (BPP) | J20: Total volunteer hours
A21: QTR1 January - March 2025 | B21: ='Jan-Mar'!B23+'Jan-Mar'!B25 -> 12 | C21: ='Jan-Mar'!C23+'Jan-Mar'!C25 -> 110 | D21: ='Jan-Mar'!E23+'Jan-Mar'!E25 -> 330 | E21: ='Jan-Mar'!B26 -> 9 | F21: ='Jan-Mar'!C26 -> 60 | G21: ='Jan-Mar'!E26 -> 180 | H21: ='Jan-Mar'!B24 -> 52 | I21: ='Jan-Mar'!C24 -> 315 | J21: ='Jan-Mar'!E24 -> 822.8
A22: QTR2 April - June 2025 | B22: ='Apr-Jun'!B19+'Apr-Jun'!B21 -> 9 | C22: ='Apr-Jun'!C19+'Apr-Jun'!C21 -> 79 | D22: ='Apr-Jun'!E19+'Apr-Jun'!E21 -> 222 | E22: ='Apr-Jun'!B22 -> 11 | F22: ='Apr-Jun'!C22 -> 57 | G22: ='Apr-Jun'!E22 -> 171 | H22: ='Apr-Jun'!B20 -> 55 | I22: ='Apr-Jun'!C20 -> 330 | J22: ='Apr-Jun'!E20 -> 923.5
A23: QTR3 July - September 2025 | B23: ='Jul-Sep'!B19+'Jul-Sep'!B21 -> 11 | C23: ='Jul-Sep'!C19+'Jul-Sep'!C21 -> 103 | D23: ='Jul-Sep'!E19+'Jul-Sep'!E21 -> 309 | E23: ='Jul-Sep'!B22 -> 13 | F23: ='Jul-Sep'!C22 -> 39 | G23: ='Jul-Sep'!E22 -> 507 | H23: ='Jul-Sep'!B20 -> 62 | I23: ='Jul-Sep'!C20 -> 372 | J23: ='Jul-Sep'!E20 -> 997.5
A24: QTR4 October - December 2025 | B24: ='Oct-Dec'!B19+'Oct-Dec'!B21 -> 10 | C24: ='Oct-Dec'!C19+'Oct-Dec'!C21 -> 119 | D24: ='Oct-Dec'!E19+'Oct-Dec'!E21 -> 357 | E24: ='Oct-Dec'!B22 -> 8 | F24: ='Oct-Dec'!C22 -> 75 | G24: ='Oct-Dec'!E22 -> 225 | H24: ='Oct-Dec'!B20 -> 48 | I24: ='Oct-Dec'!C20 -> 293 | J24: ='Oct-Dec'!E20 -> 632.5
A25: Total: | B25: =SUM(B21:B24) -> 42 | C25: =SUM(C21:C24) -> 411 | D25: =SUM(D21:D24) -> 1218 | E25: =SUM(E21:E24) -> 41 | F25: =SUM(F21:F24) -> 231 | G25: =SUM(G21:G24) -> 1083 | H25: =SUM(H21:H24) -> 217 | I25: =SUM(I21:I24) -> 1310 | J25: =SUM(J21:J24) -> 3376.3
A27: Engagement e.g. walk, presentation
A28: Quarter | B28: Total events | C28: Total number adults | D28: Total number children | E28: Awards (details below) | F28: Summary of events carried out this quarter | K28: Summary of groups engaged
A29: QTR1 January - March 2025 | B29: ='Jan-Mar'!B68 -> 33 | C29: ='Jan-Mar'!C68 -> 714 | D29: ='Jan-Mar'!D68 -> 120 | E29: ='Jan-Mar'!E68 -> 0 | F29: Our Space Award
A30: QTR2 April - June 2025 | B30: ='Apr-Jun'!B53 -> 150 | C30: ='Apr-Jun'!C53 -> 2794 | D30: ='Apr-Jun'!D53 -> 519 | E30: ='Apr-Jun'!E53 -> 0
A31: QTR3 July - September 2025 | B31: ='Jul-Sep'!B54 -> 29 | C31: ='Jul-Sep'!C54 -> 1162 | D31: ='Jul-Sep'!D54 -> 287 | E31: ='Jul-Sep'!E54 -> 0
A32: QTR4 October - December 2025 | B32: ='Oct-Dec'!B76 -> 161 | C32: ='Oct-Dec'!C76 -> 1980 | D32: ='Oct-Dec'!D76 -> 140 | E32: ='Oct-Dec'!E76 -> 16
A33: Total | B33: =SUM(B29:B32) -> 373 | C33: =SUM(C29:C32) -> 6650 | D33: =SUM(D29:D32) -> 1066 | E33: =SUM(E29:E32) -> 16
A35: Total Outputs
B36: Events | C36: Adults | D36: Children | E36: Awards
B37: =SUM(B9+B17+B33) -> 1519 | C37: =SUM(C9+C17+C33) -> 12166 | D37: =SUM(D9+D17+D33) -> 8146 | E37: =SUM(E33) -> 16
A39: Habitat/Species outputs
A40: Quarter | B40: Hedgerow (m) | C40: Loggery | D40: Bird Box | E40: Bat box | F40: Bug Hotel | G40: Trees | H40: Pond | I40: Living roof | J40: Other habitat - details on tab | K40: Locations
A41: Planning Quarter 1 (January - March 2025) | B41: ='Jan-Mar'!C154 -> 0 | C41: ='Jan-Mar'!D154 -> 0 | D41: ='Jan-Mar'!E154 -> 5 | E41: ='Jan-Mar'!F154 -> 2 | F41: ='Jan-Mar'!G154 -> 0 | G41: ='Jan-Mar'!H154 -> 39 | H41: ='Jan-Mar'!I154 -> 0 | I41: ='Jan-Mar'!J154 -> 263 | J41: ='Jan-Mar'!K154 -> 0
A42: Parks Quarter 1 (January - March 2025) | B42: ='Jan-Mar'!C141 -> 325 | C42: ='Jan-Mar'!D141 -> 7 | D42: ='Jan-Mar'!E141 -> 9 | E42: ='Jan-Mar'!F141 -> 6 | F42: ='Jan-Mar'!G141 -> 0 | G42: ='Jan-Mar'!H141 -> 53 | H42: ='Jan-Mar'!I141 -> 11 | J42: ='Jan-Mar'!J141 -> 6
A43: Planning Quarter 2 (April-June 2025) | B43: ='Apr-Jun'!C114 -> 0 | C43: ='Apr-Jun'!D114 -> 0 | D43: ='Apr-Jun'!E114 -> 5 | E43: ='Apr-Jun'!F114 -> 0 | F43: ='Apr-Jun'!G114 -> 0 | G43: ='Apr-Jun'!H114 -> 0 | H43: ='Apr-Jun'!I114 -> 0 | I43: ='Apr-Jun'!J114 -> 544 | J43: ='Apr-Jun'!K114 -> 0
A44: Parks and NR Quarter 2 (April-June 2025) | B44: ='Apr-Jun'!C100 -> 0 | C44: ='Apr-Jun'!D100 -> 1 | D44: ='Apr-Jun'!E100 -> 0 | E44: ='Apr-Jun'!F100 -> 0 | F44: ='Apr-Jun'!G100 -> 32 | G44: ='Apr-Jun'!H100 -> 0 | H44: ='Apr-Jun'!I100 -> 5 | J44: ='Apr-Jun'!J100 -> 1
A45: Planning Quarter 3 (July-September 2025) | B45: ='Jul-Sep'!C111 -> 0 | C45: ='Jul-Sep'!D111 -> 0 | D45: ='Jul-Sep'!E111 -> 0 | E45: ='Jul-Sep'!F111 -> 0 | F45: ='Jul-Sep'!G111 -> 0 | G45: ='Jul-Sep'!H111 -> 0 | H45: ='Jul-Sep'!I111 -> 0 | I45: ='Jul-Sep'!J111 -> 875 | J45: ='Jul-Sep'!K111 -> 0
A46: Parks and NR Quarter 3 (July-September 2025) | B46: ='Jul-Sep'!C95 -> 15 | C46: ='Jul-Sep'!D95 -> 5 | D46: ='Jul-Sep'!E95 -> 6 | E46: ='Jul-Sep'!F95 -> 0 | F46: ='Jul-Sep'!G95 -> 10 | G46: ='Jul-Sep'!H95 -> 0 | H46: ='Jul-Sep'!I95 -> 3 | J46: ='Jul-Sep'!J95 -> 3
A47: Planning Quarter 4 (October - December 2025) | B47: ='Oct-Dec'!C131 -> 0 | C47: ='Oct-Dec'!D131 -> 0 | D47: ='Oct-Dec'!E131 -> 0 | E47: ='Oct-Dec'!F131 -> 0 | F47: ='Oct-Dec'!G131 -> 0 | G47: ='Oct-Dec'!H131 -> 0 | H47: ='Oct-Dec'!I131 -> 0 | I47: ='Oct-Dec'!J131 -> 102 | J47: ='Oct-Dec'!K131 -> 0
A48: Parks and NR Quarter 4 (October - December 2025) | B48: ='Oct-Dec'!C115 -> 155 | C48: ='Oct-Dec'!D115 -> 3 | D48: ='Oct-Dec'!E115 -> 1 | E48: ='Oct-Dec'!F115 -> 2 | F48: ='Oct-Dec'!G115 -> 1 | G48: ='Oct-Dec'!H115 -> 206 | H48: ='Oct-Dec'!I115 -> 0 | J48: ='Oct-Dec'!J115 -> 5
A49: Planning total | B49: =B41+B43+B45+B47 -> 0 | C49: =C41+C43+C45+C47 -> 0 | D49: =D41+D43+D45+D47 -> 10 | E49: =E41+E43+E45+E47 -> 2 | F49: =F41+F43+F45+F47 -> 0 | G49: =G41+G43+G45+G47 -> 39 | H49: =H41+H43+H45+H47 -> 0 | I49: =I41+I43+I45+I47 -> 1784 | J49: =J41+J43+J45+J47 -> 0
A50: Parks and NR total | B50: =B42+B44+B46+B48 -> 495 | C50: =C42+C44+C46+C48 -> 16 | D50: =D42+D44+D46+D48 -> 16 | E50: =E42+E44+E46+E48 -> 8 | F50: =F42+F44+F46+F48 -> 43 | G50: =G42+G44+G46+G48 -> 259 | H50: =H42+H44+H46+H48 -> 19 | I50: =I42+I44+I46+I48 -> 0 | J50: =J42+J44+J46+J48 -> 15
A51: Total | B51: =SUM(B49:B50) -> 495 | C51: =SUM(C49:C50) -> 16 | D51: =SUM(D49:D50) -> 26 | E51: =SUM(E49:E50) -> 10 | F51: =SUM(F49:F50) -> 43 | G51: =SUM(G49:G50) -> 298 | H51: =SUM(H49:H50) -> 19 | I51: =SUM(I49:I50) -> 1784 | J51: =SUM(J49:J50) -> 15
G52: Street Trees separately reported!
A53: Surveys
A54: Quarter 1 (Jan-Mar 2025)
A55: Surveys | C55: Category | E55: Summary/Description
A56: Location | B56: Number | C56: Type of survey
A57: Beckenham Place Park | B57: 1 | C57: Bird | E57: Quarterly bird suverys approx. 2 hours
A58: Hilly Fields | B58: 1 | C58: Butterfly | E58: Brown Hairstreak egg survey
A59: Blythe Hill Fields | B59: 1 | C59: Butterfly | E59: Brown Hairstreak egg survey
A60: Northbrook Park | B60: 1 | C60: Butterfly | E60: Brown Hairstreak egg survey
A61: Forster Park | B61: 1 | C61: Butterfly | E61: Brown Hairstreak egg survey
A62: Brockley Ladywell Cemetery | B62: 12 | C62: Butterfly | E62: Weekly
A63: Ladywell Fields | B63: 3 | C63: Bird
A64: Hilly Fields | B64: 3 | C64: Bird
A65: Chinbrook Meadows | B65: 2 | C65: Water sampling | E65: ZSL organised water sampling using adapted Riverfly method for wetlands. Also ammonia and phosphate checking
A66: Creekside | B66: 1 | C66: Bird
A67: Brookmill Park | B67: 3 | C67: Bird
A68: Mountsfield Park | B68: 3 | C68: Bird
A69: Chinbrook Community Orchard | B69: 1 | C69: Amphibian | E69: Seasonal Amphibian Survey
A70: Manor House Gardens | B70: 1 | C70: Amphibian | E70: Seasonal Amphibian Survey
A71: Hare and Billet Pond, Blackheath | B71: 1 | C71: Amphibian | E71: Seasonal Amphibian Survey
A72: Bell Green Pond | B72: 1 | C72: Amphibian | E72: Seasonal Amphibian Survey
A73: Brookmill Park | B73: 1 | C73: Amphibian | E73: Seasonal Amphibian Survey
A74: Telegraph Hill Lower | B74: 1 | C74: Amphibian | E74: Seasonal Amphibian Survey
A75: Sydenham Wells (Froglife) | B75: 1 | C75: Amphibian | E75: Year 1 survey for London Blue Chain Natural England Reporting
A76: Ravensbourne Catchment | B76: 15 | C76: Riverfly | E76: Monthly riverfly surveys in Linear Park, Beckenham Place Park, Manor Park, Brookmill Park and Ladywell
A77: Hillcrest Wood (Foglife) | B77: 1 | C77: Amphibian | E77: Year 1 survey for London Blue Chain Natural England Reporting
A78: Mountsfield Park | B78: 1 | C78: Amphibian | E78: Year 1 survey for London Blue Chain Natural England Reporting
A79: Total | B79: =SUM(B57:B78) -> 56
A81: Surveys
A82: Quarter 2 (April - June 2025)
A83: Location | B83: Number | C83: Type of survey | E83: Summary/Description
A84: Verges - various | B84: 16 | C84: Plant | E84: No Mow Zone verges
A85: Sydenham Garden roof | B85: 2 | C85: Plant | E85: Living roof survey by Alona Sheridan
A86: Beckenham Place Park | B86: 1 | C86: Plant | E86: Ancient meadow survey
A87: Beckenham Place Park | B87: 1 | C87: Bird | E87: Quarterly bird survey
A88: Fourth Reserve - Buckthorne Cutting NR | B88: 2 | C88: Bird | E88: nesting woodpeckers, hobbie, green woodpeckers
A89: Fourth Reserve - Buckthorne Cutting NR | B89: 1 | C89: Oak Processionary moth | E89: 1 nest found, reported to Tree Alert and Forestry Commission
A90: Hilly Fields | B90: 3 | C90: Bird | E90: Monthly bird surveys
A91: Ladywell Fields | B91: 3 | C91: Bird | E91: Monthly bird surveys
A92: Mountsfield Park | B92: 3 | C92: Bird | E92: Monthly bird surveys
A93: Bell Green Pond | B93: 1 | C93: Bird, butterfly and wildflower | E93: Survey with Nature's Gym volunteers
A94: Brookmill Park | B94: 3 | C94: Bird
A95: Linear park | B95: 1 | C95: Bird
A96: Linear park | B96: 1 | C96: Lepidoptera and Odonata
A97: Chinbrook Community Orchard | B97: 4 | C97: Hedgehog, bird, flower and lizards
A98: Ravensbourne Catchment | B98: 15 | C98: Riverfly | E98: Monthly riverfly surveys in Linear Park, Beckenham Place Park, Manor Park, Brookmill Park and Ladywell
A99: Fordham Park | B99: 4 | C99: 3 Bumblebee, 1 wildflower | E99: Bumblebee Conservation Trust, B.E.E. project
A100: Beckenham Place Park | B100: 1 | C100: Bat box | E100: Bat box check
A101: Total | B101: =SUM(B84:B100) -> 62
A103: Surveys
A104: Quarter 3 (July - September 2025)
A105: Location | B105: Number | C105: Type of survey | E105: Summary/Description
A106: Northbrook Park | B106: 1 | C106: Butterfly | E106: Big Butterfly Count
A107: Forster Memorial Park | B107: 1 | C107: Butterfly | E107: Brown Hairstreak (found)
A108: Ravensbourne Catchment | B108: 15 | C108: Riverfly | E108: Monthly riverfly surveys in Linear Park, Beckenham Place Park, Manor Park, Brookmill Park and Ladywell
...
