Workbook

Sheet Jan-Mar
A1: Lewisham Biodiversity Outputs | D1: Date: Jan-Mar 2025
C3: Demographic
A4: Organisation | B4: Total events | C4: Total number adults | D4: Total number children | E4: Number of Schools engaged | F4: Summary/Description (Please include name of schools)
A5: Environmental education
A6: Lewisham (Jess) | B6: 1 | C6: 5 | D6: 26 | E6: 1 | F6: Baring School
A7: Glendale (Emily Millhouse) | B7: 6 | C7: 20 | D7: 154 | E7: 5 | F7: Baring Primary, Cooper's Lane, St Winifred's (2 classes), All Saints, Trinity (Secondary)
A8: Thames 21 | B8: 1 | C8: 12 | D8: 0 | F8: Leading Action for Healthy Rivers January 2025, 2 day course.
A9: Chinbrook Allotment Orchard | B9: 1 | C9: 9 | D9: 48 | E9: 1 | F9: Year 5 Marvels lane - Living Things and their Habitats 2 classes 23/25 children each with 4 teachers/assistants 9:00 - 12:30 in separate groups 5 orchard volunteers
A10: Field Studies Council | B10: 4 | C10: 16 | D10: 240 | E10: 2 | F10: St. Mary's CofE and Holy Cross Primary Schools
A11: Fourth Reserve - Buckthorne NR | B11: 33 | D11: 396 | E11: 1 | F11: Forest School, DofE, school visit
A12: Creekside Discovery Centre | B12: 18 | C12: 94 | D12: 457 | E12: 10 | F12: Myatt Garden, Ashmead, Baring, Brindishe Manor, Grinling Gibbons , Horniman, John Ball, Kelvin Grove, Lucal Vale and Tidemill (DCT)
A13: Creekside Discovery Centre | B13: 1 | C13: 2 | D13: 30 | E13: 1 | F13: Home School KS2
A14: Creekside Discovery Centre | B14: 1 | C14: 2 | D14: 30 | E14: 1 | F14: Syracuse University - London Programme (18+ Students)
A15: Horniman Museum | B15: 41 | C15: 276 | D15: 1550 | E15: 16 | F15: Coopers Lane, Drumbeat School and ASD Service, Kilmorie, Abbey and Stanhope School, Holy Trinity, Our Lady and Philip Neri, Prendergrast Vale, Edmund Waller, John Ball, Perry Hall, Preeymount, St Mary's, St George's, St. Stephens, Stillness Junior, Home school
A16: The Orchard Project/Secret Adventurers | B16: 1 | C16: 22 | D16: 40 | F16: Spring School workshop, Little Lamb pre-school and Good Sheperd school
A17: Street Trees for Living | B17: 1 | C17: 1 | D17: 8 | E17: 1 | F17: Elfrida Primary School - 'eco warriors' helped to mulch their school orchard and learned about caring for trees
A19: TOTAL | B19: =SUM(B6:B18) -> 109 | C19: =SUM(C6:C18) -> 459 | D19: =SUM(D6:D18) -> 2979 | E19: =SUM(E6:E18) -> 39
A21: Organisation | B21: Total events | C21: Total number adults | D21: Total number children | E21: Total Volunteer Hours | F21: Summary/Description
A22: Volunteer
A23: Lewisham (Jess) | B23: 7 | C23: 59 | E23: 177
A24: Lewisham (James BPP) | B24: 52 | C24: 315 | D24: 0 | E24: 822.8
A25: Glendale (Emily) - NG | B25: 5 | C25: 51 | D25: 0 | E25: 153
A26: Glendale (Emily) - RaP | B26: 9 | C26: 60 | D26: 0 | E26: 180
A27: SLAM (Jess & Emily) | B27: 2 | C27: 15 | D27: 0 | E27: 20 | F27: Taster sessions
A28: Lewisham (Jess) | B28: 1 | C28: 10 | D28: 0 | E28: 20 | F28: Capel Manor session
A29: LFUG | B29: 13 | C29: 94 | D29: 5 | E29: 207.25 | F29: hedge planting for Tree Council funded project; litter pick; orchard and Iona Close NR sessions, tree planting, tiny forest maintenance, black poplar maintenance
A30: The Orchard Project - Grove Park LNR | B30: 2 | C30: 14 | D30: 13 | E30: =C30*5 -> 70 | F30: Intro session/walk the site, stag loggery, bulb & tree planting, bird & bat box making
A31: The Orchard Project - Deptford Park | B31: 2 | C31: 8 | D31: 5 | E31: =C31*5 -> 40 | F31: Stag loggery, pruning x 2 (both orchards), bird & bat box making
A32: The Orchard Project - Durham Hill | B32: 2 | C32: 11 | D32: 0 | E32: =C32*3 -> 33 | F32: pruning
A33: The Orchard Project - Blythe Hill Fields | B33: 1 | F33: Orchard planting
A34: Chinbrook Allotment Orchard | B34: 25 | C34: 26 | D34: 0 | E34: =97+25 -> 122 | F34: Monthly workdays and orchard maintenance between workdays (21 sessions), 2 Hour sessions, clearing algae from ponds, moving clematis; moving prunings, coppiced poles, reinstalled wildlife camera; hifting woodchips and mulch. 5 CCO vols helping with the wassail - 5h each
A35: LBL - Climate, Housing teams | B35: 2 | C35: 75 | D35: 0 | E35: =C35*10 -> 750 | F35: Hermitage garden improvements
A36: Downham Men | B36: 3 | C36: 16 | D36: 0 | E36: 32 | F36: Snowberry, litterpick & dead hedge
A37: FOBLC | B37: 2 | C37: 8 | D37: 0 | E37: 17 | F37: Removal of Turkey oak and sycamore saplings; trimming bases of trees
A38: Friends of Chinbrook Meadows | B38: 7 | C38: 24 | D38: 6 | E38: 187 | F38: 3x T21 Chinbrook Meadows sessions, pollinator-friendly planting event, 3x orchard tree maintenance sessions
A39: FO AMG | B39: 6 | C39: 48 | D39: 2 | E39: 198 | F39: Various activities
A40: BPP- Sensory Garden | B40: 12 | C40: 48 | D40: 0 | E40: =C40*2 -> 96 | F40: Sensory Garden Volunteers
A41: FO Mayow Park | B41: 8 | C41: 28 | D41: 1 | E41: 104 | F41: Winter pruning, Dof E work on herb and fruit beds
A42: Buckthorne Road | B42: 26 | C42: 200 | D42: 5 | E42: =SUM(B42*C42) -> 5200 | F42: Volunteer sessions (assumed 1 hour)
A43: Creekside Discovery Centre | B43: 44 | C43: 96 | D43: 0 | E43: 255 | F43: Low Tide Walks,
...

Sheet Apr-Jun
A1: Lewisham Biodiversity Outputs | D1: Date: April - June 2025
C3: Demographic
A4: Organisation | B4: Total events | C4: Total number adults | D4: Total number children | E4: Number of Schools engaged | F4: Summary/Description (Please include name of schools)
A5: Environmental education
A6: Lewisham (Jess) | B6: 4 | C6: 17 | D6: 99 | E6: 2 | F6: Ashmead Primary, Baring Primary
A7: Glendale (Emily) | B7: 6 | C7: 34 | D7: 166 | E7: 6 | F7: St Mary's PS, SD Learning, Brindishe Green PS, Brindishe Lee PS + Trinity and Colfe SS
A8: LBL Lewisham Housing | B8: 1 | C8: 2 | D8: 32 | E8: 1 | F8: Turnham Academy School; orchard and biodiversity education event in Honor Oak Estate community orchard
A9: Field Studies Council (BPP) | B9: 4 | C9: 19 | D9: 123 | E9: 4 | F9: St Bartholomew's C of E Primary, Our Lady and St Philip Neri Primary, St. Augustine’s Catholic Primary School, Prendergast ( A Level)
A10: Fourth Reserve - Buckthorne Cutting NR | B10: 57 | D10: 744 | E10: 2 | F10: Forest Clubs (552) and Turn, Stillness and Drumbeat (210), Duke of Edinburgh (12)
A11: Chinbrook Community Orchard | B11: 2 | C11: 16 | D11: 98 | E11: 1 | F11: Marvels Lane
A12: Froglife | B12: 4 | C12: 46 | F12: Blue Chain Links Workshops @ The Albany, Deptford
A15: TOTAL | B15: =SUM(B6:B14) -> 78 | C15: =SUM(C6:C14) -> 134 | D15: =SUM(D6:D14) -> 1262 | E15: =SUM(E6:E14) -> 16
A17: Organisation | B17: Total events | C17: Total number adults | D17: Total number children | E17: Total Volunteer Hours | F17: Summary/Description
A18: Volunteer
A19: Lewisham (Jess) | B19: 6 | C19: 45 | D19: 0 | E19: 120 | F19: incl. corporate group
A20: Lewisham (James BPP) | B20: 55 | C20: 330 | D20: 12 | E20: 923.5
A21: Glendale (Emily) - NG | B21: 3 | C21: 34 | D21: 0 | E21: 102
A22: Glendale (Emily) - RaP | B22: 11 | C22: 57 | D22: 0 | E22: =C22*3 -> 171 | F22: incl. 3RCU
A23: FO Mayow Park | B23: 1 | C23: 16 | D23: 12 | E23: =C23*3 -> 48 | F23: Litter picking
A24: LBL+Glendale - SLAM (Jess + Emily) | B24: 2 | C24: 6 | D24: 0 | F24: SLAM taster sessions
A25: LBL + Glendale 3RCU (Jess + Emily) | B25: 1 | C25: 13 | D25: 0 | E25: 26 | F25: 3 River Clean Up
A26: Downham Men (Trevor Pybus) | B26: 1 | C26: 7 | D26: 0 | E26: 28 | F26: Rubbish clearing (4 hours)
A27: F/O Ladywell and Brockley Cemeteries | B27: 1 | C27: 5 | D27: 0 | E27: 8.25 | F27: tree trunk growth cut bac at work session
A28: Fourth Reserve - Buckthorne Cutting NR | B28: 26 | C28: 208 | D28: 5 | E28: =C28*3 -> 624 | F28: Digging/bramble clearance for new meadow, weeding garden area, plum tree orchard work, watering.
A29: Ladywell Fields User Group | B29: 18 | C29: 105 | D29: 14 | E29: 129
A30: Beckenham Place Park (Sensory Garden) | B30: 16 | C30: 48 | D30: 0 | E30: 120
A31: Chinbrook Community Orchard | B31: 22 | C31: 17 | D31: 0 | E31: 66
A32: Friends of River Pool | B32: 10 | C32: 146 | E32: 584 | F32: 146x4 hour sessions. Work in the Linear Park and Ladywell clearing vegitation, removing rubbish and fallen trees from the river and park, watering hedges, building a berm. Trolleys and electric bikes are becoming more of a nuisance. We removed 14 trolleys and 11 electric bikes (mostly Lime) from the river. 68 bags of rubbish were removed from the river and park (Pool, Linear Park and Ladywell)
A34: TOTAL | B34: =SUM(B19:B33) -> 173 | C34: =SUM(C19:C33) -> 1037 | D34: =SUM(D19:D33) -> 43 | E34: =SUM(E19:E33) -> 2949.75
A37: Organisation | B37: Total events | C37: Total number adults | D37: Total number children | E37: Awards | F37: Summary/Description
A38: Engagement e.g. walk, presentation
A39: FO Mayow Park | B39: 1 | C39: 39 | D39: 12 | F39: April guided bat walk
A40: FO Brookmill Road LNR | B40: 1 | C40: 36 | D40: 10 | F40: Open Day
A41: F/O Ladywell and Brockley Cemeteries | B41: 2 | C41: 27 | F41: Guided walks on nature and other topics
A42: Fourth Reserve - Buckthorne Cutting NR | B42: 10 | C42: 1045 | D42: 410 | F42: Health and Well-being Groups (Anne McBride, St Peters Church), Natural Fitness Groups, open days, homless persons bird watch walk, rescue hedgehog
A43: Stree Trees for Living | B43: 1 | C43: 15 | D43: 0 | F43: Walk around Ladywell Fields
A44: Friends of Mayow Park | B44: 2 | C44: 51 | D44: 24 | F44: Family litter pick and bat walk
A45: Friends of Forster Memorial Park | B45: 1 | F45: Plant stall at Mayow Park funfair
A46: 3RCU (Jess+Emily) | B46: 1 | C46: 9 | D46: 0 | F46: 3 Rivers Clean Up Walk
A47: Glendale (Emily) | B47: 1 | C47: 31 | D47: 0 | F47: U3A Science Group talk
...

Sheet Jul-Sep
A1: Lewisham Biodiversity Outputs | D1: Date: July - September 2025
C3: Demographic
A4: Organisation | B4: Total events | C4: Total number adults | D4: Total number children | E4: Number of Schools engaged | F4: Summary/Description (Please include name of schools)
A5: Environmental education
A6: Lewisham (Jess) | B6: 3 | C6: 12 | D6: 66 | E6: 3 | F6: St. Michaels, Ashmead and Baring Primary
A7: Fourth Reserve (Buckthorne Road) | B7: 37 | D7: 486 | E7: 2 | F7: Turnham and John Stainer. Also DofE, Cubs & Scouts, Forest Club
A8: Chinbrook Community Orchard | B8: 3 | C8: 25 | D8: 72 | E8: 1 | F8: Marvels Lane
A9: Froglife | B9: 2 | C9: 0 | D9: 6 | E9: 0 | F9: Creative Eduction Sessions at The Albany
A10: Field Studies Council | B10: 4 | C10: 3 | D10: 112 | F10: Holbeach Primary School, John Stainer Community Primary School, Brindishe Manor Primary School, Sydenham Secondary School
A15: TOTAL | B15: =SUM(B6:B14) -> 49 | C15: =SUM(C6:C14) -> 40 | D15: =SUM(D6:D14) -> 742 | E15: =SUM(E6:E14) -> 6
A17: Organisation | B17: Total events | C17: Total number adults | D17: Total number children | E17: Total Volunteer Hours | F17: Summary/Description
A18: Volunteer
A19: Lewisham (Jess) | B19: 6 | C19: 43 | D19: 0 | E19: =C19*3 -> 129
A20: Lewisham (James BPP) | B20: 62 | C20: 372 | E20: 997.5
A21: Glendale (Emily) - NG | B21: 5 | C21: 60 | D21: 0 | E21: 180
A22: Glendale (Emily) - RaP | B22: 13 | C22: 39 | D22: 0 | E22: 507
A23: Fouth Reserve (Buckthorne Road) | B23: 23 | C23: 184 | D23: 3 | E23: =SUM(C23*D23) -> 552
A24: Downham Men | B24: 3
A25: Ladywell Fields User Group | B25: 18 | C25: 76 | D25: 3 | E25: 107.5 | F25: Community Orchard work
A26: BPP - Sensory Garden | B26: 17 | C26: 68 | D26: 0 | E26: 132
A27: F/O Brockley and Ladywell Cemetery | B27: 2 | C27: 11 | D27: 0 | E27: 21 | F27: Sycamore growth cut back
A28: Chinbrook Community Orchard | B28: 19 | C28: 32 | D28: 1 | E28: 117 | F28: Monthly Orchard Sessions
A29: F/O Mayow Park | B29: 2 | C29: 12 | E29: 25 | F29: 5 x 2.5 hour volunteer session to improve pond; 2 x 1.5 hrs stone fruits & some apple
A30: F/O River Pool Linear Park | B30: 7 | C30: 51 | D30: 0 | E30: 204 | F30: 3rivers cleanup, weeding and watering new hedges, chopping up fallen trees x 3' to make them safe, making faggot bundles and log piles. Litter picking 14 bags of rubbish
A31: Gilmore Road Park | B31: 3 | C31: 8 | D31: 0 | E31: 24 | F31: Litter picking sessions
A32: F/O Albion Millennium Green | B32: 4 | C32: 14 | D32: 0 | E32: 30.5 | F32: Various volunteer wok sessions including bramble clearance, litter picking and labyrinth maintenance.
A33: Street Trees for Living | E33: 143.75 | F33: Heavy Tree Care
A34: Froglife | B34: 3 | C34: 10 | D34: 0 | E34: 39 | F34: Volunteer contributions across 3 pond restoration/creation sessions: Mayow, Manor Park and Arica road
A35: T21 - Northbrook Park wetlands | B35: 3 | C35: 21 | D35: 0 | E35: =21*5 -> 105 | F35: First volunteer/engagement sessions
A36: Bumblebee Conservation Trust - Fordham Park | B36: 1 | C36: 6 | D36: 0 | E36: =6*4 -> 24 | F36: Habitat work session
A37: TOTAL | B37: =SUM(B19:B36) -> 191 | C37: =SUM(C19:C36) -> 1007 | D37: =SUM(D19:D36) -> 7 | E37: =SUM(E19:E36) -> 3338.25
A40: Organisation | B40: Total events | C40: Total number adults | D40: Total number children | E40: Awards | F40: Summary/Description
A41: Engagement e.g. walk, presentation
A42: F/O Devonshire Rd | B42: 1 | C42: 20 | F42: British Orchid talk, 27 Aug
A43: LBL - Burnt Ash Pond | B43: 1 | C43: 24 | D43: 26 | F43: Open day
A44: Fourth Reserve (Buckthorne Road) | B44: 8 | C44: 670 | D44: 200 | F44: Health & Wellbeing Groups, Natural Fitness, Open Day, 2 art sessions and plum picking/jam making.
A45: F/O Brockley and Ladywell Cemetery | B45: 1 | C45: 300 | D45: 35 | F45: Open day, including guided walks and 2 nature trail walks
A46: Emily Milhouse | B46: 2 | C46: 53 | D46: 0 | F46: U3A talk and Healthy Walks (Enable Lewisham)
A47: Lewisham (James - BPP) | B47: 1 | C47: 9 | D47: 0 | F47: Mayoral Chairty Fundraiser - Guided walk for visiting dignitaries about the park and our conservation work
A48: F/O Mayow Park - Bat walk | B48: 1 | C48: 35 | D48: 19 | F48: Guided walk around Mayow Park with bat detectors
...

Sheet Oct-Dec
A1: Lewisham Biodiversity Outputs | D1: Date: October- December 2025
C3: Demographic
A4: Organisation | B4: Total events | C4: Total number adults | D4: Total number children | E4: Number of Schools engaged | F4: Summary/Description (Please include name of schools)
A5: Environmental education
A6: Lewisham (Jess) | B6: 1 | C6: 2 | D6: 25 | E6: 1 | F6: Baring Primary School
A7: Glendale (Emily Millhouse) | B7: 0 | C7: 0 | D7: 0
A8: Fields Studies Council (BPP) | B8: 1 | F8: St. William of York
A9: Fourth Reserve (Buckthorne Cutting) | B9: 53 | D9: 945 | E9: 3 | F9: Drumbeat, Turnham and John Stainer
A10: Friends of River Pool Linear Park | B10: 1 | C10: 4 | D10: 2 | E10: 0 | F10: Riverfly training sessions
A11: Friends of Forster Memorial Park | B11: 1 | C11: 0 | D11: 20 | E11: 0 | F11: Christmas fair secret adventures outdoors activity
A12: Chinbrook Community Orchard | B12: 3 | C12: 26 | D12: 42 | E12: 1 | F12: Marvels Lane and University of Greenwich
A13: Creekside Discovery Centre | B13: 15 | C13: 75 | D13: 445 | E13: 8 | F13: Adamsrill Primary, Beecroft Garden Primary, Brindishe Lee Primary, Childeric Primary, Elfrida Primary, John Stainer Community Primary, Prendergast School, Downderry Primary School,
A14: Horniman Museum | B14: 3 | C14: 68 | D14: 125 | E14: 2 | F14: St. Philips (Lewisham?) Turnham Academy, pond dipping and minibeasts
A15: TOTAL | B15: =SUM(B6:B14) -> 78 | C15: =SUM(C6:C14) -> 175 | D15: =SUM(D6:D14) -> 1604 | E15: =SUM(E6:E14) -> 15
A17: Organisation | B17: Total events | C17: Total number adults | D17: Total number children | E17: Total Volunteer Hours | F17: Summary/Description
A18: Volunteer
A19: Lewisham (Jess) | B19: 5 | C19: 60 | D19: 0 | E19: =C19*3 -> 180
A20: Lewisham (James BPP) | B20: 48 | C20: 293 | D20: 1 | E20: 632.5
A21: Glendale (Emily) - NG | B21: 5 | C21: 59 | D21: 0 | E21: =C21*3 -> 177
A22: Glendale (Emily) - RaP | B22: 8 | C22: 75 | D22: 0 | E22: =C22*3 -> 225
A23: Lewisham (Eszter) - Free We Grow | B23: 1 | C23: 3 | D23: 6 | E23: 6 | F23: Rain garden planting session, >300 plants planted
A24: Lewisham (Eszter) - F/O Dev Rd | B24: 1 | C24: 6 | D24: 0 | E24: 18 | F24: flytip removal event
A25: F/O Blythe Hill Fields | B25: 1 | C25: 40 | D25: 0 | E25: =C25*3 -> 120 | F25: whip planting to create hazel coppice and shrubby blocks
A26: F/O Devonshire Road NR | B26: 1 | C26: 8 | D26: 0 | E26: =C26*5 -> 40 | F26: Scything training session
A27: Bumblebee Conservation Trust - Fordham Park | B27: 1 | C27: 2 | D27: 0 | E27: 10 | F27: Habitat creation session, whip planting
A28: LBL Councillors - Reigate Road | B28: 1 | C28: 20 | D28: 0 | E28: =C28*2 -> 40 | F28: Community litter pick in Reigate Road
A29: F/O Grove Park NR | B29: 1 | C29: 9 | D29: 10 | E29: =9*2 -> 18 | F29: Community litter pick in Grove Park NR
A30: F/O Hatcham Gardens | B30: 1 | C30: 10 | D30: 7 | E30: =C30*2 -> 20 | F30: Wildflower plug planting to improve meadow, plus some whips to orchard area
A31: F/O Brockley & Ladywell Cemeteries | B31: 2 | C31: 15 | D31: 0 | E31: 22.5 | F31: Sycamore & turkey oak cutback; bulb planting
A32: Fourth Reserve (Buckthorne Cutting) | B32: 24 | C32: 240 | D32: 0 | F32: Reed bed cutting, brambles, path work and dead hedge
A33: Beckenham Place Park (garden volunteers) | B33: 15 | C33: 45 | D33: 0 | E33: 98 | F33: + added survey vol hours (4 adults, 2h)
A34: Ladywell Fields User Group | B34: 4 | C34: 21 | D34: 0 | E34: 28.5 | F34: River clean up, trees and tiny forest
A35: F/O River Pool Linear Park | B35: 10 | C35: 70 | D35: 0 | E35: 280 | F35: Chopped up 4 fallen trees, made faggot bundles, cleared 2 blockages in the river, planted existing berms, built a stag beetle loggery, cleared brambles, maintained the flow of the fish bypass, chopped back the reeds in the Bell Green Pond.
A36: F/O Forster Memorial Park | B36: 14 | C36: 14 | D36: 0 | E36: 174 | F36: Sensory Garden, Woodland and Orchard
A37: F/O Chinbrook Meadows | B37: 2 | C37: 12 | D37: 4 | E37: 32 | F37: Work on habitat maintenance - wetlands and boardwalk areas
A38: STfL | B38: 11 | C38: 9 | D38: 0 | E38: 52.75 | F38: Tree Care Group Sessions
A39: Thames21 - Northbrook Park Wetlands | B39: 3 | C39: 30 | D39: 0 | E39: =5*C39 -> 150 | F39: Monthly volunteer sessions
A40: F/O Mayow Park | B40: 3 | C40: 17 | D40: 6 | E40: 47.5 | F40: Bulb planting and scrub clearance
A41: Creekside Discovery Centre | B41: 27 | C41: 70 | D41: 5 | E41: 452 | F41: Habitat Management, Litter picks and support with Low Tide Walks and school learning
A42: Horniman Museum | B42: 7 | C42: 199 | D42: 250 | E42: 57
...

Sheet Summary
A1: Lewisham Biodiversity Outputs | D1: Summary for 2025
A3: Environmental education
A4: Quarter | B4: Total events | C4: Total number adults | D4: Total number children | E4: Number of Schools engaged | F4: Summary of events carried out this quarter | K4: Summary of schools engaged
A5: QTR1 January - March 2025 | B5: ='Jan-Mar'!B19 -> 109 | C5: ='Jan-Mar'!C19 -> 459 | D5: ='Jan-Mar'!D19 -> 2979 | E5: ='Jan-Mar'!E19 -> 39
A6: QTR2 April - June 2025 | B6: ='Apr-Jun'!B15 -> 78 | C6: ='Apr-Jun'!C15 -> 134 | D6: ='Apr-Jun'!D15 -> 1262 | E6: ='Apr-Jun'!E15 -> 16
A7: QTR3 July - September 2025 | B7: ='Jul-Sep'!B15 -> 49 | C7: ='Jul-Sep'!C15 -> 40 | D7: ='Jul-Sep'!D15 -> 742 | E7: ='Jul-Sep'!E15 -> 6
A8: QTR4 October - December 2025 | B8: ='Oct-Dec'!B15 -> 78 | C8: ='Oct-Dec'!C15 -> 175 | D8: ='Oct-Dec'!D15 -> 1604 | E8: ='Oct-Dec'!E15 -> 15
A9: Total | B9: =SUM(B5:B8) -> 314 | C9: =SUM(C5:C8) -> 808 | D9: =SUM(D5:D8) -> 6587 | E9: =SUM(E5:E8) -> 76
A11: Volunteer (incl. LBL)
A12: Quarter | B12: Total events | C12: Total number adults | D12: Total number children | E12: Total volunteer hours | F12: Summary of events carried out this quarter | K12: Summary of groups engaged
A13: QTR1 January - March 2025 | B13: ='Jan-Mar'!B49 -> 258 | C13: ='Jan-Mar'!C49 -> 1320 | D13: ='Jan-Mar'!D49 -> 40 | E13: ='Jan-Mar'!E49 -> 9179.3
A14: QTR2 April - June 2025 | B14: ='Apr-Jun'!B34 -> 173 | C14: ='Apr-Jun'!C34 -> 1037 | D14: ='Apr-Jun'!D34 -> 43 | E14: ='Apr-Jun'!E34 -> 2949.75
A15: QTR3 July - September 2025 | B15: ='Jul-Sep'!B37 -> 191 | C15: ='Jul-Sep'!C37 -> 1007 | D15: ='Jul-Sep'!D37 -> 7 | E15: ='Jul-Sep'!E37 -> 3338.25
A16: QTR4 October - December 2025 | B16: ='Oct-Dec'!B44 -> 210 | C16: ='Oct-Dec'!C44 -> 1344 | D16: ='Oct-Dec'!D44 -> 403 | E16: ='Oct-Dec'!E44 -> 2880.75
A17: Total: | B17: =SUM(B13:B16) -> 832 | C17: =SUM(C13:C16) -> 4708 | D17: =SUM(D13:D16) -> 493 | E17: =SUM(E13:E16) -> 18348.05
A19: Volunteer events - LBL (also included in above events figures so do not add to above figures)
A20: Quarter | B20: Total Nature's Gym events | C20: Total number adults (NG) | D20: Total volunteer hours | E20: Total Rivers and People events | F20: Total number adults (RaP) | G20: Total volunteer hours | H20: Total BPP events | I20: Total number adults (BPP) | J20: Total volunteer hours
A21: QTR1 January - March 2025 | B21: ='Jan-Mar'!B23+'Jan-Mar'!B25 -> 12 | C21: ='Jan-Mar'!C23+'Jan-Mar'!C25 -> 110 | D21: ='Jan-Mar'!E23+'Jan-Mar'!E25 -> 330 | E21: ='Jan-Mar'!B26 -> 9 | F21: ='Jan-Mar'!C26 -> 60 | G21: ='Jan-Mar'!E26 -> 180 | H21: ='Jan-Mar'!B24 -> 52 | I21: ='Jan-Mar'!C24 -> 315 | J21: ='Jan-Mar'!E24 -> 822.8
A22: QTR2 April - June 2025 | B22: ='Apr-Jun'!B19+'Apr-Jun'!B21 -> 9 | C22: ='Apr-Jun'!C19+'Apr-Jun'!C21 -> 79 | D22: ='Apr-Jun'!E19+'Apr-Jun'!E21 -> 222 | E22: ='Apr-Jun'!B22 -> 11 | F22: ='Apr-Jun'!C22 -> 57 | G22: ='Apr-Jun'!E22 -> 171 | H22: ='Apr-Jun'!B20 -> 55 | I22: ='Apr-Jun'!C20 -> 330 | J22: ='Apr-Jun'!E20 -> 923.5
A23: QTR3 July - September 2025 | B23: ='Jul-Sep'!B19+'Jul-Sep'!B21 -> 11 | C23: ='Jul-Sep'!C19+'Jul-Sep'!C21 -> 103 | D23: ='Jul-Sep'!E19+'Jul-Sep'!E21 -> 309 | E23: ='Jul-Sep'!B22 -> 13 | F23: ='Jul-Sep'!C22 -> 39 | G23: ='Jul-Sep'!E22 -> 507 | H23: ='Jul-Sep'!B20 -> 62 | I23: ='Jul-Sep'!C20 -> 372 | J23: ='Jul-Sep'!E20 -> 997.5
A24: QTR4 October - December 2025 | B24: ='Oct-Dec'!B19+'Oct-Dec'!B21 -> 10 | C24: ='Oct-Dec'!C19+'Oct-Dec'!C21 -> 119 | D24: ='Oct-Dec'!E19+'Oct-Dec'!E21 -> 357 | E24: ='Oct-Dec'!B22 -> 8 | F24: ='Oct-Dec'!C22 -> 75 | G24: ='Oct-Dec'!E22 -> 225 | H24: ='Oct-Dec'!B20 -> 48 | I24: ='Oct-Dec'!C20 -> 293 | J24: ='Oct-Dec'!E20 -> 632.5
A25: Total: | B25: =SUM(B21:B24) -> 42 | C25: =SUM(C21:C24) -> 411 | D25: =SUM(D21:D24) -> 1218 | E25: =SUM(E21:E24) -> 41 | F25: =SUM(F21:F24) -> 231 | G25: =SUM(G21:G24) -> 1083 | H25: =SUM(H21:H24) -> 217 | I25: =SUM(I21:I24) -> 1310 | J25: =SUM(J21:J24) -> 3376.3
A27: Engagement e.g. walk, presentation
A28: Quarter | B28: Total events | C28: Total number adults | D28: Total number children | E28: Awards (details below) | F28: Summary of events carried out this quarter | K28: Summary of groups engaged
A29: QTR1 January - March 2025 | B29: ='Jan-Mar'!B68 -> 33 | C29: ='Jan-Mar'!C68 -> 714 | D29: ='Jan-Mar'!D68 -> 120 | E29: ='Jan-Mar'!E68 -> 0 | F29: Our Space Award
A30: QTR2 April - June 2025 | B30: ='Apr-Jun'!B53 -> 150 | C30: ='Apr-Jun'!C53 -> 2794 | D30: ='Apr-Jun'!D53 -> 519 | E30: ='Apr-Jun'!E53 -> 0
A31: QTR3 July - September 2025 | B31: ='Jul-Sep'!B54 -> 29 | C31: ='Jul-Sep'!C54 -> 1162 | D31: ='Jul-Sep'!D54 -> 287 | E31: ='Jul-Sep'!E54 -> 0
A32: QTR4 October - December 2025 | B32: ='Oct-Dec'!B76 -> 161 | C32: ='Oct-Dec'!C76 -> 1980 | D32: ='Oct-Dec'!D76 -> 140 | E32: ='Oct-Dec'!E76 -> 16
A33: Total | B33: =SUM(B29:B32) -> 373 | C33: =SUM(C29:C32) -> 6650 | D33: =SUM(D29:D32) -> 1066 | E33: =SUM(E29:E32) -> 16
A35: Total Outputs
B36: Events | C36: Adults | D36: Children | E36: Awards
B37: =SUM(B9+B17+B33) -> 1519 | C37: =SUM(C9+C17+C33) -> 12166 | D37: =SUM(D9+D17+D33) -> 8146 | E37: =SUM(E33) -> 16
A39: Habitat/Species outputs
A40: Quarter | B40: Hedgerow (m) | C40: Loggery | D40: Bird Box | E40: Bat box | F40: Bug Hotel | G40: Trees | H40: Pond | I40: Living roof | J40: Other habitat - details on tab | K40: Locations
A41: Planning Quarter 1 (January - March 2025) | B41: ='Jan-Mar'!C154 -> 0 | C41: ='Jan-Mar'!D154 -> 0 | D41: ='Jan-Mar'!E154 -> 5 | E41: ='Jan-Mar'!F154 -> 2 | F41: ='Jan-Mar'!G154 -> 0 | G41: ='Jan-Mar'!H154 -> 39 | H41: ='Jan-Mar'!I154 -> 0 | I41: ='Jan-Mar'!J154 -> 263 | J41: ='Jan-Mar'!K154 -> 0
A42: Parks Quarter 1 (January - March 2025) | B42: ='Jan-Mar'!C141 -> 325 | C42: ='Jan-Mar'!D141 -> 7 | D42: ='Jan-Mar'!E141 -> 9 | E42: ='Jan-Mar'!F141 -> 6 | F42: ='Jan-Mar'!G141 -> 0 | G42: ='Jan-Mar'!H141 -> 53 | H42: ='Jan-Mar'!I141 -> 11 | J42: ='Jan-Mar'!J141 -> 6
A43: Planning Quarter 2 (April-June 2025) | B43: ='Apr-Jun'!C114 -> 0 | C43: ='Apr-Jun'!D114 -> 0 | D43: ='Apr-Jun'!E114 -> 5 | E43: ='Apr-Jun'!F114 -> 0 | F43: ='Apr-Jun'!G114 -> 0 | G43: ='Apr-Jun'!H114 -> 0 | H43: ='Apr-Jun'!I114 -> 0 | I43: ='Apr-Jun'!J114 -> 544 | J43: ='Apr-Jun'!K114 -> 0
A44: Parks and NR Quarter 2 (April-June 2025) | B44: ='Apr-Jun'!C100 -> 0 | C44: ='Apr-Jun'!D100 -> 1 | D44: ='Apr-Jun'!E100 -> 0 | E44: ='Apr-Jun'!F100 -> 0 | F44: ='Apr-Jun'!G100 -> 32 | G44: ='Apr-Jun'!H100 -> 0 | H44: ='Apr-Jun'!I100 -> 5 | J44: ='Apr-Jun'!J100 -> 1
A45: Planning Quarter 3 (July-September 2025) | B45: ='Jul-Sep'!C111 -> 0 | C45: ='Jul-Sep'!D111 -> 0 | D45: ='Jul-Sep'!E111 -> 0 | E45: ='Jul-Sep'!F111 -> 0 | F45: ='Jul-Sep'!G111 -> 0 | G45: ='Jul-Sep'!H111 -> 0 | H45: ='Jul-Sep'!I111 -> 0 | I45: ='Jul-Sep'!J111 -> 875 | J45: ='Jul-Sep'!K111 -> 0
A46: Parks and NR Quarter 3 (July-September 2025) | B46: ='Jul-Sep'!C95 -> 15 | C46: ='Jul-Sep'!D95 -> 5 | D46: ='Jul-Sep'!E95 -> 6 | E46: ='Jul-Sep'!F95 -> 0 | F46: ='Jul-Sep'!G95 -> 10 | G46: ='Jul-Sep'!H95 -> 0 | H46: ='Jul-Sep'!I95 -> 3 | J46: ='Jul-Sep'!J95 -> 3
...
