Workbook

Sheet Jan-Mar
A1: Lewisham Biodiversity Outputs | D1: Date: Jan-Mar 2023
C3: Demographic
A4: Organisation | B4: Total events | C4: Total number adults | D4: Total number children | E4: Number of Schools engaged | F4: Summary/Description (Please include name of schools)
A5: Environmental education
A6: Lewisham (Jess) | B6: 7 | C6: 38 | D6: 180 | E6: 3 | F6: Baring Primary School, Gordonbrock, Haseltine
A7: Mud Club, Run By Ellie Weidman | B7: 3 | C7: 77 | D7: 44 | F7: Being in Nature on the Green; bird count; nature based activities
A8: Muddy Boots @ Devonshire Road | B8: 11 | C8: 98 | D8: 167 | E8: 1 | F8: Eliot Bank
A9: Kindergarten Forest Hill | B9: 22 | C9: 132 | D9: 528 | E9: 1 | F9: Kindergarten Forest Hill
A10: TOTAL | B10: =SUM(B6:B9) -> 43 | C10: =SUM(C6:C9) -> 345 | D10: =SUM(D6:D9) -> 919 | E10: =SUM(E6:E9) -> 5
A12: Organisation | B12: Total events | C12: Total number adults | D12: Total number children | E12: Total Volunteer Hours | F12: Summary/Description
A13: Volunteer
A14: Lewisham (Jess) | B14: 8 | C14: 52 | D14: 0 | E14: 120
A15: Lewisham (James BPP) | B15: 44 | C15: 363 | D15: 4 | E15: 907.5 | F15: Woodland management and Cottage Gardening & hedging
A16: Glendale (Emily) - NG | B16: 7 | C16: 45 | D16: 1 | E16: 183
A17: Glendale (Emily) - RaP | B17: 13 | C17: 60 | D17: 0 | E17: 222
A18: Friends of Forster MP & LBL | B18: 1 | C18: 10 | D18: 0 | E18: 20 | F18: Pruning fruit trees, clearing brambles and weeding mulch circles under trees
A19: F/O Chinbrook Community Orchard | B19: 9 | C19: 12 | D19: 1 | E19: 57
A20: F/O Downham Woodland Walk | B20: 2 | C20: 14 | D20: 0 | E20: 22.5
A21: F/O Albion Millennium Green | B21: 3 | C21: 14 | D21: 0 | E21: 52 | F21: Planting 100 snowdrops along path edges in Silver Birch woodland; litter picking
A22: F/O Beckenham Place Park | B22: 7 | C22: 3 | D22: 0 | E22: 42 | F22: Working in the sensory garden
A23: F/O Brockley & Ladywell Cemeteries | B23: 2 | C23: 7 | E23: 12
A24: F/O River Pool | B24: 12 | C24: 93 | D24: 0 | E24: 4464 | F24: Work included hedge laying, hedge planting, tree transplanting, maintaining river features, unblocking the river, maintaining and improving the Vinneries pond system and wetland, building and maintaining dead hedges, litter picking, clearing abandoned camp sites, management of Japanese Knotweed, planting around the Bell Green Pond, finishing and topping up the kingfisher box, assisting with the restoration of the secondary channel in Ladywell Fields.
A25: Thames 21 | B25: 1 | C25: 24 | D25: 0 | E25: =C25*3 -> 72 | F25: Chopping back bramble and trees in the meadow behind the Bell Green Pond. Making faggot bundles to repair the berms, litter picking.
A26: F/O Ladywell Fields | B26: 9 | C26: 57 | D26: 0 | E26: 83 | F26: Sessions in the Tiny Forest, Orchard and Black poplar care. Also a session with Good Gym.
A27: TOTAL | B27: =SUM(B14:B26) -> 118 | C27: =SUM(C14:C26) -> 754 | D27: =SUM(D14:D26) -> 6 | E27: =SUM(E14:E26) -> 6257
A30: Organisation | B30: Total events | C30: Total number adults | D30: Total number children | E30: Awards | F30: Summary/Description
A31: Engagement e.g. walk, presentation
A32: F/O Chinbrook Meadows | E32: Our Space Award | F32: £2803 awarded for 'On the Wing" project - improvements in Chinbrook Meadows for pollinators and pond invertebrates
A33: F/O Beckenham Place Park | B33: 1 | C33: 11 | D33: 0 | F33: Bird walk on 18/02/23
A34: LBL - Jess & Emily | B34: 1 | C34: 20 | D34: 0 | F34: Wade with UCL Students
A35: F/O Garthorne Road | B35: 1 | C35: 29 | D35: 22 | F35: Open day
A36: F/O Chinbrook Community Orchard | B36: 2 | C36: 107 | D36: 50 | F36: Wassail (with ChART) and LBL Walk
A37: F/O BPP | B37: 1 | C37: 10 | D37: 0 | F37: Bird Walk
A38: Grove Park Community Group, Capel Manor, LBL | B38: 1 | C38: 20 | D38: 2
A39: F/O Brockley & Ladywell Cemeteries | B39: 3 | C39: 77 | D39: 0
A40: Emily - @ Dacres Wood | B40: 1 | C40: 5 | D40: 0 | F40: Talk about Amphibians & Aquatic Habitats
A41: Total | B41: =SUM(B32:B40) -> 11 | C41: =SUM(C32:C40) -> 279 | D41: =SUM(D32:D40) -> 74 | E41: =COUNTIF(E32:E40,"<>") -> 1
A43: Total Outputs
B44: Events | C44: Adults | D44: Children | E44: Awards
B45: =SUM(B10+B27+B41) -> 172 | C45: =SUM(C10+C27+C41) -> 1378 | D45: =SUM(D10+D27+D41) -> 999 | E45: =SUM(E41) -> 1
A48: Surveys | C48: Category | E48: Summary/Description
A49: Location | B49: Number | C49: Type of survey
A50: Chinbrook Allotment Orchard | B50: 1 | C50: fauna | E50: Pedro Pires survey
A51: Telegraph Hill | B51: 1 | C51: Amphibian survey | E51: As part of Nature's Gym session
A52: Ladywell Fields | B52: 3 | C52: Bird
A53: Hilly Fields | B53: 3 | C53: Bird
A54: Manor House Gardens | B54: 1 | C54: Bird
A55: BPP | B55: 2 | C55: Bird | E55: Big Garden Birdwatch, separate survey
A56: Chinbrook Meadows | B56: 2 | C56: Bird
A57: Bell Green Pond | B57: 1 | C57: Pond | E57: 3 large patches of frogspawn, 20 toads, 1 newt
A58: Brookmil Park | B58: 3 | C58: Bird
A59: Total | B59: =SUM(B50:B58) -> 17
A61: Website data | C61: Views | D61: Visits | E61: Posts published | F61: Link
A62: Nature conservation website | C62: 3143 | D62: 1097 | E62: 3 | F62: https://natureconservationlewisham.co.uk/
A63: Rivers and people website | C63: 604 | D63: 360 | E63: 4 | F63: https://riversandpeople.com/
A64: Totals | C64: =SUM(C62:C63) -> 3747 | D64: =SUM(D62:D63) -> 1457 | E64: =SUM(E62:E63) -> 7
A66: Habitat/Species outputs | C66: Category | J66: Summary/Description
A67: Location | C67: Hedge (m) | D67: Loggery | E67: Bird box | F67: Bat box | G67: Bug/bee hotel | H67: Trees | I67: Other habitat
A68: Devonshire Road | E68: 9 | J68: 16 bird boxes made by LWT volunteers, 5 in Garthorne
A69: Garthorne Road NR | D69: 2 | E69: 7 | J69: 5 of the 16 made for Dev Rd.
A70: Ladywell Fields - Holbeach Nature Reserve | D70: 1 | J70: Nature's Gym session
A71: Exford Road Allotments | E71: 10 | F71: 1 | G71: 1 | J71: 9 various bird boxes, 1 owl box - Kenneth White
A72: Silverdale Enclosure | C72: 20 | J72: hedge planted by Friends group
A73: Forster Memorial Park | C73: 15 | J73: hedge planted as part of Rewild London project
A74: Whitefield Mount | I74: 40 gorse | J74: 40 gorse planted to fill in gaps and increase gorse cover
A75: Ladywell Fields | I75: 190m2 meadow | J75: Big City Butterflies meadow creation by tiny forest (scrape and seeding)
A76: Linear Park/Bell Green Pond | C76: 2 | D76: 2 | H76: 40 | J76: Planted a hedge using trees from other areas of the park, transplanted some trees that were in the wrong place for their survival, created loggeries from trees chopped back to open up the meadow behind Bell Green Pond.
A77: Edith Nesbit Pleasure Ground | C77: 12 | J77: Gaps in the exsiting hedge planted up, and a hedge extension along the playground fence
A78: Beckenham Place Park | C78: 23 | D78: 3 | H78: 20 | I78: 12m2 living roof | J78: Hedging whips planted on fenceline with spare trees planted; Green roof on "tomorrow is built today" lake pavillion structure
A79: TOTAL | C79: =SUM(C68:C78) -> 72 | D79: =SUM(D68:D78) -> 8 | E79: =SUM(E68:E78) -> 26 | F79: =SUM(F68:F78) -> 1 | G79: =SUM(G68:G78) -> 1 | H79: =SUM(H68:H78) -> 60 | I79: =COUNTIF(I68:I78,"<>") -> 3
A81: Planning applications/documents reviewed
C82: Number
A83: Number of planning applications/documents reviewed | C83: 51
A85: Habitat/Species outputs/advice given* | C85: Category | L85: Notes
A86: Location | C86: Hedge (m) | D86: Loggery | E86: Bird box | F86: Bat box | G86: Bug hotel | H86: Trees | I86: Living roof (m2) | J86: Other habitat | K86: Advice given (species, habitats, lighting, maintenance etc.)
A87: Hereford Place - DC/22/129667 | I87: 240.1
A88: 177 Sharledoes Road -DC/23/129976 | I88: 2
A89: Our Lady and St Philip Neri Primary School - DC/23/130050 | C89: 188
A90: 30-31 Laurie Grove - DC/23/130306 | E90: 2 | F90: 1 | I90: 4
A91: TOTAL planning applications | C91: =SUM(C87:C90) -> 188 | D91: =SUM(D87:D90) -> 0 | E91: =SUM(E87:E90) -> 2 | F91: =SUM(F87:F90) -> 1 | G91: =SUM(G87:G90) -> 0 | H91: =SUM(H87:H90) -> 0 | I91: =SUM(I87:I90) -> 246.1 | J91: =COUNTIF(J87:J90,"<>") -> 0
A92: *Please note that only biodiversity enhancements that are at condition discharge phase are recorded here.

Sheet Apr-Jun
A1: Lewisham Biodiversity Outputs | D1: Date: April - June 2023
C3: Demographic
A4: Organisation | B4: Total events | C4: Total number adults | D4: Total number children | E4: Number of Schools engaged | F4: Summary/Description (Please include name of schools)
A5: Environmental education
A6: Lewisham (Jess) | B6: 12 | C6: 69 | D6: 340 | E6: 5 | F6: Beecroft Garden, Baring Primary, Ashmead Primary, St Michael's Academy, Gordonbrock
A7: Glendale (Emily Millhouse) | B7: 3 | C7: 7 | D7: 87 | E7: 1 | F7: Rushey Green
A8: F/O Garthorne Road | B8: 1 | C8: 4 | D8: 20 | E8: 0 | F8: Beavers scouts group
A9: Chinbrook Meadows Horticultural Society | B9: 2 | C9: 75 | D9: 62 | E9: 1 | F9: Marvels Lane
A10: Buckthorne Cutting | B10: 56 | C10: 30 | D10: 726
A11: TOTAL | B11: =SUM(B6:B10) -> 74 | C11: =SUM(C6:C10) -> 185 | D11: =SUM(D6:D10) -> 1235 | E11: =SUM(E6:E10) -> 7
A13: Organisation | B13: Total events | C13: Total number adults | D13: Total number children | E13: Total Volunteer Hours | F13: Summary/Description
A14: Volunteer
A15: Lewisham (Jess) | B15: 7 | C15: 61 | D15: 0 | E15: =SUM(C15*2) -> 122 | F15: Third Bridge, Goldsmiths & Nature's Gym
A16: Lewisham (James BPP) | B16: 45 | C16: 315 | D16: 3 | E16: 787.5
A17: Glendale (Emily) - NG | B17: 9 | C17: 66 | D17: 0 | E17: =SUM(C17*2) -> 132
A18: Glendale (Emily) - RaP | B18: 9 | C18: 57 | E18: 177
A19: Emily Bird Surveys with Tom & Sue | B19: 6 | C19: 4 | E19: 48
A20: F/O Forster Memorial Park | B20: 1 | C20: 16 | D20: 4 | E20: =2.5*(SUM(C20:D20)) -> 50 | F20: Woodland volunteer session as part of Rewild London project; hedge management, cutting back overhanging vegetation, wood chip
A21: Deptford Folk/Caroline Cupitt | B21: 1 | C21: 10 | E21: 20 | F21: Orchard session led by Caroline Cupitt to prune stone fruits, mulch trees
A22: Chinbrook Meadows Horticultural Society | B22: 23 | C22: 46 | D22: 1 | E22: 122 | F22: April, May, June 2 hour orchard volunteer workdays
A23: F/O Brockley & Ladywell Cemeteries | B23: 1 | C23: 3 | D23: 0 | E23: 6.25 | F23: Sycamore and Turkey Oak growth cutback
A24: FORP | B24: 16 | C24: 161 | D24: 0 | E24: 644 | F24: 14 sessions on the Pool (4 corporate groups) woodland and hedge maintenance, fallen trees, repairing and building berms, wetland maintenance, path maintenance, 3 Rivers clean-up upstream, river and park clean-up (67 bags of rubbish, 5 suitcases, 7 trolleys, 1 wheelchair).
A25: Waterlink Way of Life | B25: 2 | C25: 35 | D25: 16 | E25: 153
A26: F/O Home park | B26: 8 | C26: 18 | D26: 2 | E26: 64
A27: Buckthorne Cutting | B27: 10 | C27: 100 | D27: 6 | E27: 318
A28: F/O BPP | B28: 14 | C28: 3 | E28: 68 | F28: Working in the sensory garden
A29: F/O Albion Millenium Green | B29: 3 | C29: 5 | E29: 45
A30: Thames 21 - BPP East project | B30: 1 | C30: 6 | D30: 1 | E30: 21
A31: Thames21 (Philly) | B31: 3 | C31: 11 | D31: 1 | E31: 10 | F31: WaterBlitz and Water Quality testing
A32: TOTAL | B32: =SUM(B15:B31) -> 159 | C32: =SUM(C15:C31) -> 917 | D32: =SUM(D15:D31) -> 34 | E32: =SUM(E15:E31) -> 2787.75
A35: Organisation | B35: Total events | C35: Total number adults | D35: Total number children | E35: Awards | F35: Summary/Description
A36: Engagement e.g. walk, presentation
A37: Big City Butterflies/FO Brookmill Park | B37: 1 | F37: Butterfly ID training/walk
A38: F/O Ladywell and Brockley Cemeteries | B38: 1 | F38: nature walk on Sunday (16th April), led by Tom Moulton and Peter Robinson
A39: F/O Garthorne Road | B39: 2 | C39: 138 | D39: 27 | F39: Open day in April - Joined by Froglife & Art in Nature
A40: F/O Mayow Park | B40: 1 | C40: 40 | D40: 12 | F40: Bat walk on 21 April led by Dr Iain Boulton
A41: F/O Beckenham Place Park | B41: 1 | C41: 40 | F41: Bluebell walk
A42: F/O BPP - LBL | B42: 2 | C42: 18 | D42: 3 | F42: Dawn Chorus walk, Bat walk on 29 April
A43: LBL, Glendale, T21, Goldsmiths, Waterlink Way of Life & FoRPLP | B43: 1 | C43: 40 | D43: 60 | F43: 3RCU Opening (numbers estimated)
A44: F/O Dacres Wood | B44: 4 | C44: 389 | F44: Open Days- only have numbers and so I don't know about children/adults
A45: F/O Brockley & Ladywell Cemeteries | B45: 3 | C45: 57 | D45: 0 | F45: Guided walk of both cemeteries
A46: Buckthorne Cutting | B46: 3 | C46: 760 | D46: 160 | F46: Open Day, health and well-being session, refugee sessions
A47: Sydenham Garden (Alona) | B47: 8 | C47: 64 | F47: Welbeing nature walks round local park with 8 adults x 8 weeks
A48: Total | B48: =SUM(B37:B47) -> 27 | C48: =SUM(C37:C47) -> 1546 | D48: =SUM(D37:D47) -> 262 | E48: =COUNTIF(E39:E47,"<>") -> 0
A50: Total Outputs
B51: Events | C51: Adults | D51: Children | E51: Hours | F51: Awards
B52: =SUM(B11+B32+B48) -> 260 | C52: =SUM(C11+C32+C48) -> 2648 | D52: =SUM(D11+D32+D48) -> 1531 | E52: =E32 -> 2787.75 | F52: =SUM(E48) -> 0
A55: Surveys | C55: Category | E55: Summary/Description
A56: Location | B56: Number | C56: Type of survey
A57: Chinbrook Allotment Orchard | B57: 3 | C57: moth and other fauna | E57: Pedro Pires survey and trail camera & 1 with Nature's Gym
A58: Chinbrook Allotment Orchard | B58: 1 | C58: GenePool water survey
A59: Dacres Wood | B59: 1 | C59: GenePool water survey
A60: Verges across Lewisham | B60: 22 | C60: plant | E60: baseline vegetation survey on sites with relaxed mowing
A61: Forster Memorial Park | B61: 3 | C61: plant and veteran trees/woodland | E61: veteran tree survey, woodland condition survey and baseline as part of Rewild London project
A62: Beckenham Place Park | B62: 1 | C62: bird
A63: Ladywell Fields | B63: 3 | C63: bird
A64: Hilly Fields | B64: 3 | C64: bird
A65: Buckthorne Cutting | B65: 2 | C65: bug & woodland assessment tool
A66: Brookmill Park | B66: 3 | C66: bird
A67: Brookmill Park | B67: 1 | C67: Citizen science water quality survey using Hanna checkers | E67: One-off water quality survey done on 3rd April with 2 volunteers. Ammonia and phosphate concentrations were tested (0.05 mg/l and 0.50 mg/l, respectively, which is 'Very Good' and 'Moderate' respectively according to WFD classifications), and an RMI survey was done too (score =3).
A68: WaterBlitz | B68: 1 | C68: Catchment-wide water quality survey | E68: One-off catchment-wide water sampling event where water samples are sent off to an accredited laboratory to test for water quality parameters. This provides a snapshot of water quality around the catchment, which nicely complements the other water quality datasets we have for the catchment.
A69: Bellingham Play Park/Bell Green Pond | B69: 1 | C69: Citizen science water quality survey using Hanna checkers | E69: One-off catchment-wide water sampling event where water samples are sent off to an accredited laboratory to test for water quality parameters. This provides a snapshot of water quality around the catchment, which nicely complements the other water quality datasets we have for the catchment.
A70: Sydenham Garden roof | B70: 3 | C70: plants
A71: Total | B71: =SUM(B57:B70) -> 48
A73: Website data | C73: Views | D73: Visits | E73: Posts published | F73: Link
A74: Nature conservation website | C74: 2829 | D74: 1822 | E74: 3 | F74: https://natureconservationlewisham.co.uk/
A75: Rivers and people website | C75: 706 | D75: 402 | E75: 5 | F75: https://riversandpeople.com/
A76: Total | C76: =SUM(C74:C75) -> 3535 | D76: =SUM(D74:D75) -> 2224 | E76: =SUM(E74:E75) -> 8
A78: Habitat/Species outputs | C78: Category | J78: Summary/Description
A79: Location | C79: Hedge (m) | D79: Loggery | E79: Bird box | F79: Bat box | G79: Bug hotel | H79: Trees | I79: Other habitat
A80: Chinbrook Allotment Orchard | G80: 2 | I80: wildflower meadow scrape (c. 20m2) | J80: LBL-Big City Butterflies meadow creation in orchard (scrape and seeding)
A81: Garthorne Road NR | G81: 5 | J81: 2 bug hotels built with scouts group, 3 small one bought and installed
A82: Ladywell Fields
A83: Bell Green Pond | I83: Bramble | J83: Planted bramble (yes really!) to restrict access to an area of the pond bank to allow birds and amphibians to move safely without human interference.
A84: Linear Park | D84: 2
A85: Home Park | G85: 2 | J85: Bee hotels
A86: Beckenham Place Park East | E86: 20 | F86: 20
A87: TOTAL | C87: =SUM(C80:C86) -> 0 | D87: =SUM(D80:D86) -> 2 | E87: =SUM(E80:E86) -> 20 | F87: =SUM(F80:F86) -> 20 | G87: =SUM(G80:G86) -> 9 | H87: =SUM(H80:H86) -> 0 | I87: =COUNTIF(I80:I86, "<>") -> 2
A89: Planning applications/documents reviewed
C90: Number
A91: Number of planning applications/documents reviewed | C91: 50
A93: Habitat/Species outputs/advice given* | C93: Category | L93: Notes
A94: Location | C94: Hedge (m) | D94: Loggery | E94: Bird box | F94: Bat box | G94: Bug hotel | H94: Trees | I94: Living roof (m2) | J94: Other habitat | K94: Advice given (species, habitats, lighting, maintenance etc.)
A95: Mayow Park Warehouse - DC/22/129736 | I95: 332
A96: Tidemill School Block D - DC/23/130919 | I96: 475
A97: 56-60 Farmstead Road - DC/23/130620 | C97: 280 | D97: 2 | E97: 24 | F97: 16 | G97: 4 | H97: 16 | J97: hibernacula, 5 hedgehog highways, wildflower meadow | L97: all features in LEMP document so discharged with LEMP condition
A98: Church Grove - DC/23/130454 | I98: 50+
A99: Walsham House - DC/23/130589, DC/23/130811 | E99: 4 | F99: 2 | I99: 750
A100: 11 Perry Vale - DC/23/130606 | I100: 50
A101: Elderton Road - DC/23/131385, DC/23/131384 | E101: 2 | F101: 2 | I101: 125
A102: Deptford Wharves - DC/22/128925 | E102: 7 | F102: 2 | I102: =807+432+148 -> 1387 | J102: incl. 148m2 semi-intensive, rest biodiverse living roof, 1 peregrine, 3 black redstart, 2 swift, 1 sparrow
A103: TOTAL planning applications | C103: =SUM(C95:C102) -> 280 | D103: =SUM(D95:D102) -> 2 | E103: =SUM(E95:E102) -> 37 | F103: =SUM(F95:F102) -> 22 | G103: =SUM(G95:G102) -> 4 | H103: =SUM(H95:H102) -> 16 | I103: =SUM(I95:I102) -> 3119 | J103: =SUM(J95:J102) -> 0
A104: *Please note that only biodiversity enhancements that are at condition discharge phase are recorded here.

Sheet Jul-Sep
A1: Lewisham Biodiversity Outputs | D1: Date: July - September 2023
C3: Demographic
A4: Organisation | B4: Total events | C4: Total number adults | D4: Total number children | E4: Number of Schools engaged | F4: Summary/Description (Please include name of schools)
A5: Environmental education
A6: Lewisham (Jess) | B6: 3 | C6: 12 | D6: 69 | E6: 1 | F6: Kelvin Grove (with Emily)
A7: Friends of Chinbrook Meadows | B7: 2 | C7: 66 | D7: 110 | F7: Events held with ChART
A8: Glendale (Emily) | B8: 3 | C8: 9 | D8: 58 | E8: 1 | F8: Rushey Green
A9: TOTAL | B9: =SUM(B6:B8) -> 8 | C9: =SUM(C6:C8) -> 87 | D9: =SUM(D6:D8) -> 237 | E9: =SUM(E6:E8) -> 2
A11: Organisation | B11: Total events | C11: Total number adults | D11: Total number children | E11: Total Volunteer Hours | F11: Summary/Description
A12: Volunteer
A13: Lewisham (Jess) | B13: 6 | C13: 46 | D13: 0 | E13: 104 | F13: 3rcu sessions (with Emily) + other Nature's Gym
A14: Lewisham (James BPP) | B14: 42 | C14: 378 | D14: 0 | E14: 946
A15: Glendale (Emily) - NG | B15: 5 | C15: 36 | E15: 108
A16: Glendale (Emily) - RaP | B16: 9 | C16: 47 | E16: 141
A17: F/O Friendly Gardens | B17: 1 | C17: 7 | D17: 1 | E17: 16
A18: F/O Chinbrook Meadows | B18: 2 | C18: 9 | D18: 4 | E18: 34
A19: Lewisham (Jess) - NHS | B19: 1 | C19: 6 | D19: 0 | E19: 12 | F19: Wade with NHS
A20: F/O BLC | B20: 1 | C20: 7 | D20: 0 | E20: 7
A21: Sensory Garden BPP | B21: 16 | E21: 106 | F21: 2 - 2.5 hour sessions, 3-6 people per session.
A22: Chinbrook Community Orchard | B22: 14 | C22: 38 | D22: 1 | E22: 41.5
A23: Thames 21 (Philly) | B23: 1 | C23: 2 | E23: 1
A24: LFUG | B24: 8 | C24: 67 | D24: 2 | E24: 93.6 | F24: Tiny Forest and Orchard
A25: Thames 21 - BPP East project | B25: 4 | C25: 35 | D25: 5 | E25: 126 | F25: River cleanups, balsam bashing
A26: Healthy Rivers Project | B26: 2 | C26: 32 | D26: 0 | E26: 96 | F26: Sessions at Brookmill Park
A27: TOTAL | B27: =SUM(B13:B26) -> 112 | C27: =SUM(C13:C26) -> 710 | D27: =SUM(D13:D26) -> 13 | E27: =SUM(E13:E26) -> 1832.1
A30: Organisation | B30: Total events | C30: Total number adults | D30: Total number children | E30: Awards | F30: Summary/Description
A31: Engagement e.g. walk, presentation
A32: Friends of Garthorne Road NR | B32: 1 | C32: 25 | F32: Exit Map
A33: BPP - LBL | B33: 3 | C33: 38 | D33: 8 | F33: Bat walks
A34: BPP - Butterfly Conservation/LBL | B34: 1 | F34: Moth survey event
A35: F/O BLC | B35: 2 | C35: 329 | D35: 75 | F35: Open Day and guided walks
A36: Thames 21 (Philly) | B36: 3 | C36: 14 | D36: 0 | F36: Presentations (Eels project), Hanna testing
A37: F/O Dacres Wood | B37: 3 | C37: 340 | F37: Open Days (will include some children, but not broken down that way in report)
A38: LBL - Various Friends groups | E38: 6 London in Bloom awards | F38: Gold for Large Park - Beckenham Place Park; Gold for Large Park - Forster Memorial Park; Gold and Category Winner for Small Conservation Area - Devonshire Road Nature Reserve; Silver gilt for Small Park - Brookmill Parks; Silver gilt for Small Park - Frendsbury Gardens; Apprentice Scheme of the Year Award Winner for our apprentice scheme at Beckenham Place Park
A39: Total | B39: =SUM(B32:B38) -> 13 | C39: =SUM(C32:C38) -> 746 | D39: =SUM(D32:D38) -> 83 | E39: 6
A41: Total Outputs
B42: Events | C42: Adults | D42: Children | E42: Hours | F42: Awards
B43: =SUM(B9+B27+B39) -> 133 | C43: =SUM(C9+C27+C39) -> 1543 | D43: =SUM(D9+D27+D39) -> 333 | E43: =E27 -> 1832.1 | F43: =SUM(E39) -> 6
A46: Surveys | C46: Category | E46: Summary/Description
A47: Location | B47: Number | C47: Type of survey
A48: Burnt Ash Pond | B48: 1 | C48: Gene Pools survey
A49: Brockley & Ladywell Cemetery | B49: 13 | C49: Butterfly | E49: Weekly surveys
A50: BPP | B50: 2 | C50: Bat box survey, bird survey
A51: Various | B51: 13 | C51: MoRPh river survey | E51: Survey done by Thames21 staff to look at geomorphological features of stretches of river for the Creating a London River Bank NEIRF-funded project. This then enables us to look at the current river condition and calculate the biodiversity net gain uplift that would be created as result of a river improvement/restoration project at each site.
A52: Ladywell Fields | B52: 3 | C52: Bird
A53: Hilly Fields | B53: 3 | C53: Bird
A54: Sydenham Garden roof | B54: 3 | C54: Plant
A55: Brookmill Park | B55: 3 | C55: Bird
A56: Various | B56: 12 | C56: Riverfly
A57: Total | B57: =SUM(B48:B56) -> 53
A59: Website data | C59: Views | D59: Visits | E59: Posts published | F59: Link
A60: Nature conservation website | C60: 2920 | D60: 1883 | E60: 9 | F60: https://natureconservationlewisham.co.uk/
A61: Rivers and people website | C61: 614 | D61: 269 | E61: 10 | F61: https://riversandpeople.com/
A62: Total | C62: =SUM(C60:C61) -> 3534 | D62: =SUM(D60:D61) -> 2152 | E62: =SUM(E60:E61) -> 19
A64: Habitat/Species outputs | C64: Category | J64: Summary/Description
A65: Location | C65: Hedge (m) | D65: Loggery | E65: Bird box | F65: Bat box | G65: Bug hotel | H65: Trees | I65: Other habitat
A66: Friendly Street verges | I66: Meadow improvement | J66: planting wildflower plug plants and seeds in cleared patches
A67: Manor House Gardens | D67: 2 | G67: 7 | J67: created and installed by Nature's Gym
A68: 23 | C68: =SUM(C66:C67) -> 0 | D68: =SUM(D66:D67) -> 2 | E68: =SUM(E66:E67) -> 0 | F68: =SUM(F66:F67) -> 0 | G68: =SUM(G66:G67) -> 7 | H68: =SUM(H66:H67) -> 0 | I68: =COUNTIF(I66:I67,"<>") -> 1
A70: Planning applications/documents reviewed
C71: Number
A72: Number of planning applications/documents reviewed | C72: 34
A74: Habitat/Species outputs/advice given* | C74: Category | L74: Notes
A75: Location | C75: Hedge (m) | D75: Loggery | E75: Bird box | F75: Bat box | G75: Bug hotel | H75: hedgehog highways | I75: Trees | J75: Living roof (m2) | K75: Other habitat | L75: Advice given (species, habitats, lighting, maintenance etc.)
A76: Conington Road - DC/23/132189 | J76: =111+40.8+90.5+57.6 -> 299.9 | L76: Total for Building 2 and 3 + cycle store
A77: 19 Marischal Road - DC/23/132243 | J77: 295.51
A78: TOTAL planning applications | C78: =SUM(C76:C77) -> 0 | D78: =SUM(D76:D77) -> 0 | E78: =SUM(E76:E77) -> 0 | F78: =SUM(F76:F77) -> 0 | G78: =SUM(G76:G77) -> 0 | I78: =SUM(I76:I77) -> 0 | J78: =SUM(J76:J77) -> 595.41 | K78: =COUNTIF(K76:K77,"<>") -> 0
A79: *Please note that only biodiversity enhancements that are at condition discharge phase are recorded here.

Sheet Oct-Dec
A1: Lewisham Biodiversity Outputs | D1: Date: October - December 2023
C3: Demographic
A4: Organisation | B4: Total events | C4: Total number adults | D4: Total number children | E4: Number of Schools engaged | F4: Summary/Description (Please include name of schools)
A5: Environmental education
A6: Ema Felix - F/O Forster Memorial Park | B6: 3 | C6: 6 | D6: 90 | E6: 1 | F6: Rushey Green primary Y4, 3 sessions as part of the Rewild London project
A7: DRNR / Naomi Leake | B7: 16 | C7: 8 | D7: 45 | E7: 2 | F7: Pre - schools Little cubs and Rub a Dubs.
A8: DRNR / Naomi Leake/ Muddy Boots | B8: 36 | C8: 75 | D8: 170 | F8: Pre schoolers for outdoor education.
A9: Glendale (Emily) | B9: 4 | C9: 11 | D9: 78 | E9: 2 | F9: Turnham Academy PS & Trinity SS
A10: Creekside Education Centre | D10: 1353 | E10: 24 | F10: Annual data for CET
A11: F/O Chinbrook Community Orchard | B11: 1 | C11: 8 | D11: 24 | E11: 1 | F11: Marvels Lane
A12: TOTAL | B12: =SUM(B6:B11) -> 60 | C12: =SUM(C6:C11) -> 108 | D12: =SUM(D6:D11) -> 1760 | E12: =SUM(E6:E11) -> 30
A14: Organisation | B14: Total events | C14: Total number adults | D14: Total number children | E14: Total Volunteer Hours | F14: Summary/Description
A15: Volunteer
A16: Lewisham (Jess) | B16: 6 | C16: 49 | D16: 0 | E16: =C16*3 -> 147
A17: Lewisham (James BPP) | B17: 40 | C17: 340 | D17: 0 | E17: 850
A18: Glendale - NG | B18: 5 | C18: 46 | D18: 0 | E18: =C18*3 -> 138
A19: Glendale - RaP | B19: 10 | C19: 59 | D19: 0 | E19: =C19*3 -> 177
A20: F/O Forster Memorial Park | B20: 1 | C20: 2 | D20: 2 | E20: 4 | F20: Woodland Garden session, Rewild London project
A21: F/O Dacres Wood | B21: 1 | F21: Session with Good Gym
A22: F/O Blythe Hill | B22: 1 | C22: 30 | E22: 60 | F22: preparing areas and planting plug plants, 30 people of all ages reported but number of children needs clarifying
A23: F/O Buckthorne | B23: 18 | F23: Taken from 2023 data so not sure when they happened. Sessions from April-June data accounted for in that tab and subtracted from here to prevent double counting
A24: LFUG | B24: 2 | C24: 15 | D24: 18 | F24: 40 trees planted with 18 children from Gordonbrock. The rest of the trees planted by the Friends
A25: BPP - Sensory Garden volunteers | B25: 13 | C25: 4 | E25: 104 | F25: Approx 4 people per session of 2 hours.
A26: Ladywell Fields User Group | B26: 10 | C26: 87 | D26: 24 | E26: 161 | F26: Tiny Forest (including children from Gordonbrock) and tree planting.
A27: Friends of Brockley and Ladywell Cemetery | B27: 1 | C27: 4 | E27: 9 | F27: Bulb planting and strimmed grass removal
A28: Street Trees For Living | B28: 8 | C28: 9 | E28: 64 | F28: Street tree care (pruning, securing, weeding, litter removal)
A29: Thames 21 | B29: 3 | C29: 42 | D29: 0 | E29: 168 | F29: River restoration, woodland management, litter clearance - 17 bags of litter
A30: F/O Chinbrook Meadows | B30: 3 | C30: 38 | D30: 4 | E30: 177 | F30: Planting day with T21
A31: F/O Chinbrook Community Orchard | B31: 10 | C31: 20 | D31: 1 | E31: 122.5 | F31: Various orchard maintenance work
A32: F/O Friendly Gardens/St Johns Society | B32: 1 | C32: 19 | D32: 1 | E32: =C32*3 -> 57 | F32: Planting the new rain garden/SUDs at Thornville Street: https://st-johns-soc.org/thornville-street-rain-garden-planting-day
A33: F/O River Pool | B33: 10 | C33: 69 | D33: 0 | E33: 276 | F33: river restoration, woodland management, litter clearance, pond maintenance. 26 bags of rubbish, 2 bikes, car battery, 5 trolleys
A34: TOTAL | B34: =SUM(B16:B33) -> 143 | C34: =SUM(C16:C33) -> 833 | D34: =SUM(D16:D33) -> 50 | E34: =SUM(E16:E33) -> 2514.5
A37: Organisation | B37: Total events | C37: Total number adults | D37: Total number children | E37: Awards | F37: Summary/Description
A38: Engagement e.g. walk, presentation
A39: F/o Forster Memorial Park | B39: 1 | C39: 22 | D39: 1 | F39: Woodland walk led by Nick Bertrand
A40: BPP - LBL | B40: 4 | C40: 48 | D40: 12 | F40: Bat walks
A41: BPP - LBL | B41: 1 | C41: 9 | D41: 4 | F41: Moth trapping event
A42: LBL - Blackheath Society | B42: 1 | C42: 24 | D42: 0 | F42: annual litter pick event
A43: Creekside Education Trust - Ecology and Engagement in Deptford Creek project | B43: 18 | C43: 123 | D43: 0 | F43: Events carried out between April and November as part of project. Total numbers included this quarter retrospectively, no data on children numbers so all participants included in adults numbers.
A44: Friends of Dacres Wood | B44: 4 | C44: 206 | F44: Open Days - probably included some children but not reported.
A45: Friends of Brockley and Ladywell Cemetery | B45: 2 | C45: 40 | F45: Heritage Week & Remembrance Sunday events and walks
A46: F/O Chinbrook Community Orchard/Chinbrook Meadows/ChART | B46: 1 | C46: 130 | D46: 60 | F46: Apple Day
A47: Thames 21 - BPP East project | B47: 2 | C47: 18 | D47: 0 | F47: Bellingham Interagency engagement, Sydenham Garden guided walk
A48: Lewisham (Jess) | B48: 1 | C48: 6 | D48: 0 | F48: Presentation to Wildlfe Club at Sydenham Garden
A49: Total | B49: =SUM(B39:B48) -> 35 | C49: =SUM(C39:C48) -> 626 | D49: =SUM(D39:D48) -> 77 | E49: =COUNTIF(E38:E48,"<>") -> 0
A51: Total Outputs
B52: Events | C52: Adults | D52: Children | E52: Awards
B53: =SUM(B12+B34+B49) -> 238 | C53: =SUM(C12+C34+C49) -> 1567 | D53: =SUM(D12+D34+D49) -> 1887 | E53: =SUM(E49) -> 0
A56: Surveys | C56: Category | E56: Summary/Description
A57: Location | B57: Number | C57: Type of survey
A58: Deptford Creek - CET | B58: 16 | C58: bird | E58: as part of the Ecology and Engagement in Deptford Creek project during the year not just in quarter
A59: Deptford Creek - CET | B59: 2 | C59: flora and habitats | E59: as part of the Ecology and Engagement in Deptford Creek project during the year not just in quarter
A60: BPP | B60: 1 | C60: bird | E60: quarterly bird survey
A61: BPP | B61: 1 | C61: Moth
A62: Ladywell Fields | B62: 3 | C62: bird | E62: quarterly bird survey
A63: Hilly Fields | B63: 3 | C63: bird | E63: quarterly bird survey
A64: Friends of Brockley and Ladywell Cemetery | B64: 4 | C64: butterfly
A65: Brookmill Park | B65: 3 | C65: bird | E65: quarterly bird survey
A66: Total | B66: =SUM(B58:B65) -> 33
A69: Website data | C69: Views | D69: Visits | E69: Posts published | F69: Link
A70: Nature conservation website | C70: 2625 | D70: 1681 | E70: 4 | F70: https://natureconservationlewisham.co.uk/
A71: Rivers and people website | C71: 719 | D71: 307 | E71: 0 | F71: https://riversandpeople.com/
A72: Total | C72: =SUM(C70:C71) -> 3344 | D72: =SUM(D70:D71) -> 1988 | E72: =SUM(E70:E71) -> 4
A74: Habitat/Species outputs | C74: Category | J74: Summary/Description
A75: Location | C75: Hedge (m) | D75: Loggery | E75: Bird box | F75: Bat box | G75: Bug/bee hotel | H75: Trees | I75: Other habitat
A76: Chinbrook Meadows | I76: pollinator plants | J76: Our Space Award pollinator friendly plants planted
A77: Blythe Hill Fields | H77: 90 | I77: improving meadows and woodland meadow by plug planting | J77: Part of the Blythe Hill biodiversity plan to plant plug plants in the main meadow and a woodland edge area - BCB provided 80 whips for butterflies in the new plant circles and 10 standard trees were also planted
A78: Forster Memorial Park | H78: 15 | J78: Rewild London project
A79: Silverdale enclosure | H79: 4 | J79: disease resistant elms, Big City Butterflies
A80: Crofton Railway Community Garden | J80: KW project
A81: Manor House Gardens | D81: 3 | J81: Trinity School children with EM (Glendale)
A82: Home Park | D82: 5 | J82: Nature's Gym installed
A83: Ladywell Fields | I83: berm restoration in river | J83: Rivers and People volunteers are restoring berms in Ladywell Fields middle by the bridge
A84: Garthorne Road NR | H84: 3 | J84: local provenance oak whips planted
A85: F/O Buckthorne | C85: 150 | H85: 210
A86: Brookmill Park | H86: 10 | J86: black poplar whips by the river
A87: Thornville Street | I87: rain garden/SUDs | J87: F/O Friendly Street, St Johns Society and LBL, summary: https://st-johns-soc.org/thornville-street-rain-garden-planting-day
A88: Buckthorne Cutting NR | I88: 1 pond
A89: Ladywell Fields | H89: 182 | J89: Railway poplar (1) + extension of tiny forest (180)
A90: TOTAL | C90: =SUM(C76:C89) -> 150 | D90: =SUM(D76:D89) -> 8 | E90: =SUM(E76:E89) -> 0 | F90: =SUM(F76:F89) -> 0 | G90: =SUM(G76:G89) -> 0 | H90: =SUM(H76:H89) -> 514 | I90: =COUNTIF(I76:I89,"<>") -> 5
A92: Planning applications/documents reviewed
C93: Number
A94: Number of planning applications reviewed | C94: 55
A96: Habitat/Species outputs/advice given* | C96: Category | L96: Notes
A97: Location | C97: Hedge (m) | D97: Loggery | E97: Bird box | F97: Bat box | G97: Bug hotel | H97: Trees | I97: Living roof (m2) | J97: Other habitat | K97: Advice given (species, habitats, lighting, maintenance etc.)
A98: Tidemill School Block D - DC/23/133099 | I98: 765 | K98: with logs and boulders
A99: 375 Lewisham High Street - DC/23/133404 | I99: 48
A100: Deptford Police Station - DC/23/133163 | I100: 35
A101: 333-337 New Cross Road - DC/23/133724 | I101: 234
A102: Sedgehill Community Centre - DC/23/133868 | F102: 3
A103: TOTAL planning applications | C103: =SUM(C98:C102) -> 0 | D103: =SUM(D98:D102) -> 0 | E103: =SUM(E98:E102) -> 0 | F103: =SUM(F98:F102) -> 3 | G103: =SUM(G98:G102) -> 0 | H103: =SUM(H98:H102) -> 0 | I103: =SUM(I98:I102) -> 1082 | J103: =COUNTIF(J98:J102,"<>") -> 0
A104: *Please note that only biodiversity enhancements that are at condition discharge phase are recorded here.

Sheet Summary
A1: Lewisham Biodiversity Outputs | D1: Last updated on 23/02/24
A3: Environmental education
A4: Quarter | B4: Total events | C4: Total number adults | D4: Total number children | E4: Number of Schools engaged | F4: Summary of events carried out this quarter | K4: Summary of schools engaged
A5: QTR1 January - March 2023 | B5: ='Jan-Mar'!B10 -> 43 | C5: ='Jan-Mar'!C10 -> 345 | D5: ='Jan-Mar'!D10 -> 919 | E5: ='Jan-Mar'!E10 -> 5
A6: QTR2 April - June 2023 | B6: ='Apr-Jun'!B11 -> 74 | C6: ='Apr-Jun'!C11 -> 185 | D6: ='Apr-Jun'!D11 -> 1235 | E6: ='Apr-Jun'!E11 -> 7
A7: QTR3 July - September 2023 | B7: ='Jul-Sep'!B9 -> 8 | C7: ='Jul-Sep'!C9 -> 87 | D7: ='Jul-Sep'!D9 -> 237 | E7: ='Jul-Sep'!E9 -> 2
A8: QTR4 October - December 2023 | B8: ='Oct-Dec'!B12 -> 60 | C8: ='Oct-Dec'!C12 -> 108 | D8: ='Oct-Dec'!D12 -> 1760 | E8: ='Oct-Dec'!E12 -> 30
A9: Total | B9: =SUM(B5:B8) -> 185 | C9: =SUM(C5:C8) -> 725 | D9: =SUM(D5:D8) -> 4151 | E9: =SUM(E5:E8) -> 44
A11: Volunteer (incl. LBL)
A12: Quarter | B12: Total events | C12: Total number adults | D12: Total number children | E12: Total volunteer hours | F12: Summary of events carried out this quarter | K12: Summary of groups engaged
A13: QTR1 January - March 2023 | B13: ='Jan-Mar'!B27 -> 118 | C13: ='Jan-Mar'!C27 -> 754 | D13: ='Jan-Mar'!D27 -> 6 | E13: ='Jan-Mar'!E27 -> 6257
A14: QTR2 April - June 2023 | B14: ='Apr-Jun'!B32 -> 159 | C14: ='Apr-Jun'!C32 -> 917 | D14: ='Apr-Jun'!D32 -> 34 | E14: ='Apr-Jun'!E32 -> 2787.75
A15: QTR3 July - September 2023 | B15: ='Jul-Sep'!B27 -> 112 | C15: ='Jul-Sep'!C27 -> 710 | D15: ='Jul-Sep'!D27 -> 13 | E15: ='Jul-Sep'!E27 -> 1832.1
A16: QTR4 October - December 2023 | B16: ='Oct-Dec'!B34 -> 143 | C16: ='Oct-Dec'!C34 -> 833 | D16: ='Oct-Dec'!D34 -> 50 | E16: ='Oct-Dec'!E34 -> 2514.5
A17: Total: | B17: =SUM(B13:B16) -> 532 | C17: =SUM(C13:C16) -> 3214 | D17: =SUM(D13:D16) -> 103 | E17: =SUM(E13:E16) -> 13391.35
A19: Volunteer events - LBL (also included in above events figures so do not add to above figures)
A20: Quarter | B20: Total Nature's Gym events | C20: Total number adults (NG) | D20: Total volunteer hours | E20: Total Rivers and People events | F20: Total number adults (RaP) | G20: Total volunteer hours | H20: Total BPP events | I20: Total number adults (BPP) | J20: Total volunteer hours
A21: QTR1 January - March 2023 | B21: ='Jan-Mar'!B14+'Jan-Mar'!B16 -> 15 | C21: ='Jan-Mar'!C14+'Jan-Mar'!C16 -> 97 | D21: ='Jan-Mar'!E14+'Jan-Mar'!E16 -> 303 | E21: ='Jan-Mar'!B17 -> 13 | F21: ='Jan-Mar'!C17 -> 60 | G21: ='Jan-Mar'!E17 -> 222 | H21: ='Jan-Mar'!B15 -> 44 | I21: ='Jan-Mar'!C15 -> 363 | J21: ='Jan-Mar'!E15 -> 907.5
A22: QTR2 April - June 2023 | B22: ='Apr-Jun'!B15+'Apr-Jun'!B17 -> 16 | C22: ='Apr-Jun'!C15+'Apr-Jun'!C17 -> 127 | D22: ='Apr-Jun'!E15+'Apr-Jun'!E17 -> 254 | E22: ='Apr-Jun'!B18 -> 9 | F22: ='Apr-Jun'!C18 -> 57 | G22: ='Apr-Jun'!E18 -> 177 | H22: ='Apr-Jun'!B16 -> 45 | I22: ='Apr-Jun'!C16 -> 315 | J22: ='Apr-Jun'!E16 -> 787.5
A23: QTR3 July - September 2023 | B23: ='Jul-Sep'!B13+'Jul-Sep'!B15 -> 11 | C23: ='Jul-Sep'!C13+'Jul-Sep'!C15 -> 82 | D23: ='Jul-Sep'!E13+'Jul-Sep'!E15 -> 212 | E23: ='Jul-Sep'!B16 -> 9 | F23: ='Jul-Sep'!C16 -> 47 | G23: ='Jul-Sep'!E16 -> 141 | H23: ='Jul-Sep'!B14 -> 42 | I23: ='Jul-Sep'!C14 -> 378 | J23: ='Jul-Sep'!E14 -> 946
A24: QTR4 October - December 2023 | B24: ='Oct-Dec'!B16+'Oct-Dec'!B18 -> 11 | C24: ='Oct-Dec'!C16+'Oct-Dec'!C18 -> 95 | D24: ='Oct-Dec'!E16+'Oct-Dec'!E18 -> 285 | E24: ='Oct-Dec'!B19 -> 10 | F24: ='Oct-Dec'!C19 -> 59 | G24: ='Oct-Dec'!E19 -> 177 | H24: ='Oct-Dec'!B17 -> 40 | I24: ='Oct-Dec'!C17 -> 340 | J24: ='Oct-Dec'!E17 -> 850
A25: Total: | B25: =SUM(B21:B24) -> 53 | C25: =SUM(C21:C24) -> 401 | D25: =SUM(D21:D24) -> 1054 | E25: =SUM(E21:E24) -> 41 | F25: =SUM(F21:F24) -> 223 | G25: =SUM(G21:G24) -> 717 | H25: =SUM(H21:H24) -> 171 | I25: =SUM(I21:I24) -> 1396 | J25: =SUM(J21:J24) -> 3491
A27: Engagement e.g. walk, presentation
A28: Quarter | B28: Total events | C28: Total number adults | D28: Total number children | E28: Awards (details below) | F28: Summary of events carried out this quarter | K28: Summary of groups engaged
A29: QTR1 January - March 2023 | B29: ='Jan-Mar'!B41 -> 11 | C29: ='Jan-Mar'!C41 -> 279 | D29: ='Jan-Mar'!D41 -> 74 | E29: ='Jan-Mar'!E41 -> 1
A30: QTR2 April - June 2023 | B30: ='Apr-Jun'!B48 -> 27 | C30: ='Apr-Jun'!C48 -> 1546 | D30: ='Apr-Jun'!D48 -> 262 | E30: ='Apr-Jun'!E48 -> 0
A31: QTR3 July - September 2023 | B31: ='Jul-Sep'!B39 -> 13 | C31: ='Jul-Sep'!C39 -> 746 | D31: ='Jul-Sep'!D39 -> 83 | E31: ='Jul-Sep'!E39 -> 6
A32: QTR4 October - December 2023 | B32: ='Oct-Dec'!B49 -> 35 | C32: ='Oct-Dec'!C49 -> 626 | D32: ='Oct-Dec'!D49 -> 77 | E32: ='Oct-Dec'!E49 -> 0
A33: Total | B33: =SUM(B29:B32) -> 86 | C33: =SUM(C29:C32) -> 3197 | D33: =SUM(D29:D32) -> 496 | E33: =SUM(E29:E32) -> 7
A35: Total Outputs
B36: Events | C36: Adults | D36: Children | E36: Awards
B37: =SUM(B9+B17+B33) -> 803 | C37: =SUM(C9+C17+C33) -> 7136 | D37: =SUM(D9+D17+D33) -> 4750 | E37: =SUM(E33) -> 7
A39: Habitat/Species outputs
A40: Quarter | B40: Hedgerow (m) | C40: Loggery | D40: Bird Box | E40: Bat box | F40: Bug Hotel | G40: Trees | H40: Pond | I40: Living roof | J40: Other habitat - details on tab | K40: Locations
A41: Planning Quarter 1 (January - March 2023) | B41: ='Jan-Mar'!C91 -> 188 | C41: ='Jan-Mar'!D91 -> 0 | D41: ='Jan-Mar'!E91 -> 2 | E41: ='Jan-Mar'!F91 -> 1 | F41: ='Jan-Mar'!G91 -> 0 | G41: ='Jan-Mar'!H91 -> 0 | I41: ='Jan-Mar'!I91 -> 246.1 | J41: ='Jan-Mar'!J91 -> 0
A42: Parks Quarter 1 (January - March 2023) | B42: ='Jan-Mar'!C79 -> 72 | C42: ='Jan-Mar'!D79 -> 8 | D42: ='Jan-Mar'!E79 -> 26 | E42: ='Jan-Mar'!F79 -> 1 | F42: ='Jan-Mar'!G79 -> 1 | G42: ='Jan-Mar'!H79 -> 60 | J42: ='Jan-Mar'!I79 -> 3 | K42: meadow in Ladywell, gorse planted on Whitefield Mount, living roof by BPP lake
A43: Planning Quarter 2 (April-June 2023) | B43: ='Apr-Jun'!C103 -> 280 | C43: ='Apr-Jun'!D103 -> 2 | D43: ='Apr-Jun'!E103 -> 37 | E43: ='Apr-Jun'!F103 -> 22 | F43: ='Apr-Jun'!G103 -> 4 | G43: ='Apr-Jun'!H103 -> 16 | I43: ='Apr-Jun'!I103 -> 3119 | J43: ='Apr-Jun'!J103 -> 0
A44: Parks and NR Quarter 2 (April-June 2023) | B44: ='Apr-Jun'!C87 -> 0 | C44: ='Apr-Jun'!D87 -> 2 | D44: ='Apr-Jun'!E87 -> 20 | E44: ='Apr-Jun'!F87 -> 20 | F44: ='Apr-Jun'!G87 -> 9 | G44: ='Apr-Jun'!H87 -> 0 | J44: ='Apr-Jun'!I87 -> 2 | K44: Chinbrook allotment meadow scrape, bramble planting at Bell Green Pond
A45: Planning Quarter 3 (July-September 2023) | B45: ='Jul-Sep'!C78 -> 0 | C45: ='Jul-Sep'!D78 -> 0 | D45: ='Jul-Sep'!E78 -> 0 | E45: ='Jul-Sep'!F78 -> 0 | F45: ='Jul-Sep'!G78 -> 0 | G45: ='Jul-Sep'!I78 -> 0 | I45: ='Jul-Sep'!J78 -> 595.41 | J45: ='Jul-Sep'!K78 -> 0
A46: Parks and NR Quarter 3 (July-September 2023) | B46: ='Jul-Sep'!C68 -> 0 | C46: ='Jul-Sep'!D68 -> 2 | D46: ='Jul-Sep'!E68 -> 0 | E46: ='Jul-Sep'!F68 -> 0 | F46: ='Jul-Sep'!G68 -> 7 | G46: ='Jul-Sep'!H68 -> 0 | J46: ='Jul-Sep'!I68 -> 1 | K46: Friendly street verge improvement
A47: Planning Quarter 4 (October - December 2023) | B47: ='Oct-Dec'!C103 -> 0 | C47: ='Oct-Dec'!D103 -> 0 | D47: ='Oct-Dec'!E103 -> 0 | E47: ='Oct-Dec'!F103 -> 3 | F47: ='Oct-Dec'!G103 -> 0 | G47: ='Oct-Dec'!H103 -> 0 | I47: ='Oct-Dec'!I103 -> 1082 | J47: ='Oct-Dec'!J103 -> 0
A48: Parks and NR Quarter 4 (October - December 2023) | B48: ='Oct-Dec'!C90 -> 150 | C48: ='Oct-Dec'!D90 -> 8 | D48: ='Oct-Dec'!E90 -> 0 | E48: ='Oct-Dec'!F90 -> 0 | F48: ='Oct-Dec'!G90 -> 0 | G48: ='Oct-Dec'!H90 -> 514 | H48: 1 | J48: ='Oct-Dec'!I90 -> 5 | K48: Chinbrook Orchard pollinator plants, Blythe Hill improving meadows and woodland meadow by plug planting; Ladywell Fields berm creation in river, rain garden/SUDs creation
A49: Planning total | B49: =B41+B43+B45+B47 -> 468 | C49: =C41+C43+C45+C47 -> 2 | D49: =D41+D43+D45+D47 -> 39 | E49: =E41+E43+E45+E47 -> 26 | F49: =F41+F43+F45+F47 -> 4 | G49: =G41+G43+G45+G47 -> 16 | H49: =H41+H43+H45+H47 -> 0 | I49: =I41+I43+I45+I47 -> 5042.51 | J49: =J41+J43+J45+J47 -> 0
A50: Parks and NR total | B50: =B42+B44+B46+B48 -> 222 | C50: =C42+C44+C46+C48 -> 20 | D50: =D42+D44+D46+D48 -> 46 | E50: =E42+E44+E46+E48 -> 21 | F50: =F42+F44+F46+F48 -> 17 | G50: =G42+G44+G46+G48 -> 574 | H50: =H42+H44+H46+H48 -> 1 | I50: =I42+I44+I46+I48 -> 0 | J50: =J42+J44+J46+J48 -> 11
A51: Total | B51: =SUM(B49:B50) -> 690 | C51: =SUM(C49:C50) -> 22 | D51: =SUM(D49:D50) -> 85 | E51: =SUM(E49:E50) -> 47 | F51: =SUM(F49:F50) -> 21 | G51: =SUM(G49:G50) -> 590 | H51: =SUM(H49:H50) -> 1 | I51: =SUM(I49:I50) -> 5042.51 | J51: =SUM(J49:J50) -> 11
A53: Surveys
A54: Quarter 1 (Jan-Mar 2023)
A55: Surveys | C55: Category | E55: Summary/Description
A56: Location | B56: Number | C56: Type of survey
A57: Chinbrook Allotment Orchard | B57: 1 | C57: fauna | E57: Pedro Pires survey
A58: Telegraph Hill | B58: 1 | C58: Amphibian survey | E58: As part of Nature's Gym session
A59: Ladywell Fields | B59: 3 | C59: Bird
A60: Hilly Fields | B60: 3 | C60: Bird
A61: Manor House Gardens | B61: 1 | C61: Bird
A62: BPP | B62: 2 | C62: Bird | E62: Big Garden Birdwatch, separate survey
A63: Chinbrook Meadows | B63: 2 | C63: Bird
A64: Bell Green Pond | B64: 1 | C64: Pond | E64: 3 large patches of frogspawn, 20 toads, 1 newt
A65: Brookmil Park | B65: 3 | C65: Bird
A66: Total | B66: =SUM(B57:B65) -> 17
A68: Surveys
A69: Quarter 2 (April - June 2023)
A70: Location | B70: Number | C70: Type of survey | E70: Summary/Description
A71: Chinbrook Allotment Orchard | B71: 3 | C71: moth and other fauna | E71: Pedro Pires survey and trail camera & 1 with Nature's Gym
A72: Chinbrook Allotment Orchard | B72: 1 | C72: GenePool water survey
A73: Dacres Wood | B73: 1 | C73: GenePool water survey
A74: Verges across Lewisham | B74: 22 | C74: plant | E74: baseline vegetation survey on sites with relaxed mowing
A75: Forster Memorial Park | B75: 3 | C75: plant and veteran trees/woodland | E75: veteran tree survey, woodland condition survey and baseline as part of Rewild London project
A76: Beckenham Place Park | B76: 1 | C76: bird
A77: Ladywell Fields | B77: 3 | C77: bird
A78: Hilly Fields | B78: 3 | C78: bird
A79: Buckthorne Cutting | B79: 2 | C79: bug & woodland assessment tool
A80: Brookmill Park | B80: 3 | C80: bird
A81: Brookmill Park | B81: 1 | C81: Citizen science water quality survey using Hanna checkers | E81: One-off water quality survey done on 3rd April with 2 volunteers. Ammonia and phosphate concentrations were tested (0.05 mg/l and 0.50 mg/l, respectively, which is 'Very Good' and 'Moderate' respectively according to WFD classifications), and an RMI survey was done too (score =3).
A82: WaterBlitz | B82: 1 | C82: Catchment-wide water quality survey | E82: One-off catchment-wide water sampling event where water samples are sent off to an accredited laboratory to test for water quality parameters. This provides a snapshot of water quality around the catchment, which nicely complements the other water quality datasets we have for the catchment.
A83: Bellingham Play Park/Bell Green Pond | B83: 1 | C83: Citizen science water quality survey using Hanna checkers | E83: One-off catchment-wide water sampling event where water samples are sent off to an accredited laboratory to test for water quality parameters. This provides a snapshot of water quality around the catchment, which nicely complements the other water quality datasets we have for the catchment.
A84: Sydenham Garden roof | B84: 3 | C84: plants
A85: Total | B85: =SUM(B71:B84) -> 48
A87: Surveys
A88: Quarter 3 (July - September 2023)
A89: Location | B89: Number | C89: Type of survey | E89: Summary/Description
A90: Burnt Ash Pond | B90: 1 | C90: Gene Pools survey
A91: Brockley & Ladywell Cemetery | B91: 13 | C91: Butterfly | E91: Weekly surveys
A92: BPP | B92: 2 | C92: Bat box survey, bird survey
A93: Various | B93: 13 | C93: MoRPh river survey | E93: Survey done by Thames21 staff to look at geomorphological features of stretches of river for the Creating a London River Bank NEIRF-funded project. This then enables us to look at the current river condition and calculate the biodiversity net gain uplift that would be created as result of a river improvement/restoration project at each site.
A94: Ladywell Fields | B94: 3 | C94: Bird
A95: Hilly Fields | B95: 3 | C95: Bird
A96: Sydenham Garden roof | B96: 3 | C96: Plant
A97: Brookmill Park | B97: 3 | C97: Bird
A98: Various | B98: 12 | C98: Riverfly
A99: Total | B99: =SUM(B90:B98) -> 53
A101: Surveys
A102: Quarter 4 (October - December 2023)
A103: Location | B103: Number | C103: Type of survey | E103: Summary/Description
A104: Deptford Creek - CET | B104: 16 | C104: bird | E104: as part of the Ecology and Engagement in Deptford Creek project during the year not just in quarter
A105: Deptford Creek - CET | B105: 2 | C105: flora and habitats | E105: as part of the Ecology and Engagement in Deptford Creek project during the year not just in quarter
A106: BPP | B106: 1 | C106: bird | E106: quarterly bird survey
A107: BPP | B107: 1 | C107: Moth
A108: Ladywell Fields | B108: 3 | C108: bird | E108: quarterly bird survey
A109: Hilly Fields | B109: 3 | C109: bird | E109: quarterly bird survey
A110: Friends of Brockley and Ladywell Cemetery | B110: 4 | C110: butterfly
...
