Workbook

Sheet Jan-Mar
A1: Lewisham Biodiversity Outputs | D1: Date: Jan-Mar 2023
C3: Demographic
A4: Organisation | B4: Total events | C4: Total number adults | D4: Total number children | E4: Number of Schools engaged | F4: Summary/Description (Please include name of schools)
A5: Environmental education
A6: Lewisham (Jess) | B6: 7 | C6: 38 | D6: 180 | E6: 3 | F6: Baring Primary School, Gordonbrock, Haseltine
A7: Mud Club, Run By Ellie Weidman | B7: 3 | C7: 77 | D7: 44 | F7: Being in Nature on the Green; bird count; nature based activities
A8: Muddy Boots @ Devonshire Road | B8: 11 | C8: 98 | D8: 167 | E8: 1 | F8: Eliot Bank
A9: Kindergarten Forest Hill | B9: 22 | C9: 132 | D9: 528 | E9: 1 | F9: Kindergarten Forest Hill
A10: TOTAL | B10: =SUM(B6:B9) -> 43 | C10: =SUM(C6:C9) -> 345 | D10: =SUM(D6:D9) -> 919 | E10: =SUM(E6:E9) -> 5
A12: Organisation | B12: Total events | C12: Total number adults | D12: Total number children | E12: Total Volunteer Hours | F12: Summary/Description
A13: Volunteer
A14: Lewisham (Jess) | B14: 8 | C14: 52 | D14: 0 | E14: 120
A15: Lewisham (James BPP) | B15: 44 | C15: 363 | D15: 4 | E15: 907.5 | F15: Woodland management and Cottage Gardening & hedging
A16: Glendale (Emily) - NG | B16: 7 | C16: 45 | D16: 1 | E16: 183
A17: Glendale (Emily) - RaP | B17: 13 | C17: 60 | D17: 0 | E17: 222
A18: Friends of Forster MP & LBL | B18: 1 | C18: 10 | D18: 0 | E18: 20 | F18: Pruning fruit trees, clearing brambles and weeding mulch circles under trees
A19: F/O Chinbrook Community Orchard | B19: 9 | C19: 12 | D19: 1 | E19: 57
A20: F/O Downham Woodland Walk | B20: 2 | C20: 14 | D20: 0 | E20: 22.5
A21: F/O Albion Millennium Green | B21: 3 | C21: 14 | D21: 0 | E21: 52 | F21: Planting 100 snowdrops along path edges in Silver Birch woodland; litter picking
A22: F/O Beckenham Place Park | B22: 7 | C22: 3 | D22: 0 | E22: 42 | F22: Working in the sensory garden
A23: F/O Brockley & Ladywell Cemeteries | B23: 2 | C23: 7 | E23: 12
A24: F/O River Pool | B24: 12 | C24: 93 | D24: 0 | E24: 4464 | F24: Work included hedge laying, hedge planting, tree transplanting, maintaining river features, unblocking the river, maintaining and improving the Vinneries pond system and wetland, building and maintaining dead hedges, litter picking, clearing abandoned camp sites, management of Japanese Knotweed, planting around the Bell Green Pond, finishing and topping up the kingfisher box, assisting with the restoration of the secondary channel in Ladywell Fields.
A25: Thames 21 | B25: 1 | C25: 24 | D25: 0 | E25: =C25*3 -> 72 | F25: Chopping back bramble and trees in the meadow behind the Bell Green Pond. Making faggot bundles to repair the berms, litter picking.
A26: F/O Ladywell Fields | B26: 9 | C26: 57 | D26: 0 | E26: 83 | F26: Sessions in the Tiny Forest, Orchard and Black poplar care. Also a session with Good Gym.
A27: TOTAL | B27: =SUM(B14:B26) -> 118 | C27: =SUM(C14:C26) -> 754 | D27: =SUM(D14:D26) -> 6 | E27: =SUM(E14:E26) -> 6257
A30: Organisation | B30: Total events | C30: Total number adults | D30: Total number children | E30: Awards | F30: Summary/Description
A31: Engagement e.g. walk, presentation
A32: F/O Chinbrook Meadows | E32: Our Space Award | F32: £2803 awarded for 'On the Wing" project - improvements in Chinbrook Meadows for pollinators and pond invertebrates
A33: F/O Beckenham Place Park | B33: 1 | C33: 11 | D33: 0 | F33: Bird walk on 18/02/23
A34: LBL - Jess & Emily | B34: 1 | C34: 20 | D34: 0 | F34: Wade with UCL Students
A35: F/O Garthorne Road | B35: 1 | C35: 29 | D35: 22 | F35: Open day
A36: F/O Chinbrook Community Orchard | B36: 2 | C36: 107 | D36: 50 | F36: Wassail (with ChART) and LBL Walk
A37: F/O BPP | B37: 1 | C37: 10 | D37: 0 | F37: Bird Walk
A38: Grove Park Community Group, Capel Manor, LBL | B38: 1 | C38: 20 | D38: 2
A39: F/O Brockley & Ladywell Cemeteries | B39: 3 | C39: 77 | D39: 0
A40: Emily - @ Dacres Wood | B40: 1 | C40: 5 | D40: 0 | F40: Talk about Amphibians & Aquatic Habitats
A41: Total | B41: =SUM(B32:B40) -> 11 | C41: =SUM(C32:C40) -> 279 | D41: =SUM(D32:D40) -> 74 | E41: =COUNTIF(E32:E40,"<>") -> 1
A43: Total Outputs
B44: Events | C44: Adults | D44: Children | E44: Awards
B45: =SUM(B10+B27+B41) -> 172 | C45: =SUM(C10+C27+C41) -> 1378 | D45: =SUM(D10+D27+D41) -> 999 | E45: =SUM(E41) -> 1
...

Sheet Apr-Jun
A1: Lewisham Biodiversity Outputs | D1: Date: April - June 2023
C3: Demographic
A4: Organisation | B4: Total events | C4: Total number adults | D4: Total number children | E4: Number of Schools engaged | F4: Summary/Description (Please include name of schools)
A5: Environmental education
A6: Lewisham (Jess) | B6: 12 | C6: 69 | D6: 340 | E6: 5 | F6: Beecroft Garden, Baring Primary, Ashmead Primary, St Michael's Academy, Gordonbrock
A7: Glendale (Emily Millhouse) | B7: 3 | C7: 7 | D7: 87 | E7: 1 | F7: Rushey Green
A8: F/O Garthorne Road | B8: 1 | C8: 4 | D8: 20 | E8: 0 | F8: Beavers scouts group
A9: Chinbrook Meadows Horticultural Society | B9: 2 | C9: 75 | D9: 62 | E9: 1 | F9: Marvels Lane
A10: Buckthorne Cutting | B10: 56 | C10: 30 | D10: 726
A11: TOTAL | B11: =SUM(B6:B10) -> 74 | C11: =SUM(C6:C10) -> 185 | D11: =SUM(D6:D10) -> 1235 | E11: =SUM(E6:E10) -> 7
A13: Organisation | B13: Total events | C13: Total number adults | D13: Total number children | E13: Total Volunteer Hours | F13: Summary/Description
A14: Volunteer
A15: Lewisham (Jess) | B15: 7 | C15: 61 | D15: 0 | E15: =SUM(C15*2) -> 122 | F15: Third Bridge, Goldsmiths & Nature's Gym
A16: Lewisham (James BPP) | B16: 45 | C16: 315 | D16: 3 | E16: 787.5
A17: Glendale (Emily) - NG | B17: 9 | C17: 66 | D17: 0 | E17: =SUM(C17*2) -> 132
A18: Glendale (Emily) - RaP | B18: 9 | C18: 57 | E18: 177
A19: Emily Bird Surveys with Tom & Sue | B19: 6 | C19: 4 | E19: 48
A20: F/O Forster Memorial Park | B20: 1 | C20: 16 | D20: 4 | E20: =2.5*(SUM(C20:D20)) -> 50 | F20: Woodland volunteer session as part of Rewild London project; hedge management, cutting back overhanging vegetation, wood chip
A21: Deptford Folk/Caroline Cupitt | B21: 1 | C21: 10 | E21: 20 | F21: Orchard session led by Caroline Cupitt to prune stone fruits, mulch trees
A22: Chinbrook Meadows Horticultural Society | B22: 23 | C22: 46 | D22: 1 | E22: 122 | F22: April, May, June 2 hour orchard volunteer workdays
A23: F/O Brockley & Ladywell Cemeteries | B23: 1 | C23: 3 | D23: 0 | E23: 6.25 | F23: Sycamore and Turkey Oak growth cutback
A24: FORP | B24: 16 | C24: 161 | D24: 0 | E24: 644 | F24: 14 sessions on the Pool (4 corporate groups) woodland and hedge maintenance, fallen trees, repairing and building berms, wetland maintenance, path maintenance, 3 Rivers clean-up upstream, river and park clean-up (67 bags of rubbish, 5 suitcases, 7 trolleys, 1 wheelchair).
A25: Waterlink Way of Life | B25: 2 | C25: 35 | D25: 16 | E25: 153
A26: F/O Home park | B26: 8 | C26: 18 | D26: 2 | E26: 64
A27: Buckthorne Cutting | B27: 10 | C27: 100 | D27: 6 | E27: 318
A28: F/O BPP | B28: 14 | C28: 3 | E28: 68 | F28: Working in the sensory garden
A29: F/O Albion Millenium Green | B29: 3 | C29: 5 | E29: 45
A30: Thames 21 - BPP East project | B30: 1 | C30: 6 | D30: 1 | E30: 21
A31: Thames21 (Philly) | B31: 3 | C31: 11 | D31: 1 | E31: 10 | F31: WaterBlitz and Water Quality testing
A32: TOTAL | B32: =SUM(B15:B31) -> 159 | C32: =SUM(C15:C31) -> 917 | D32: =SUM(D15:D31) -> 34 | E32: =SUM(E15:E31) -> 2787.75
A35: Organisation | B35: Total events | C35: Total number adults | D35: Total number children | E35: Awards | F35: Summary/Description
A36: Engagement e.g. walk, presentation
A37: Big City Butterflies/FO Brookmill Park | B37: 1 | F37: Butterfly ID training/walk
A38: F/O Ladywell and Brockley Cemeteries | B38: 1 | F38: nature walk on Sunday (16th April), led by Tom Moulton and Peter Robinson
A39: F/O Garthorne Road | B39: 2 | C39: 138 | D39: 27 | F39: Open day in April - Joined by Froglife & Art in Nature
A40: F/O Mayow Park | B40: 1 | C40: 40 | D40: 12 | F40: Bat walk on 21 April led by Dr Iain Boulton
A41: F/O Beckenham Place Park | B41: 1 | C41: 40 | F41: Bluebell walk
A42: F/O BPP - LBL | B42: 2 | C42: 18 | D42: 3 | F42: Dawn Chorus walk, Bat walk on 29 April
A43: LBL, Glendale, T21, Goldsmiths, Waterlink Way of Life & FoRPLP | B43: 1 | C43: 40 | D43: 60 | F43: 3RCU Opening (numbers estimated)
A44: F/O Dacres Wood | B44: 4 | C44: 389 | F44: Open Days- only have numbers and so I don't know about children/adults
...

Sheet Jul-Sep
A1: Lewisham Biodiversity Outputs | D1: Date: July - September 2023
C3: Demographic
A4: Organisation | B4: Total events | C4: Total number adults | D4: Total number children | E4: Number of Schools engaged | F4: Summary/Description (Please include name of schools)
A5: Environmental education
A6: Lewisham (Jess) | B6: 3 | C6: 12 | D6: 69 | E6: 1 | F6: Kelvin Grove (with Emily)
A7: Friends of Chinbrook Meadows | B7: 2 | C7: 66 | D7: 110 | F7: Events held with ChART
A8: Glendale (Emily) | B8: 3 | C8: 9 | D8: 58 | E8: 1 | F8: Rushey Green
A9: TOTAL | B9: =SUM(B6:B8) -> 8 | C9: =SUM(C6:C8) -> 87 | D9: =SUM(D6:D8) -> 237 | E9: =SUM(E6:E8) -> 2
A11: Organisation | B11: Total events | C11: Total number adults | D11: Total number children | E11: Total Volunteer Hours | F11: Summary/Description
A12: Volunteer
A13: Lewisham (Jess) | B13: 6 | C13: 46 | D13: 0 | E13: 104 | F13: 3rcu sessions (with Emily) + other Nature's Gym
A14: Lewisham (James BPP) | B14: 42 | C14: 378 | D14: 0 | E14: 946
A15: Glendale (Emily) - NG | B15: 5 | C15: 36 | E15: 108
A16: Glendale (Emily) - RaP | B16: 9 | C16: 47 | E16: 141
A17: F/O Friendly Gardens | B17: 1 | C17: 7 | D17: 1 | E17: 16
A18: F/O Chinbrook Meadows | B18: 2 | C18: 9 | D18: 4 | E18: 34
A19: Lewisham (Jess) - NHS | B19: 1 | C19: 6 | D19: 0 | E19: 12 | F19: Wade with NHS
A20: F/O BLC | B20: 1 | C20: 7 | D20: 0 | E20: 7
A21: Sensory Garden BPP | B21: 16 | E21: 106 | F21: 2 - 2.5 hour sessions, 3-6 people per session.
A22: Chinbrook Community Orchard | B22: 14 | C22: 38 | D22: 1 | E22: 41.5
A23: Thames 21 (Philly) | B23: 1 | C23: 2 | E23: 1
A24: LFUG | B24: 8 | C24: 67 | D24: 2 | E24: 93.6 | F24: Tiny Forest and Orchard
A25: Thames 21 - BPP East project | B25: 4 | C25: 35 | D25: 5 | E25: 126 | F25: River cleanups, balsam bashing
A26: Healthy Rivers Project | B26: 2 | C26: 32 | D26: 0 | E26: 96 | F26: Sessions at Brookmill Park
A27: TOTAL | B27: =SUM(B13:B26) -> 112 | C27: =SUM(C13:C26) -> 710 | D27: =SUM(D13:D26) -> 13 | E27: =SUM(E13:E26) -> 1832.1
A30: Organisation | B30: Total events | C30: Total number adults | D30: Total number children | E30: Awards | F30: Summary/Description
A31: Engagement e.g. walk, presentation
A32: Friends of Garthorne Road NR | B32: 1 | C32: 25 | F32: Exit Map
A33: BPP - LBL | B33: 3 | C33: 38 | D33: 8 | F33: Bat walks
A34: BPP - Butterfly Conservation/LBL | B34: 1 | F34: Moth survey event
A35: F/O BLC | B35: 2 | C35: 329 | D35: 75 | F35: Open Day and guided walks
A36: Thames 21 (Philly) | B36: 3 | C36: 14 | D36: 0 | F36: Presentations (Eels project), Hanna testing
A37: F/O Dacres Wood | B37: 3 | C37: 340 | F37: Open Days (will include some children, but not broken down that way in report)
A38: LBL - Various Friends groups | E38: 6 London in Bloom awards | F38: Gold for Large Park - Beckenham Place Park; Gold for Large Park - Forster Memorial Park; Gold and Category Winner for Small Conservation Area - Devonshire Road Nature Reserve; Silver gilt for Small Park - Brookmill Parks; Silver gilt for Small Park - Frendsbury Gardens; Apprentice Scheme of the Year Award Winner for our apprentice scheme at Beckenham Place Park
A39: Total | B39: =SUM(B32:B38) -> 13 | C39: =SUM(C32:C38) -> 746 | D39: =SUM(D32:D38) -> 83 | E39: 6
A41: Total Outputs
B42: Events | C42: Adults | D42: Children | E42: Hours | F42: Awards
B43: =SUM(B9+B27+B39) -> 133 | C43: =SUM(C9+C27+C39) -> 1543 | D43: =SUM(D9+D27+D39) -> 333 | E43: =E27 -> 1832.1 | F43: =SUM(E39) -> 6
A46: Surveys | C46: Category | E46: Summary/Description
A47: Location | B47: Number | C47: Type of survey
...

Sheet Oct-Dec
A1: Lewisham Biodiversity Outputs | D1: Date: October - December 2023
C3: Demographic
A4: Organisation | B4: Total events | C4: Total number adults | D4: Total number children | E4: Number of Schools engaged | F4: Summary/Description (Please include name of schools)
A5: Environmental education
A6: Ema Felix - F/O Forster Memorial Park | B6: 3 | C6: 6 | D6: 90 | E6: 1 | F6: Rushey Green primary Y4, 3 sessions as part of the Rewild London project
A7: DRNR / Naomi Leake | B7: 16 | C7: 8 | D7: 45 | E7: 2 | F7: Pre - schools Little cubs and Rub a Dubs.
A8: DRNR / Naomi Leake/ Muddy Boots | B8: 36 | C8: 75 | D8: 170 | F8: Pre schoolers for outdoor education.
A9: Glendale (Emily) | B9: 4 | C9: 11 | D9: 78 | E9: 2 | F9: Turnham Academy PS & Trinity SS
A10: Creekside Education Centre | D10: 1353 | E10: 24 | F10: Annual data for CET
A11: F/O Chinbrook Community Orchard | B11: 1 | C11: 8 | D11: 24 | E11: 1 | F11: Marvels Lane
A12: TOTAL | B12: =SUM(B6:B11) -> 60 | C12: =SUM(C6:C11) -> 108 | D12: =SUM(D6:D11) -> 1760 | E12: =SUM(E6:E11) -> 30
A14: Organisation | B14: Total events | C14: Total number adults | D14: Total number children | E14: Total Volunteer Hours | F14: Summary/Description
A15: Volunteer
A16: Lewisham (Jess) | B16: 6 | C16: 49 | D16: 0 | E16: =C16*3 -> 147
A17: Lewisham (James BPP) | B17: 40 | C17: 340 | D17: 0 | E17: 850
A18: Glendale - NG | B18: 5 | C18: 46 | D18: 0 | E18: =C18*3 -> 138
A19: Glendale - RaP | B19: 10 | C19: 59 | D19: 0 | E19: =C19*3 -> 177
A20: F/O Forster Memorial Park | B20: 1 | C20: 2 | D20: 2 | E20: 4 | F20: Woodland Garden session, Rewild London project
A21: F/O Dacres Wood | B21: 1 | F21: Session with Good Gym
A22: F/O Blythe Hill | B22: 1 | C22: 30 | E22: 60 | F22: preparing areas and planting plug plants, 30 people of all ages reported but number of children needs clarifying
A23: F/O Buckthorne | B23: 18 | F23: Taken from 2023 data so not sure when they happened. Sessions from April-June data accounted for in that tab and subtracted from here to prevent double counting
A24: LFUG | B24: 2 | C24: 15 | D24: 18 | F24: 40 trees planted with 18 children from Gordonbrock. The rest of the trees planted by the Friends
A25: BPP - Sensory Garden volunteers | B25: 13 | C25: 4 | E25: 104 | F25: Approx 4 people per session of 2 hours.
A26: Ladywell Fields User Group | B26: 10 | C26: 87 | D26: 24 | E26: 161 | F26: Tiny Forest (including children from Gordonbrock) and tree planting.
A27: Friends of Brockley and Ladywell Cemetery | B27: 1 | C27: 4 | E27: 9 | F27: Bulb planting and strimmed grass removal
A28: Street Trees For Living | B28: 8 | C28: 9 | E28: 64 | F28: Street tree care (pruning, securing, weeding, litter removal)
A29: Thames 21 | B29: 3 | C29: 42 | D29: 0 | E29: 168 | F29: River restoration, woodland management, litter clearance - 17 bags of litter
A30: F/O Chinbrook Meadows | B30: 3 | C30: 38 | D30: 4 | E30: 177 | F30: Planting day with T21
A31: F/O Chinbrook Community Orchard | B31: 10 | C31: 20 | D31: 1 | E31: 122.5 | F31: Various orchard maintenance work
A32: F/O Friendly Gardens/St Johns Society | B32: 1 | C32: 19 | D32: 1 | E32: =C32*3 -> 57 | F32: Planting the new rain garden/SUDs at Thornville Street: https://st-johns-soc.org/thornville-street-rain-garden-planting-day
A33: F/O River Pool | B33: 10 | C33: 69 | D33: 0 | E33: 276 | F33: river restoration, woodland management, litter clearance, pond maintenance. 26 bags of rubbish, 2 bikes, car battery, 5 trolleys
A34: TOTAL | B34: =SUM(B16:B33) -> 143 | C34: =SUM(C16:C33) -> 833 | D34: =SUM(D16:D33) -> 50 | E34: =SUM(E16:E33) -> 2514.5
A37: Organisation | B37: Total events | C37: Total number adults | D37: Total number children | E37: Awards | F37: Summary/Description
A38: Engagement e.g. walk, presentation
A39: F/o Forster Memorial Park | B39: 1 | C39: 22 | D39: 1 | F39: Woodland walk led by Nick Bertrand
A40: BPP - LBL | B40: 4 | C40: 48 | D40: 12 | F40: Bat walks
A41: BPP - LBL | B41: 1 | C41: 9 | D41: 4 | F41: Moth trapping event
A42: LBL - Blackheath Society | B42: 1 | C42: 24 | D42: 0 | F42: annual litter pick event
A43: Creekside Education Trust - Ecology and Engagement in Deptford Creek project | B43: 18 | C43: 123 | D43: 0 | F43: Events carried out between April and November as part of project. Total numbers included this quarter retrospectively, no data on children numbers so all participants included in adults numbers.
A44: Friends of Dacres Wood | B44: 4 | C44: 206 | F44: Open Days - probably included some children but not reported.
...

Sheet Summary
A1: Lewisham Biodiversity Outputs | D1: Last updated on 23/02/24
A3: Environmental education
A4: Quarter | B4: Total events | C4: Total number adults | D4: Total number children | E4: Number of Schools engaged | F4: Summary of events carried out this quarter | K4: Summary of schools engaged
A5: QTR1 January - March 2023 | B5: ='Jan-Mar'!B10 -> 43 | C5: ='Jan-Mar'!C10 -> 345 | D5: ='Jan-Mar'!D10 -> 919 | E5: ='Jan-Mar'!E10 -> 5
A6: QTR2 April - June 2023 | B6: ='Apr-Jun'!B11 -> 74 | C6: ='Apr-Jun'!C11 -> 185 | D6: ='Apr-Jun'!D11 -> 1235 | E6: ='Apr-Jun'!E11 -> 7
A7: QTR3 July - September 2023 | B7: ='Jul-Sep'!B9 -> 8 | C7: ='Jul-Sep'!C9 -> 87 | D7: ='Jul-Sep'!D9 -> 237 | E7: ='Jul-Sep'!E9 -> 2
A8: QTR4 October - December 2023 | B8: ='Oct-Dec'!B12 -> 60 | C8: ='Oct-Dec'!C12 -> 108 | D8: ='Oct-Dec'!D12 -> 1760 | E8: ='Oct-Dec'!E12 -> 30
A9: Total | B9: =SUM(B5:B8) -> 185 | C9: =SUM(C5:C8) -> 725 | D9: =SUM(D5:D8) -> 4151 | E9: =SUM(E5:E8) -> 44
A11: Volunteer (incl. LBL)
A12: Quarter | B12: Total events | C12: Total number adults | D12: Total number children | E12: Total volunteer hours | F12: Summary of events carried out this quarter | K12: Summary of groups engaged
A13: QTR1 January - March 2023 | B13: ='Jan-Mar'!B27 -> 118 | C13: ='Jan-Mar'!C27 -> 754 | D13: ='Jan-Mar'!D27 -> 6 | E13: ='Jan-Mar'!E27 -> 6257
A14: QTR2 April - June 2023 | B14: ='Apr-Jun'!B32 -> 159 | C14: ='Apr-Jun'!C32 -> 917 | D14: ='Apr-Jun'!D32 -> 34 | E14: ='Apr-Jun'!E32 -> 2787.75
A15: QTR3 July - September 2023 | B15: ='Jul-Sep'!B27 -> 112 | C15: ='Jul-Sep'!C27 -> 710 | D15: ='Jul-Sep'!D27 -> 13 | E15: ='Jul-Sep'!E27 -> 1832.1
A16: QTR4 October - December 2023 | B16: ='Oct-Dec'!B34 -> 143 | C16: ='Oct-Dec'!C34 -> 833 | D16: ='Oct-Dec'!D34 -> 50 | E16: ='Oct-Dec'!E34 -> 2514.5
A17: Total: | B17: =SUM(B13:B16) -> 532 | C17: =SUM(C13:C16) -> 3214 | D17: =SUM(D13:D16) -> 103 | E17: =SUM(E13:E16) -> 13391.35
A19: Volunteer events - LBL (also included in above events figures so do not add to above figures)
A20: Quarter | B20: Total Nature's Gym events | C20: Total number adults (NG) | D20: Total volunteer hours | E20: Total Rivers and People events | F20: Total number adults (RaP) | G20: Total volunteer hours | H20: Total BPP events | I20: Total number adults (BPP) | J20: Total volunteer hours
A21: QTR1 January - March 2023 | B21: ='Jan-Mar'!B14+'Jan-Mar'!B16 -> 15 | C21: ='Jan-Mar'!C14+'Jan-Mar'!C16 -> 97 | D21: ='Jan-Mar'!E14+'Jan-Mar'!E16 -> 303 | E21: ='Jan-Mar'!B17 -> 13 | F21: ='Jan-Mar'!C17 -> 60 | G21: ='Jan-Mar'!E17 -> 222 | H21: ='Jan-Mar'!B15 -> 44 | I21: ='Jan-Mar'!C15 -> 363 | J21: ='Jan-Mar'!E15 -> 907.5
A22: QTR2 April - June 2023 | B22: ='Apr-Jun'!B15+'Apr-Jun'!B17 -> 16 | C22: ='Apr-Jun'!C15+'Apr-Jun'!C17 -> 127 | D22: ='Apr-Jun'!E15+'Apr-Jun'!E17 -> 254 | E22: ='Apr-Jun'!B18 -> 9 | F22: ='Apr-Jun'!C18 -> 57 | G22: ='Apr-Jun'!E18 -> 177 | H22: ='Apr-Jun'!B16 -> 45 | I22: ='Apr-Jun'!C16 -> 315 | J22: ='Apr-Jun'!E16 -> 787.5
A23: QTR3 July - September 2023 | B23: ='Jul-Sep'!B13+'Jul-Sep'!B15 -> 11 | C23: ='Jul-Sep'!C13+'Jul-Sep'!C15 -> 82 | D23: ='Jul-Sep'!E13+'Jul-Sep'!E15 -> 212 | E23: ='Jul-Sep'!B16 -> 9 | F23: ='Jul-Sep'!C16 -> 47 | G23: ='Jul-Sep'!E16 -> 141 | H23: ='Jul-Sep'!B14 -> 42 | I23: ='Jul-Sep'!C14 -> 378 | J23: ='Jul-Sep'!E14 -> 946
A24: QTR4 October - December 2023 | B24: ='Oct-Dec'!B16+'Oct-Dec'!B18 -> 11 | C24: ='Oct-Dec'!C16+'Oct-Dec'!C18 -> 95 | D24: ='Oct-Dec'!E16+'Oct-Dec'!E18 -> 285 | E24: ='Oct-Dec'!B19 -> 10 | F24: ='Oct-Dec'!C19 -> 59 | G24: ='Oct-Dec'!E19 -> 177 | H24: ='Oct-Dec'!B17 -> 40 | I24: ='Oct-Dec'!C17 -> 340 | J24: ='Oct-Dec'!E17 -> 850
A25: Total: | B25: =SUM(B21:B24) -> 53 | C25: =SUM(C21:C24) -> 401 | D25: =SUM(D21:D24) -> 1054 | E25: =SUM(E21:E24) -> 41 | F25: =SUM(F21:F24) -> 223 | G25: =SUM(G21:G24) -> 717 | H25: =SUM(H21:H24) -> 171 | I25: =SUM(I21:I24) -> 1396 | J25: =SUM(J21:J24) -> 3491
A27: Engagement e.g. walk, presentation
A28: Quarter | B28: Total events | C28: Total number adults | D28: Total number children | E28: Awards (details below) | F28: Summary of events carried out this quarter | K28: Summary of groups engaged
A29: QTR1 January - March 2023 | B29: ='Jan-Mar'!B41 -> 11 | C29: ='Jan-Mar'!C41 -> 279 | D29: ='Jan-Mar'!D41 -> 74 | E29: ='Jan-Mar'!E41 -> 1
A30: QTR2 April - June 2023 | B30: ='Apr-Jun'!B48 -> 27 | C30: ='Apr-Jun'!C48 -> 1546 | D30: ='Apr-Jun'!D48 -> 262 | E30: ='Apr-Jun'!E48 -> 0
A31: QTR3 July - September 2023 | B31: ='Jul-Sep'!B39 -> 13 | C31: ='Jul-Sep'!C39 -> 746 | D31: ='Jul-Sep'!D39 -> 83 | E31: ='Jul-Sep'!E39 -> 6
A32: QTR4 October - December 2023 | B32: ='Oct-Dec'!B49 -> 35 | C32: ='Oct-Dec'!C49 -> 626 | D32: ='Oct-Dec'!D49 -> 77 | E32: ='Oct-Dec'!E49 -> 0
A33: Total | B33: =SUM(B29:B32) -> 86 | C33: =SUM(C29:C32) -> 3197 | D33: =SUM(D29:D32) -> 496 | E33: =SUM(E29:E32) -> 7
A35: Total Outputs
B36: Events | C36: Adults | D36: Children | E36: Awards
B37: =SUM(B9+B17+B33) -> 803 | C37: =SUM(C9+C17+C33) -> 7136 | D37: =SUM(D9+D17+D33) -> 4750 | E37: =SUM(E33) -> 7
A39: Habitat/Species outputs
A40: Quarter | B40: Hedgerow (m) | C40: Loggery | D40: Bird Box | E40: Bat box | F40: Bug Hotel | G40: Trees | H40: Pond | I40: Living roof | J40: Other habitat - details on tab | K40: Locations
A41: Planning Quarter 1 (January - March 2023) | B41: ='Jan-Mar'!C91 -> 188 | C41: ='Jan-Mar'!D91 -> 0 | D41: ='Jan-Mar'!E91 -> 2 | E41: ='Jan-Mar'!F91 -> 1 | F41: ='Jan-Mar'!G91 -> 0 | G41: ='Jan-Mar'!H91 -> 0 | I41: ='Jan-Mar'!I91 -> 246.1 | J41: ='Jan-Mar'!J91 -> 0
A42: Parks Quarter 1 (January - March 2023) | B42: ='Jan-Mar'!C79 -> 72 | C42: ='Jan-Mar'!D79 -> 8 | D42: ='Jan-Mar'!E79 -> 26 | E42: ='Jan-Mar'!F79 -> 1 | F42: ='Jan-Mar'!G79 -> 1 | G42: ='Jan-Mar'!H79 -> 60 | J42: ='Jan-Mar'!I79 -> 3 | K42: meadow in Ladywell, gorse planted on Whitefield Mount, living roof by BPP lake
A43: Planning Quarter 2 (April-June 2023) | B43: ='Apr-Jun'!C103 -> 280 | C43: ='Apr-Jun'!D103 -> 2 | D43: ='Apr-Jun'!E103 -> 37 | E43: ='Apr-Jun'!F103 -> 22 | F43: ='Apr-Jun'!G103 -> 4 | G43: ='Apr-Jun'!H103 -> 16 | I43: ='Apr-Jun'!I103 -> 3119 | J43: ='Apr-Jun'!J103 -> 0
A44: Parks and NR Quarter 2 (April-June 2023) | B44: ='Apr-Jun'!C87 -> 0 | C44: ='Apr-Jun'!D87 -> 2 | D44: ='Apr-Jun'!E87 -> 20 | E44: ='Apr-Jun'!F87 -> 20 | F44: ='Apr-Jun'!G87 -> 9 | G44: ='Apr-Jun'!H87 -> 0 | J44: ='Apr-Jun'!I87 -> 2 | K44: Chinbrook allotment meadow scrape, bramble planting at Bell Green Pond
A45: Planning Quarter 3 (July-September 2023) | B45: ='Jul-Sep'!C78 -> 0 | C45: ='Jul-Sep'!D78 -> 0 | D45: ='Jul-Sep'!E78 -> 0 | E45: ='Jul-Sep'!F78 -> 0 | F45: ='Jul-Sep'!G78 -> 0 | G45: ='Jul-Sep'!I78 -> 0 | I45: ='Jul-Sep'!J78 -> 595.41 | J45: ='Jul-Sep'!K78 -> 0
A46: Parks and NR Quarter 3 (July-September 2023) | B46: ='Jul-Sep'!C68 -> 0 | C46: ='Jul-Sep'!D68 -> 2 | D46: ='Jul-Sep'!E68 -> 0 | E46: ='Jul-Sep'!F68 -> 0 | F46: ='Jul-Sep'!G68 -> 7 | G46: ='Jul-Sep'!H68 -> 0 | J46: ='Jul-Sep'!I68 -> 1 | K46: Friendly street verge improvement
...
