Workbook

Sheet Jan-Mar
A1: Lewisham Biodiversity Outputs | D1: Date: Jan-Mar 2022
C3: Demographic
A4: Organisation | B4: Total events | C4: Total number adults | D4: Total number children | E4: Summary/Description
A5: Environmental education
A6: LBL - F/O Ladywell Fields - Good Shepherd School | B6: 1 | C6: 2 | D6: 11 | E6: orchard planting session with presentation by Caroline Cupitt on planting, pruning and managing orchard trees
A7: Robert Cole - Glendale | B7: 2 | C7: 20 | D7: 0 | E7: 2 sessions of hedgelaying training in Ladywell Fields
A8: Lucas Vale School (Lawrence) | B8: 1 | C8: 4 | D8: 20 | E8: Citizen Science, RMI Sampling
A9: SD Learning (Lawrence) | B9: 1 | C9: 3 | D9: 12 | E9: Citizen Science, RMI Sampling
A10: UCL (Lawrence) | B10: 2 | C10: 43 | D10: 0 | E10: River wade for UCL EPS module
A11: F/O RPLP | B11: 3 | C11: 12 | D11: 75 | E11: Sampling for invertebrates and talks about river restoration.
A12: Sydenham Garden | B12: 1 | C12: 6 | D12: 0 | E12: Wild walks club in Mayow Park- look for signs of spring
A13: Lewisham - Lucy Walker-Mitchell (BPP) | B13: 2 | C13: 20 | D13: 10 | E13: Woodland walk and Sweet pea planting workshop for children , and kokedama workshop in the community garden for adults.
A14: Judith Watling (Glendale) | B14: 1 | C14: 3 | D14: 27
A15: TOTAL | B15: =SUM(B6:B14) -> 14 | C15: =SUM(C6:C14) -> 113 | D15: =SUM(D6:D14) -> 155
A17: Organisation | B17: Total events | C17: Total number adults | D17: Total number children | E17: Estimated total vol hours (2h/adult) | F17: Summary/Description
A18: Volunteer
A19: F/O Beckenham Place Park | B19: 6 | C19: 8 | D19: 0 | E19: =B19*C19*2 -> 96 | F19: 2h sessions, 96h
A20: Brookmill Park Clean Up | B20: 2 | C20: 38 | D20: 2 | E20: =C20*2 -> 76 | F20: Ravensbourne river clean up
A21: Lewisham - Lucy Walker-Mitchell (BPP) | B21: 39 | C21: 390 | D21: 0 | E21: =C21*2 -> 780 | F21: Regular 2 hour woodland management and gardening volunteering in BPP
A22: Lewisham - Jess Kyle | B22: 7 | C22: 69 | D22: 0 | E22: =C22*3 -> 207 | F22: Nature's Gym
A23: F/O Albion Millennium Green | B23: 3 | C23: 14 | D23: 4 | E23: =C23*2 -> 28 | F23: 3 bird boxes erected on mature trees on the Green; Noticeboards updated, Green Flag 21/22 displayed.
A24: F/O Brockley & Ladywell Cemeteries | B24: 3 | C24: 11 | D24: 0 | E24: =C24*2 -> 22
A25: F/O Chinbrook Community Orchard | B25: 9 | C25: 13 | D25: 0 | E25: =C25*2 -> 26 | F25: Our Space Award - March 2022 - January 2023 £1025 for rainwater catchment structure for large pond and fruit trees for planting in the orchard with local primary school.
A26: F/O Forster Memorial Park | E26: =C26*2 -> 0 | F26: The Forster memorial park centenary sensory project has attracted a rotating team of <12 volunteers, approx 8 on a weekly basis, which is providing much needed social time and we’d like to create more demonstration activities. The SEN Conisborough college students planted daffodil bulbs which were donated by a residents association.
A27: F/O RPLP | B27: 10 | C27: 104 | D27: 0 | E27: =C27*2 -> 208 | F27: River restoration, woodland management, litter picking, encouragement of biodiversity in the river and on the banks.
A28: F/O Mountsfield Park | B28: 13 | C28: 11 | D28: 2 | E28: =C28*2 -> 22 | F28: Maintaining Mountsfield Park community garden as wildlife and people friendly habitat. Wildflower planting - planting plug plants grew locally from seed
A29: Hither Green Community Association | C29: 84 | E29: =C29*2 -> 168 | F29: Preparation of a large wildflower meadow at Hither Green Station.
A30: Judith Watling (Glendale) - NG | B30: 5 | C30: 57 | E30: =C30*3 -> 171 | F30: Nature's Gym
A31: Judith Watling (Glendale) - RaP | B31: 10 | C31: 78 | E31: =C31*3 -> 234 | F31: Rivers and People
A32: Springbank Road Community Garden | C32: 32 | E32: =C32*2 -> 64
A33: Sensory Garden BPP | B33: 2 | C33: 6 | E33: =C33*2 -> 12
A34: StFL | E34: =C34*2 -> 0 | F34: Volunteer watering days
A35: F/O Chinbrook Meadows | B35: 3 | C35: 18 | D35: 11 | E35: =C35*2 -> 36 | F35: Weeding, litter picking, clearing Quaggy debris
A36: F/O Mayow Park | B36: 3 | C36: 11 | D36: 0 | E36: =C36*2 -> 22 | F36: Training and essential orchard maintenance
A37: TOTAL | B37: =SUM(B19:B36) -> 115 | C37: =SUM(C19:C36) -> 944 | D37: =SUM(D19:D36) -> 19 | E37: =SUM(E19:E36) -> 2172
A40: Organisation | B40: Total events | C40: Total number adults | D40: Total number children | E40: Awards | F40: Summary/Description
A41: Engagement e.g. walk, presentation
A42: Friends of Dacres Wood | B42: 3 | C42: 169 | D42: 20 | F42: Open Day
A43: Beckenham Place Park Community Gardeners | B43: 1 | C43: 8 | D43: 0 | F43: Talk on honey bees by outreach officer at Sidcup bee keepers
A44: FO Brockley & Ladywell Cemeteries | B44: 3 | C44: 28 | D44: 0 | F44: History walk and talk
...

Sheet Apr-Jun
A1: Lewisham Biodiversity Outputs | D1: Date: April - June 2022
C3: Demographic
A4: Organisation | B4: Total events | C4: Total number adults | D4: Total number children | E4: Summary/Description
A5: Environmental education
A6: Lewisham (Jess Kyle) | B6: 5 | C6: 17 | D6: 115
A7: F/O Chinbrook Allotments Community Orchard Marvels Lane Primary School | B7: 1 | C7: 1 | D7: 60 | E7: Talk (3 hours) by orchard bee keeper to 2 Year 2 classes prior to visiting the orchard/allotment site in July.
A8: F/O Chinbrook Allotments Community Orchard Marvels Lane Primary School | B8: 1 | C8: 8 | D8: 40 | E8: Visit and talk to 2 Yr 5 classes - "We would like to see our broad bean seeds that we planted last time and as part of our science- the changing world - we would like to see how the seeds/fruits have developed on other plants".
A9: Beckenham Place Park (LBL) | B9: 1 | C9: 10 | D9: 10 | E9: Miniature garden making workshop for children
A10: LBL / Butterfly Conservation | B10: 1 | C10: 10 | D10: 12 | E10: Butterfly ID walk and craft activities
A11: LBL/ Field Studies Council | B11: 1 | C11: 5 | D11: 7 | E11: Bird walk for kids
A12: LBL/ Field Studies Council | C12: 10 | D12: 12 | E12: Fun with trees' workshop
A13: Sydenham Garden Nature Club - explore wildlife in local park | B13: 13 | C13: 65 | D13: 0 | E13: Each event had between 4 and 6 adults
A14: F/Obuckthorne Road | B14: 71 | C14: 60 | D14: 800 | E14: Forest School, Inset training
A15: TOTAL | B15: =SUM(B6:B14) -> 94 | C15: =SUM(C6:C14) -> 186 | D15: =SUM(D6:D14) -> 1056
A17: Organisation | B17: Total events | C17: Total number adults | D17: Total number children | E17: Total Volunteer Hours | F17: Summary/Description
A18: Volunteer
A19: Lewisham (Jess) | B19: 11 | C19: 84 | D19: 0 | E19: 270 | F19: Wade with DLUHC & Nature's Gym (3RCU)
A20: F/O Beckenham Place Park | B20: 6 | C20: 48 | D20: 0 | E20: 96
A21: Healthy Rivers (Lawrence B-C) | B21: 3 | C21: 38 | D21: 2 | E21: 114
A22: F/O Brockley & Ladywell Cemetery | B22: 2 | C22: 7 | D22: 0 | E22: 16.75
A23: F/O River Pool Linear Park | B23: 11 | C23: 111 | D23: 0 | E23: 444 | F23: Clearing river blockages, woodland management, managing invasives, maintaining access to public paths, maintaining a young hedge, clearing litter from the park and river.
A24: Ladywell Fields User Group | B24: 15 | C24: 14 | D24: 1 | E24: 38 | F24: Work on the orchard
A25: Friends of Chinbrook Meadows | B25: 6 | C25: 3 | D25: 4 | E25: 72 | F25: Orchard tree care
A26: Bromley RSPB (in BPP) | B26: 1 | C26: 2 | D26: 3 | E26: 6 | F26: Walk leaders for Dawn Chorus walk
A27: Lewisham (Lucy BPP) | B27: 32 | C27: 256 | D27: 0 | E27: 512 | F27: Regular volunteering each week
A28: Lewisham (Lucy BPP) | B28: 1 | C28: 18 | D28: 8 | E28: 140 | F28: Love Beckenham Place Park community day
A29: F/O Mayow Park | B29: 30 | C29: 40 | E29: 56 | F29: Ongoing volunteering to manage herb bed and orchard. 1 or 2 or 3 volunteers each session
A30: Friends of Chinbrook Community Orchard | B30: 42 | C30: 77 | D30: 0 | E30: 118 | F30: Our Space Award 2022 activities (rainwater collection) - NB. Numbers include March data and based on records of sessions and activities collected by Maggie (i.e. sessions are various length)
A31: F/O Downham Woodland Walk | B31: 3 | C31: 18 | E31: 30 | F31: Volunteers sessions
A32: F/O Albion Millennium Green | B32: 3 | C32: 11 | D32: 0 | E32: 8
A33: F/O Buckthorne Road | B33: 10 | C33: 30 | D33: 4 | E33: 1360 | F33: (volunteer sessions usually 4 hours)
A34: Glendale - NG | B34: 6 | C34: 36 | D34: 0 | E34: =C34*3 -> 108
A35: Glendale - RaP | B35: 10 | C35: 41 | D35: 0 | E35: =C35*3 -> 123
A36: TOTAL | B36: =SUM(B19:B35) -> 192 | C36: =SUM(C19:C35) -> 834 | D36: =SUM(D19:D35) -> 22 | E36: =SUM(E19:E35) -> 3511.75
A39: Organisation | B39: Total events | C39: Total number adults | D39: Total number children | E39: Awards | F39: Summary/Description
A40: Engagement e.g. walk, presentation
A41: Corbett Wildlife Supporters Club | B41: 1 | C41: 12 | D41: 0 | F41: Tales of the Wildwood walk
A42: F/O Dacres Wood | B42: 1 | C42: 37 | D42: 10 | F42: Open day
A43: F/O Garthorne Road | B43: 2 | C43: 75 | D43: 41 | F43: Open days
A44: Earthwatch - LBL Tiny Forest Community Event | B44: 1 | C44: 10 | D44: 2 | F44: Durham Hill
...

Sheet Jul-Sep
A1: Lewisham Biodiversity Outputs | D1: Date: July - September 2022
C3: Demographic
A4: Organisation | B4: Total events | C4: Total number adults | D4: Total number children | E4: Summary/Description
A5: Environmental education
A6: F/O Garthorne Road | B6: 1 | C6: 9 | D6: 6 | E6: After school open day - 6 July
A7: LBL/ Field Studies Council | B7: 1 | C7: 10 | D7: 12 | E7: Green Art - a 2 hour workshop for children around BPP collecting natural items to create art.
A8: LBL / Butterfly Conservation | B8: 1 | C8: 12 | E8: Butterfly habitat workshop in BPP
A9: F/O Albion Millennium Green and Woodland Fairies | B9: 1 | C9: 4 | D9: 26 | E9: Organised play and Nature Discovey/ Learning
A10: TOTAL | B10: =SUM(B6:B9) -> 4 | C10: =SUM(C6:C9) -> 35 | D10: =SUM(D6:D9) -> 44
A12: Organisation | B12: Total events | C12: Total number adults | D12: Total number children | E12: Total Volunteer Hours | F12: Summary/Description
A13: Volunteer
A14: Lewisham (Jess) | B14: 4 | C14: 50 | E14: =C14*3 -> 150
A15: Lewisham (Lucy BPP) | B15: 43 | C15: 491 | D15: 15 | E15: 1158 | F15: Regular gardening and park maintenance volunteering on Tuesdays (13 sessions), Wednesdays (13 sessions), Fridays (14 sessions) and Saturdays (3 sessions) plus Flower show community event in August which involved over 50 volunteers throughout the 12 hour day
A16: Glendale - NG | B16: 6 | C16: 48 | E16: =C16*3 -> 144
A17: Glendale - RaP | B17: 3 | C17: 13 | E17: 43
A18: Glendale bird survey (with volunteers) | B18: 3 | C18: 3 | E18: 27
A19: Lewisham (Jess - river) | B19: 1 | C19: 18 | D19: 0 | E19: 54 | F19: Wade with the Home Office in Ladywell Fields
A20: F/O Ladywell Fields | B20: 1 | C20: 9 | D20: 0 | E20: =C20*1.5 -> 13.5 | F20: litter picking event ahead of secondary channel desilting (30 July)
A21: Mike Keogh | B21: 1 | C21: 1 | D21: 0 | E21: 7 | F21: Japanese Knotweed treatment along Ladywell Fields and litter pick
A22: Pedro Pires | B22: 1 | C22: 1 | E22: 8 | F22: Moth surveys
A23: Parkrun and Beckenham Running Club | B23: 1 | C23: 6 | D23: 0 | E23: 12 | F23: Litter pick
A24: F/O Beckenham Place Park | B24: 6 | C24: =SUM(8*B24) -> 48 | D24: 0 | E24: =SUM(2*C24) -> 96
A25: F/O Downham Woodland Walk | B25: 2 | C25: 16 | D25: 0 | E25: 28
A26: F/O River Pool | B26: 6 | C26: 41 | D26: 0 | E26: 1230 | F26: River and woodland management, including clearing fallen trees from the park and river, clearing the fish bypass and injecting Japanese Knotweed.
A27: Ladywell Fields User Group | B27: 22 | C27: 3 | E27: 50 | F27: Orchard maintenance, tree watering and litter picking
A28: F/O Chinbrook Meadows | B28: 10 | C28: 8 | E28: 16 | F28: Willow coppicing, wildlife habitat creation, litter picking
A29: F/O Brookmill Park | C29: 11 | E29: 222 | F29: Park work and river & pond work
A30: F/O Brockley Ladywell Cemeteries | B30: 1 | C30: 7 | E30: 16
A31: F/O Albion Millennium Green | B31: 3 | C31: 17 | E31: =SUM(B31*C31) -> 51
A32: F/O Iona Close Orchard | B32: 1 | C32: 4 | E32: 8 | F32: open and volunteer day September
A33: TOTAL | B33: =SUM(B14:B32) -> 115 | C33: =SUM(C14:C32) -> 795 | D33: =SUM(D14:D32) -> 15 | E33: =SUM(E14:E32) -> 3333.5
A36: Organisation | B36: Total events | C36: Total number adults | D36: Total number children | E36: Awards | F36: Summary/Description
A37: Engagement e.g. walk, presentation
A38: Lewisham (Jess) | B38: 1 | C38: 10 | D38: 50 | F38: Assembly with Baring Primary
A39: F/O Garthorne Road | B39: 2 | C39: 92 | D39: 55 | F39: Open Day, including Bake Off
A40: F/O Dacres Wood | B40: 4 | C40: 220 | F40: Open Day, including extra FWG Open Day
A41: Friends of Beckenham Place park | B41: 1 | C41: N/K | D41: 0 | F41: History walk in BPP - would need to contact Friends for attendance figures
A42: CPRE, QWAG and Thames21: River Quaggy Walk for London Rivers Week | B42: 1 | C42: 26 | F42: Walk from Quaggy/Ravensbourne Confluence to Sutcliffe Park. Organised by Thames21 and CPRE, and walk led by QWAG.
A43: Thames21: Chinbrook Meadows SUDS Project | B43: 2 | C43: 12 | D43: 13 | F43: Community engagement events where a Thames21 stall was set up to talk about the upcoming SUDS project in the park. Volunteers assisted with RMI surveys at the beginning of the day, and a tray of invertebrates was brought back to the table where people could then look at them more closely through a microscope. This helped people learn about how these invertebrates can indicate water quality and so how after the wetlands are created there will hopefully be different invertebrates present, indicating improved water quality.
A44: F/O River Pool and The Waterlink Way of Life | B44: 1 | C44: 200 | D44: 100 | F44: We held a community day connecting art and the river. River activities included conservation talks, riverfly sampling and a park and river clean-up to finish the event (30 bags of rubbish).
...

Sheet Oct-Dec
A1: Lewisham Biodiversity Outputs | D1: Date: October - December 2022
C3: Demographic
A4: Organisation | B4: Total events | C4: Total number adults | D4: Total number children | E4: Schools engaged | F4: Summary/Description
A5: Environmental education
A6: Lewisham (Jess) | B6: 2 | C6: 7 | D6: 47 | E6: 1 | F6: Part of the Rewilding grant - Haseltine
A7: LWT - GNW project | B7: 4 | C7: 25 | D7: 104 | E7: 1 | F7: 4 Year 2 classes from Invicta Primary School in Deptford - 04/11 and 17/11; New Cross Gate Cutting
A8: Fourth Reserve | B8: 66 | C8: 25 | D8: 890 | E8: 1 | F8: Prendergast Primary School, Beecroft, Stillness, Gordonbrock, Edmund Waller, Ivy dale, John Stainer
A9: F/O Chinbrook Community Orchard | B9: 2 | C9: 18 | D9: 85 | E9: 1 | F9: Marvels Lane - Part of 'Our Space' Project
A10: F/O Albion Millennium Green (Mud Club - Ellie Weedman) | B10: 2 | C10: 6 | D10: 5 | F10: Nature based activities, including cooking outdoors
A11: F/O Mayow Park | B11: 1 | C11: 18 | D11: 13 | F11: Apple Day
A12: Field Studies Council | B12: 2 | C12: 9 | D12: 38 | E12: 2 | F12: Greenvale and St William of York
A13: Horniman Museum | B13: 11 | C13: 240 | D13: 345
A14: TOTAL | B14: =SUM(B6:B13) -> 90 | C14: =SUM(C6:C13) -> 348 | D14: =SUM(D6:D13) -> 1527 | E14: =SUM(E6:E13) -> 6
A16: Organisation | B16: Total events | C16: Total number adults | D16: Total number children | E16: Total Vounteer Hours | F16: Summary/Description
A17: Volunteer
A18: Lewisham (Jess) | B18: 4 | C18: 30 | D18: 0 | E18: =C18*3 -> 90
A19: Lewisham (James BPP) | B19: 48 | C19: 288 | D19: 1 | E19: 599 | F19: regular volunteer sessions plus additional individual volunteer hours
A20: Glendale - NG | B20: 6 | C20: 44 | D20: 0 | E20: =C20*3 -> 132
A21: Glendale - RaP | B21: 6 | C21: 25 | D21: 0 | E21: =C21*3 -> 75
A22: Earthwatch/LBL/LFUG/Prendergrast School | B22: 1 | C22: 73 | D22: 117 | E22: =C22*1.5+D22 -> 226.5 | F22: Tiny forest planting - 4 classes from Prendergrast, 26 Bloomberg volunteers, 28 local community volunteers, council staff and councillors, each class 1h, volunteers 1.5h
A23: F/O Iona Close Orchard | F23: Volunteer task days/open days
A24: F/O Albion Millennium Green | B24: 2 | C24: 9 | D24: 54 | F24: Cutting back pond vegetation, cutting back brambles
A25: F/O Brookmill Park | C25: 11 | E25: 161 | F25: Park work and river/pond work
A26: F/O Chinbrook Community Orchard | B26: 19 | C26: 29 | D26: 0 | E26: 52 | F26: Orchard maintenance eg pond maintenance, planting bulbs and saplings, pruning hedges,extending dead hedges, woodchip paths, pruning vines
A27: F/O Chinbrook Meadows | B27: 1 | C27: 4 | D27: 1
A28: F/O Devonshire Road NR/Network Rail/Alstom | B28: 1 | C28: 10 | D28: 0 | E28: =C28*4 -> 40 | F28: Volunteer day to clear vegetation by the ponds and fence, 1 Dec
A29: F/O Brockley & Ladywell Cemeteries | B29: 2 | C29: 8 | D29: 0 | E29: 20 | F29: Sycamore sapling removal plus weeding, mulching and planting
A30: F/O River Pool/Thames 21 | B30: 12 | C30: 102 | D30: 0 | E30: =C30*4 -> 408
A31: Fourth Reserve | B31: 9 | C31: 90 | D31: 6 | E31: 288
A32: F/O Downham Woodland Walk | B32: 2 | C32: 16 | D32: 0 | E32: 28
A33: Healthy Rivers Project (Lawrence BC) | B33: 5 | C33: 77 | D33: 8 | E33: 255 | F33: River clean ups at Brookmill x4 and Ladywell Fields based on 3hr sessions
A34: Horniman Museum | B34: 3 | C34: 24 | D34: 3 | E34: 54
A35: Ladywell Fields User Group | B35: 3 | C35: 21 | D35: 2 | E35: 41 | F35: Orchard and Tiny Forest maintenance, litter clean in river/bankside
A36: LWT - GNW project | B36: 1 | C36: 8 | D36: 0 | E36: 40 | F36: Vol. day at Devonshire Road 04/10/22
A37: LWT - GNW project | B37: 1 | C37: 9 | D37: 0 | E37: 45 | F37: Vol. day at Garthorne Road 14/10/22
A38: LWT - GNW project | B38: 1 | C38: 12 | D38: 0 | E38: 57 | F38: Vol. days at Dacres Wood 18/11/22 and 13/12/22
A39: LWT - GNW project | B39: 1 | C39: 12 | D39: 0 | E39: 60 | F39: Vol. days at New Cross Gate Cutting 25/11/22 and 29/11/22
A40: Mal Mitchel (BPP wildlife Garden) | B40: 6 | C40: 8 | D40: 0 | E40: 96
A42: TOTAL | B42: =SUM(B18:B41) -> 134 | C42: =SUM(C18:C41) -> 910 | D42: =SUM(D18:D41) -> 192 | E42: =SUM(E18:E41) -> 2767.5
A45: Organisation | B45: Total events | C45: Total number adults | D45: Total number children | E45: Awards | F45: Summary/Description
...

Sheet Summary
A1: Lewisham Biodiversity Outputs | D1: Updated 27/01/2023
A3: Environmental education
A4: Quarter | B4: Total events | C4: Total number adults | D4: Total number children | E4: Summary of events carried out this quarter | K4: Summary of groups engaged
A5: QTR1 January - March 2022 | B5: ='Jan-Mar'!B15 -> 14 | C5: ='Jan-Mar'!C15 -> 113 | D5: ='Jan-Mar'!D15 -> 155
A6: QTR2 April - June 2022 | B6: ='Apr-Jun'!B15 -> 94 | C6: ='Apr-Jun'!C15 -> 186 | D6: ='Apr-Jun'!D15 -> 1056
A7: QTR3 July - September 2022 | B7: ='Jul-Sep'!B10 -> 4 | C7: ='Jul-Sep'!C10 -> 35 | D7: ='Jul-Sep'!D10 -> 44
A8: QTR4 October - December 2022 | B8: ='Oct-Dec'!B14 -> 90 | C8: ='Oct-Dec'!C14 -> 348 | D8: ='Oct-Dec'!D14 -> 1527
A9: Total | B9: =SUM(B5:B8) -> 202 | C9: =SUM(C5:C8) -> 682 | D9: =SUM(D5:D8) -> 2782
A11: Volunteer (incl. LBL)
A12: Quarter | B12: Total events | C12: Total number adults | D12: Total number children | E12: Total volunteer hours | F12: Summary of events carried out this quarter | K12: Summary of groups engaged
A13: QTR1 January - March 2022 | B13: ='Jan-Mar'!B37 -> 115 | C13: ='Jan-Mar'!C37 -> 944 | D13: ='Jan-Mar'!D37 -> 19 | E13: ='Jan-Mar'!E37 -> 2172
A14: QTR2 April - June 2022 | B14: ='Apr-Jun'!B36 -> 192 | C14: ='Apr-Jun'!C36 -> 834 | D14: ='Apr-Jun'!D36 -> 22 | E14: ='Apr-Jun'!E36 -> 3511.75
A15: QTR3 July - September 2022 | B15: ='Jul-Sep'!B33 -> 115 | C15: ='Jul-Sep'!C33 -> 795 | D15: ='Jul-Sep'!D33 -> 15 | E15: ='Jul-Sep'!E33 -> 3333.5
A16: QTR4 October - December 2022 | B16: ='Oct-Dec'!B42 -> 134 | C16: ='Oct-Dec'!C42 -> 910 | D16: ='Oct-Dec'!D42 -> 192 | E16: ='Oct-Dec'!E42 -> 2767.5
A17: Total: | B17: =SUM(B13:B16) -> 556 | C17: =SUM(C13:C16) -> 3483 | D17: =SUM(D13:D16) -> 248 | E17: =SUM(E13:E16) -> 11784.75
A19: Volunteer events - LBL (also included in above events figures)
A20: Quarter | B20: Total Nature's Gym events | C20: Total number adults (NG) | D20: Total volunteer hours | E20: Total Rivers and People events | F20: Total number adults (RaP) | G20: Total volunteer hours | H20: Total BPP events | I20: Total number adults (BPP) | J20: Total volunteer hours
A21: QTR1 January - March 2021 | B21: ='Jan-Mar'!B22+'Jan-Mar'!B30 -> 12 | C21: ='Jan-Mar'!C22+'Jan-Mar'!C30 -> 126 | D21: =C21*3 -> 378 | E21: ='Jan-Mar'!B31 -> 10 | F21: ='Jan-Mar'!C31 -> 78 | G21: =F21*3 -> 234 | H21: ='Jan-Mar'!B21 -> 39 | I21: ='Jan-Mar'!C21 -> 390 | J21: =I21*2 -> 780
A22: QTR2 April - June 2021 | B22: ='Apr-Jun'!B19+'Apr-Jun'!B34 -> 17 | C22: ='Apr-Jun'!C19+'Apr-Jun'!C34 -> 120 | D22: ='Apr-Jun'!E19+'Apr-Jun'!E34 -> 378 | E22: ='Apr-Jun'!B35 -> 10 | F22: ='Apr-Jun'!C35 -> 41 | G22: ='Apr-Jun'!E35 -> 123 | H22: ='Apr-Jun'!B27 -> 32 | I22: ='Apr-Jun'!C27 -> 256 | J22: ='Apr-Jun'!E27 -> 512
A23: QTR3 July - September 2021 | B23: ='Jul-Sep'!B14+'Jul-Sep'!B16 -> 10 | C23: ='Jul-Sep'!C14+'Jul-Sep'!C16 -> 98 | D23: ='Jul-Sep'!E14+'Jul-Sep'!E16 -> 294 | E23: ='Jul-Sep'!B17 -> 3 | F23: ='Jul-Sep'!C17 -> 13 | G23: ='Jul-Sep'!E17 -> 43 | H23: ='Jul-Sep'!B15 -> 43 | I23: ='Jul-Sep'!C15 -> 491 | J23: ='Jul-Sep'!E15 -> 1158
A24: QTR4 October - December 2021 | B24: ='Oct-Dec'!B18+'Oct-Dec'!B20 -> 10 | C24: ='Oct-Dec'!C18+'Oct-Dec'!C20 -> 74 | D24: ='Oct-Dec'!E18+'Oct-Dec'!E20 -> 222 | E24: ='Oct-Dec'!B21 -> 6 | F24: ='Oct-Dec'!C21 -> 25 | G24: ='Oct-Dec'!E21 -> 75 | H24: ='Oct-Dec'!B19 -> 48 | I24: ='Oct-Dec'!C19+'Oct-Dec'!D19 -> 289 | J24: ='Oct-Dec'!E19 -> 599
A25: Total: | B25: =SUM(B21:B24) -> 49 | C25: =SUM(C21:C24) -> 418 | D25: =SUM(D21:D24) -> 1272 | E25: =SUM(E21:E24) -> 29 | F25: =SUM(F21:F24) -> 157 | G25: =SUM(G21:G24) -> 475 | H25: =SUM(H21:H24) -> 162 | I25: =SUM(I21:I24) -> 1426 | J25: =SUM(J21:J24) -> 3049
A27: Engagement e.g. walk, presentation
A28: Quarter | B28: Total events | C28: Total number adults | D28: Total number children | E28: Awards (details below) | F28: Summary of events carried out this quarter | K28: Summary of groups engaged
A29: QTR1 January - March 2022 | B29: ='Jan-Mar'!B48 -> 11 | C29: ='Jan-Mar'!C48 -> 312 | D29: ='Jan-Mar'!D48 -> 102 | E29: ='Jan-Mar'!E48 -> 0
A30: QTR2 April - June 2022 | B30: ='Apr-Jun'!B54 -> 18 | C30: ='Apr-Jun'!C54 -> 2281 | D30: ='Apr-Jun'!D54 -> 1072 | E30: ='Apr-Jun'!E54 -> 0
A31: QTR3 July - September 2022 | B31: ='Jul-Sep'!B49 -> 19 | C31: ='Jul-Sep'!C49 -> 789 | D31: ='Jul-Sep'!D49 -> 233 | E31: ='Jul-Sep'!E49 -> 0
A32: QTR4 October - December 2022 | B32: ='Oct-Dec'!B55 -> 12 | C32: ='Oct-Dec'!C55 -> 337 | D32: ='Oct-Dec'!D55 -> 103 | E32: ='Oct-Dec'!E55 -> 0
A33: Total | B33: =SUM(B29:B32) -> 60 | C33: =SUM(C29:C32) -> 3719 | D33: =SUM(D29:D32) -> 1510 | E33: =SUM(E29:E32) -> 0
A35: Habitat/Species outputs
A36: Quarter | B36: Hedgerow (m) | C36: Loggery | D36: Bird Box | E36: Bat box | F36: Bug Hotel | G36: Trees | H36: Pond | I36: Living roof | J36: Other habitat - details on tab | K36: Locations
A37: Planning Quarter 1 (January - March 2022) | B37: ='Jan-Mar'!C107 -> 140 | C37: ='Jan-Mar'!D107 -> 0 | D37: ='Jan-Mar'!E107 -> 26 | E37: ='Jan-Mar'!F107 -> 16 | F37: ='Jan-Mar'!G107 -> 4 | G37: ='Jan-Mar'!H107 -> 93 | I37: ='Jan-Mar'!I107 -> 1143.5 | J37: ='Jan-Mar'!J107 -> 2
A38: Parks Quarter 1 (January - March 2022) | B38: ='Jan-Mar'!C92 -> 10 | C38: ='Jan-Mar'!D92 -> 2 | D38: ='Jan-Mar'!E92 -> 21 | E38: ='Jan-Mar'!F92 -> 0 | F38: ='Jan-Mar'!G92 -> 0 | G38: ='Jan-Mar'!H92 -> 692 | H38: ='Jan-Mar'!I92 -> 8 | J38: ='Jan-Mar'!I92 -> 8
A39: Planning Quarter 2 (April-June 2022) | B39: ='Apr-Jun'!C105 -> 0 | C39: ='Apr-Jun'!D105 -> 0 | D39: ='Apr-Jun'!E105 -> 6 | E39: ='Apr-Jun'!F105 -> 6 | F39: ='Apr-Jun'!G105 -> 0 | G39: ='Apr-Jun'!H105 -> 0 | I39: ='Apr-Jun'!I105 -> 1358
A40: Parks and NR Quarter 2 (April-June 2022) | B40: ='Apr-Jun'!C90 -> 0 | C40: ='Apr-Jun'!D90 -> 4 | D40: ='Apr-Jun'!E90 -> 4 | E40: ='Apr-Jun'!F90 -> 0 | F40: ='Apr-Jun'!G90 -> 0 | G40: ='Apr-Jun'!H90 -> 0 | I40: 108 | J40: ='Apr-Jun'!I90 -> 3 | K40: Crossfields estate retrofitting bin stores
A41: Planning Quarter 3 (July-September 2022) | B41: ='Jul-Sep'!C96 -> 63 | C41: ='Jul-Sep'!D96 -> 0 | D41: ='Jul-Sep'!E96 -> 5 | E41: ='Jul-Sep'!F96 -> 4 | F41: ='Jul-Sep'!G96 -> 0 | G41: ='Jul-Sep'!I96 -> 3 | I41: ='Jul-Sep'!J96 -> 911.8 | J41: ='Jul-Sep'!K96 -> 0
A42: Parks and NR Quarter 3 (July-September 2022) | B42: ='Jul-Sep'!C81 -> 0 | C42: ='Jul-Sep'!D81 -> 4 | D42: ='Jul-Sep'!E81 -> 0 | E42: ='Jul-Sep'!F81 -> 0 | F42: ='Jul-Sep'!G81 -> 0 | G42: ='Jul-Sep'!H81 -> 0 | J42: ='Jul-Sep'!I81 -> 1
A43: Planning Quarter 4 (October - December 2022) | B43: ='Oct-Dec'!C106 -> 34 | C43: ='Oct-Dec'!D106 -> 0 | D43: ='Oct-Dec'!E106 -> 22 | E43: ='Oct-Dec'!F106 -> 8 | F43: ='Oct-Dec'!G106 -> 0 | G43: ='Oct-Dec'!H106 -> 0 | I43: ='Oct-Dec'!I106 -> 1385.8 | J43: ='Oct-Dec'!J106 -> 0
A44: Parks and NR Quarter 4 (October - December 2022) | B44: ='Oct-Dec'!C92 -> 230 | C44: ='Oct-Dec'!D92 -> 2 | D44: ='Oct-Dec'!E92 -> 3 | E44: ='Oct-Dec'!F92 -> 1 | F44: ='Oct-Dec'!G92 -> 1 | G44: ='Oct-Dec'!H92 -> 663 | J44: ='Oct-Dec'!I92 -> 4
A45: Planning total | B45: =B37+B39+B41+B43 -> 237 | C45: =C37+C39+C41+C43 -> 0 | D45: =D37+D39+D41+D43 -> 59 | E45: =E37+E39+E41+E43 -> 34 | F45: =F37+F39+F41+F43 -> 4 | G45: =G37+G39+G41+G43 -> 96 | H45: =H37+H39+H41+H43 -> 0 | I45: =I37+I39+I41+I43 -> 4799.1 | J45: =J37+J39+J41+J43 -> 2
...
