Workbook

Sheet Jan-Mar
A1: Lewisham Biodiversity Outputs | D1: Date: Jan-Mar 2022
C3: Demographic
A4: Organisation | B4: Total events | C4: Total number adults | D4: Total number children | E4: Summary/Description
A5: Environmental education
A6: LBL - F/O Ladywell Fields - Good Shepherd School | B6: 1 | C6: 2 | D6: 11 | E6: orchard planting session with presentation by Caroline Cupitt on planting, pruning and managing orchard trees
A7: Robert Cole - Glendale | B7: 2 | C7: 20 | D7: 0 | E7: 2 sessions of hedgelaying training in Ladywell Fields
A8: Lucas Vale School (Lawrence) | B8: 1 | C8: 4 | D8: 20 | E8: Citizen Science, RMI Sampling
A9: SD Learning (Lawrence) | B9: 1 | C9: 3 | D9: 12 | E9: Citizen Science, RMI Sampling
A10: UCL (Lawrence) | B10: 2 | C10: 43 | D10: 0 | E10: River wade for UCL EPS module
A11: F/O RPLP | B11: 3 | C11: 12 | D11: 75 | E11: Sampling for invertebrates and talks about river restoration.
A12: Sydenham Garden | B12: 1 | C12: 6 | D12: 0 | E12: Wild walks club in Mayow Park- look for signs of spring
A13: Lewisham - Lucy Walker-Mitchell (BPP) | B13: 2 | C13: 20 | D13: 10 | E13: Woodland walk and Sweet pea planting workshop for children , and kokedama workshop in the community garden for adults.
A14: Judith Watling (Glendale) | B14: 1 | C14: 3 | D14: 27
A15: TOTAL | B15: =SUM(B6:B14) -> 14 | C15: =SUM(C6:C14) -> 113 | D15: =SUM(D6:D14) -> 155
A17: Organisation | B17: Total events | C17: Total number adults | D17: Total number children | E17: Estimated total vol hours (2h/adult) | F17: Summary/Description
A18: Volunteer
A19: F/O Beckenham Place Park | B19: 6 | C19: 8 | D19: 0 | E19: =B19*C19*2 -> 96 | F19: 2h sessions, 96h
A20: Brookmill Park Clean Up | B20: 2 | C20: 38 | D20: 2 | E20: =C20*2 -> 76 | F20: Ravensbourne river clean up
A21: Lewisham - Lucy Walker-Mitchell (BPP) | B21: 39 | C21: 390 | D21: 0 | E21: =C21*2 -> 780 | F21: Regular 2 hour woodland management and gardening volunteering in BPP
A22: Lewisham - Jess Kyle | B22: 7 | C22: 69 | D22: 0 | E22: =C22*3 -> 207 | F22: Nature's Gym
A23: F/O Albion Millennium Green | B23: 3 | C23: 14 | D23: 4 | E23: =C23*2 -> 28 | F23: 3 bird boxes erected on mature trees on the Green; Noticeboards updated, Green Flag 21/22 displayed.
A24: F/O Brockley & Ladywell Cemeteries | B24: 3 | C24: 11 | D24: 0 | E24: =C24*2 -> 22
A25: F/O Chinbrook Community Orchard | B25: 9 | C25: 13 | D25: 0 | E25: =C25*2 -> 26 | F25: Our Space Award - March 2022 - January 2023 £1025 for rainwater catchment structure for large pond and fruit trees for planting in the orchard with local primary school.
A26: F/O Forster Memorial Park | E26: =C26*2 -> 0 | F26: The Forster memorial park centenary sensory project has attracted a rotating team of <12 volunteers, approx 8 on a weekly basis, which is providing much needed social time and we’d like to create more demonstration activities. The SEN Conisborough college students planted daffodil bulbs which were donated by a residents association.
A27: F/O RPLP | B27: 10 | C27: 104 | D27: 0 | E27: =C27*2 -> 208 | F27: River restoration, woodland management, litter picking, encouragement of biodiversity in the river and on the banks.
A28: F/O Mountsfield Park | B28: 13 | C28: 11 | D28: 2 | E28: =C28*2 -> 22 | F28: Maintaining Mountsfield Park community garden as wildlife and people friendly habitat. Wildflower planting - planting plug plants grew locally from seed
A29: Hither Green Community Association | C29: 84 | E29: =C29*2 -> 168 | F29: Preparation of a large wildflower meadow at Hither Green Station.
A30: Judith Watling (Glendale) - NG | B30: 5 | C30: 57 | E30: =C30*3 -> 171 | F30: Nature's Gym
A31: Judith Watling (Glendale) - RaP | B31: 10 | C31: 78 | E31: =C31*3 -> 234 | F31: Rivers and People
A32: Springbank Road Community Garden | C32: 32 | E32: =C32*2 -> 64
A33: Sensory Garden BPP | B33: 2 | C33: 6 | E33: =C33*2 -> 12
A34: StFL | E34: =C34*2 -> 0 | F34: Volunteer watering days
A35: F/O Chinbrook Meadows | B35: 3 | C35: 18 | D35: 11 | E35: =C35*2 -> 36 | F35: Weeding, litter picking, clearing Quaggy debris
A36: F/O Mayow Park | B36: 3 | C36: 11 | D36: 0 | E36: =C36*2 -> 22 | F36: Training and essential orchard maintenance
A37: TOTAL | B37: =SUM(B19:B36) -> 115 | C37: =SUM(C19:C36) -> 944 | D37: =SUM(D19:D36) -> 19 | E37: =SUM(E19:E36) -> 2172
A40: Organisation | B40: Total events | C40: Total number adults | D40: Total number children | E40: Awards | F40: Summary/Description
A41: Engagement e.g. walk, presentation
A42: Friends of Dacres Wood | B42: 3 | C42: 169 | D42: 20 | F42: Open Day
A43: Beckenham Place Park Community Gardeners | B43: 1 | C43: 8 | D43: 0 | F43: Talk on honey bees by outreach officer at Sidcup bee keepers
A44: FO Brockley & Ladywell Cemeteries | B44: 3 | C44: 28 | D44: 0 | F44: History walk and talk
A45: LBL - Earthwatch - Good Shepherd | B45: 1 | C45: 23 | D45: 60 | F45: The Planting of Tiny Forest at Durham Hill
A46: F/O Garthorne Road | B46: 1 | C46: 67 | D46: 22 | F46: Open day
A47: Thames21 - Thames Eels Project | B47: 2 | C47: 17 | D47: 0 | F47: Online presentations about the results of the ObstacEELS project (QWAG and RCIG)
A48: Total | B48: =SUM(B42:B47) -> 11 | C48: =SUM(C42:C47) -> 312 | D48: =SUM(D42:D47) -> 102 | E48: =SUM(E42:E46) -> 0
A50: Total Outputs
B51: Events | C51: Adults | D51: Children | E51: Awards
B52: =SUM(B15+B37+B48) -> 140 | C52: =SUM(C15+C37+C48) -> 1369 | D52: =SUM(D15+D37+D48) -> 276 | E52: =SUM(E48) -> 0
A55: Surveys | C55: Category | H55: Summary/Description
A56: Location | B56: Number | C56: Type of survey
A57: Beckenham Place Park | B57: 1 | C57: Bird
A58: Beckenham Place Park | B58: 3 | C58: moth
A59: Hilly Fields | B59: 3 | C59: Bird
A60: Ladywell Fields | B60: 3 | C60: Bird
A61: Chinbrook Meadows | B61: 2 | C61: Bird
A62: Brookmill Park | B62: 1 | C62: Bird
A63: Lewisham wide | B63: 55 | C63: Bird | H63: 55 sites in Lewisham surveyed by James Newton
A64: Ravensbourne Catchment (5 locations) | B64: 15 | C64: Riverfly | H64: Monthly Riverfly at 5 locations in LB Lewisham
A65: Sydenham Garden roof | B65: 1 | C65: Vegetation
A66: Ravensbourne/Quaggy Confluence to the Lidl on Lee High Road | B66: 1 | C66: ObstacEELS barrier survey (wading in the river) | H66: Surveyed this stretch of the river with a colleague from Thames21 to map and assess the 'passability' of barriers (using ZSL's EBAT score) to European eels migrating upstream.
A67: Albion Millennium Green | B67: 1 | C67: Bird | H67: Big Garden Birdwatch
A68: Hither Green Triangle | B68: 1 | C68: Camera traps and acoustic survey | H68: Network Rail/ZSL pilot project for biodiversity monitoring (e.g. using camera traps that send photos to phones)
A69: Total | B69: =SUM(B57:B68) -> 87
A71: Website data | C71: Views | D71: Visits | E71: Posts published | F71: Link
A72: Nature conservation website | C72: 3498 | D72: 2030 | E72: 4 | F72: https://natureconservationlewisham.co.uk/
A73: Rivers and people website | C73: 363 | D73: 247 | E73: 2 | F73: https://riversandpeople.com/
A74: Totals | C74: =SUM(C72:C73) -> 3861 | D74: =SUM(D72:D73) -> 2277 | E74: =SUM(E72:E73) -> 6
A76: Habitat/Species outputs | C76: Category | K76: Summary/Description
A77: Location | C77: Hedge (m) | D77: Loggery | E77: Bird box | F77: Bat box | G77: Bug hotel | H77: Trees | I77: Other habitat
A78: Durham Hill | H78: 67 | J78: Treescapes project including community orchard
A79: Ladywell Fields | H79: 20 | I79: 1 bee bank | J79: Treescapes project: 14 native black poplars incl. females; bee bank created by volunteers near secondary channel and meadow area using the sand in the secondary channel
A80: Mountsfield Park | I80: meadow improvement | J80: planting locally grown plug plants
A81: Christ the King Sixth Form - KW | I81: 2 hedgehog houses | J81: 1 Ken White Award, 1 built by students (photo)
A82: Home Park - KW | E82: 10 | J82: Ken White Award - sparrow terraces (photo)
A83: Forster Park | E83: 6
A84: Durham Hill - Tiny Forest | H84: 600 | J84: in partnership with Earthwatch
A85: Telegraph Hill - Lower Park | I85: 180m2 meadow | J85: meadow created by pond - local community and Glendale
A86: Brookmill Park - KW | C86: 10 | J86: Ken White Award - hawthorn hedge (photo)
A87: Chinbrook Orchard/Allotment - KW | E87: 2 | H87: 2 | I87: Lonicera, crocuses planted | J87: Ken White Award - 2 fruit trees
A88: Oldstead Road allotment - KW | I88: 1 pond created and another improved | J88: Ken White Award (photo)
A89: Dacres Wood - Lewisham Homes land - KW | H89: 3 | I89: 200 bulbs, 10 ferns | J89: Ken White Award (photo)
A90: Albion Millennium Green - KW | E90: 3 | J90: Ken White Award (photo)
A91: Linear Park | D91: 2 | I91: Wildflower meadow
A92: TOTAL | C92: =SUM(C78:C91) -> 10 | D92: =SUM(D78:D91) -> 2 | E92: =SUM(E78:E91) -> 21 | F92: =SUM(F78:F91) -> 0 | G92: =SUM(G78:G91) -> 0 | H92: =SUM(H78:H91) -> 692 | I92: =COUNTIF(I78:I91, "<>") -> 8
A94: Planning applications/documents reviewed
C95: Number
A96: Number of planning applications/documents reviewed | C96: 38
A98: Habitat/Species outputs/advice given* | C98: Category | M98: Notes
A99: Location | C99: Hedge (m) | D99: Loggery | E99: Bird box | F99: Bat box | G99: Bug hotel | H99: Trees | I99: Living roof (m2) | J99: Other habitat | K99: Advice given (species, habitats, lighting, maintenance etc.)
A100: Baring Road, Gillan Court - DC/21/124719 | C100: Y | E100: 5 | F100: 2 | H100: 26 | I100: 82 | J100: 3 hedgehog highways
A101: 36 Scawen Road - DC/21/124860 | E101: 10 | F101: 7 | G101: 4 | H101: 59 | I101: Y on bike shed | J101: 2 ponds, 23 hedgehog highways, allotment (organic), wildlife corridor on site perimeter | L101: fruit trees and wildlife friendly plants, LWT involved
A102: 223-229 Lewisham High Street | I102: 356
A103: 84 Ravensbourne Park - DC/21/124841 | C103: 140 | E103: 5 | F103: 3 | H103: 8 | I103: 144.5
A104: Adamsrill Road - DC/21/124799 | I104: 480
A105: 219 Stanstead Road -DC/21/124772 | I105: 81
A106: Mayow Warehouse - DC/22/125346 | E106: 6 | F106: 4 | K106: speakers to attract swifts to new nest bricks
A107: TOTAL planning applications | C107: =SUM(C100:C106) -> 140 | D107: =SUM(D100:D106) -> 0 | E107: =SUM(E100:E106) -> 26 | F107: =SUM(F100:F106) -> 16 | G107: =SUM(G100:G106) -> 4 | H107: =SUM(H100:H106) -> 93 | I107: =SUM(I100:I106) -> 1143.5 | J107: =COUNTIF(J100:J106,"<>") -> 2
A108: *Please note that only biodiversity enhancements that are at condition discharge phase are recorded here.

Sheet Apr-Jun
A1: Lewisham Biodiversity Outputs | D1: Date: April - June 2022
C3: Demographic
A4: Organisation | B4: Total events | C4: Total number adults | D4: Total number children | E4: Summary/Description
A5: Environmental education
A6: Lewisham (Jess Kyle) | B6: 5 | C6: 17 | D6: 115
A7: F/O Chinbrook Allotments Community Orchard Marvels Lane Primary School | B7: 1 | C7: 1 | D7: 60 | E7: Talk (3 hours) by orchard bee keeper to 2 Year 2 classes prior to visiting the orchard/allotment site in July.
A8: F/O Chinbrook Allotments Community Orchard Marvels Lane Primary School | B8: 1 | C8: 8 | D8: 40 | E8: Visit and talk to 2 Yr 5 classes - "We would like to see our broad bean seeds that we planted last time and as part of our science- the changing world - we would like to see how the seeds/fruits have developed on other plants".
A9: Beckenham Place Park (LBL) | B9: 1 | C9: 10 | D9: 10 | E9: Miniature garden making workshop for children
A10: LBL / Butterfly Conservation | B10: 1 | C10: 10 | D10: 12 | E10: Butterfly ID walk and craft activities
A11: LBL/ Field Studies Council | B11: 1 | C11: 5 | D11: 7 | E11: Bird walk for kids
A12: LBL/ Field Studies Council | C12: 10 | D12: 12 | E12: Fun with trees' workshop
A13: Sydenham Garden Nature Club - explore wildlife in local park | B13: 13 | C13: 65 | D13: 0 | E13: Each event had between 4 and 6 adults
A14: F/Obuckthorne Road | B14: 71 | C14: 60 | D14: 800 | E14: Forest School, Inset training
A15: TOTAL | B15: =SUM(B6:B14) -> 94 | C15: =SUM(C6:C14) -> 186 | D15: =SUM(D6:D14) -> 1056
A17: Organisation | B17: Total events | C17: Total number adults | D17: Total number children | E17: Total Volunteer Hours | F17: Summary/Description
A18: Volunteer
A19: Lewisham (Jess) | B19: 11 | C19: 84 | D19: 0 | E19: 270 | F19: Wade with DLUHC & Nature's Gym (3RCU)
A20: F/O Beckenham Place Park | B20: 6 | C20: 48 | D20: 0 | E20: 96
A21: Healthy Rivers (Lawrence B-C) | B21: 3 | C21: 38 | D21: 2 | E21: 114
A22: F/O Brockley & Ladywell Cemetery | B22: 2 | C22: 7 | D22: 0 | E22: 16.75
A23: F/O River Pool Linear Park | B23: 11 | C23: 111 | D23: 0 | E23: 444 | F23: Clearing river blockages, woodland management, managing invasives, maintaining access to public paths, maintaining a young hedge, clearing litter from the park and river.
A24: Ladywell Fields User Group | B24: 15 | C24: 14 | D24: 1 | E24: 38 | F24: Work on the orchard
A25: Friends of Chinbrook Meadows | B25: 6 | C25: 3 | D25: 4 | E25: 72 | F25: Orchard tree care
A26: Bromley RSPB (in BPP) | B26: 1 | C26: 2 | D26: 3 | E26: 6 | F26: Walk leaders for Dawn Chorus walk
A27: Lewisham (Lucy BPP) | B27: 32 | C27: 256 | D27: 0 | E27: 512 | F27: Regular volunteering each week
A28: Lewisham (Lucy BPP) | B28: 1 | C28: 18 | D28: 8 | E28: 140 | F28: Love Beckenham Place Park community day
A29: F/O Mayow Park | B29: 30 | C29: 40 | E29: 56 | F29: Ongoing volunteering to manage herb bed and orchard. 1 or 2 or 3 volunteers each session
A30: Friends of Chinbrook Community Orchard | B30: 42 | C30: 77 | D30: 0 | E30: 118 | F30: Our Space Award 2022 activities (rainwater collection) - NB. Numbers include March data and based on records of sessions and activities collected by Maggie (i.e. sessions are various length)
A31: F/O Downham Woodland Walk | B31: 3 | C31: 18 | E31: 30 | F31: Volunteers sessions
A32: F/O Albion Millennium Green | B32: 3 | C32: 11 | D32: 0 | E32: 8
A33: F/O Buckthorne Road | B33: 10 | C33: 30 | D33: 4 | E33: 1360 | F33: (volunteer sessions usually 4 hours)
A34: Glendale - NG | B34: 6 | C34: 36 | D34: 0 | E34: =C34*3 -> 108
A35: Glendale - RaP | B35: 10 | C35: 41 | D35: 0 | E35: =C35*3 -> 123
A36: TOTAL | B36: =SUM(B19:B35) -> 192 | C36: =SUM(C19:C35) -> 834 | D36: =SUM(D19:D35) -> 22 | E36: =SUM(E19:E35) -> 3511.75
A39: Organisation | B39: Total events | C39: Total number adults | D39: Total number children | E39: Awards | F39: Summary/Description
A40: Engagement e.g. walk, presentation
A41: Corbett Wildlife Supporters Club | B41: 1 | C41: 12 | D41: 0 | F41: Tales of the Wildwood walk
A42: F/O Dacres Wood | B42: 1 | C42: 37 | D42: 10 | F42: Open day
A43: F/O Garthorne Road | B43: 2 | C43: 75 | D43: 41 | F43: Open days
A44: Earthwatch - LBL Tiny Forest Community Event | B44: 1 | C44: 10 | D44: 2 | F44: Durham Hill
A45: F/O Brockley & Ladywell Cemetery | B45: 3 | C45: 58 | D45: 0 | F45: Guided Walks including nature/spring flowers by Tom Moulton
A46: Thames 21 Chinbrook Meadows SUDS Project | B46: 1 | C46: 8 | D46: 4 | F46: The first community engagement event run by Thames21 since funding for the project had been confirmed. A marquee and table were set up in the middle of the park with 2 Thames21 staff, who spoke to people walking past and asked them if they wanted to join the mailing list to be kept updated about the project and linked volunteering opportunities.
A47: F/O Chinbrook Allotments Community Orchard/Woodcraft Folk | B47: 1 | C47: 6 | D47: 8 | F47: Visit and talk (2 hours) to Lewisham & Greenwich Woodcraft Folk Elfins
A48: F/O Chinbrook Allotments Community Orchard/Butterfly Conservation | B48: 1 | C48: 5 | D48: 0 | F48: Visit (2 hours) by Steve Bolton Butterfly Conservation with Eszter & Daniel Johnson to discuss orchard's involvement in Big City Butterflies project
A49: Lewisham (Lucy LBL) | B49: 1 | C49: 31 | D49: 1 | F49: Bat walk led by BCT.
A50: Lewisham (Lucy LBL) | B50: 1 | C50: 19 | D50: 0 | F50: Dawn Chorus walk led by 2 Bromley RSPB Volunteers
A51: Love Beckenham Place Park day | B51: 1 | C51: 700 | D51: 300 | F51: Various environmental education stalls and activities at the community day including RSPB, Bat Conservation Trust, Field Studies Council doing sweep nets, free forest school craft activities
A52: F/O Buckthorne Road | B52: 3 | C52: 1300 | D52: 700 | F52: Open Day & Street Party
A53: F/O Mayow Park | B53: 1 | C53: 20 | D53: 6 | F53: 23 May 2022. Led by Dr Iain Boulton
A54: Total | B54: =SUM(B41:B53) -> 18 | C54: =SUM(C41:C53) -> 2281 | D54: =SUM(D41:D53) -> 1072 | E54: =SUM(E41:E48) -> 0
A56: Total Outputs
B57: Events | C57: Adults | D57: Children | E57: Hours | F57: Awards
B58: =SUM(B15+B36+B54) -> 304 | C58: =SUM(C15+C36+C54) -> 3301 | D58: =SUM(D15+D36+D54) -> 2150 | E58: =E36 -> 3511.75 | F58: =SUM(E54) -> 0
A61: Surveys | C61: Category | G61: Summary/Description
A62: Location | B62: Number | C62: Type of survey
A63: Hilly Fields | B63: 3 | C63: Bird
A64: Ladywell Fields | B64: 3 | C64: Bird
A65: Brookmill Park | B65: 3 | C65: Bird
A66: Chinbrook Meadows | B66: 1 | C66: Bird
A67: Ravensbourne catchment | B67: 18 | C67: Outfall Safari run by Ravensbourne Riverfly | G67: 18 in Lewisham. 25 volunteers over two months, looking at polluting outfalls. With ZSL and Thames Water.
A68: Ravensbourne Riverfly | B68: 15 | C68: Riverfly freshwater invert sampling | G68: 5 sites in Lewisham, three months surveying, once a month.
A69: Chinbrook Meadows | B69: 1 | C69: RMI | G69: During the Chinbrook Meadows engagement event, a Thames21 staff member took a volunteer to the Grove Park Ditch/Quaggy Confluence (where the works for the project will occur) to carry out a riverfly monitoring survey. They sampled up- and downstream of the confluence and found very low RMI scores.
A70: Beckenham Place Park | B70: 1 | C70: Bat | G70: 5 species identified on the bat walk (Daubenton's, Pipistrelle - soprano and common, Noctule, Serotine
A71: Beckenham Place Park East | B71: 3 | C71: EcIA, Bat, Water vole | G71: Ecology surveys conducted in BPP East for the restoration project
A72: Grove Park railway corridor | B72: 1 | C72: Phase 1, habitat condition for BNG, NVC, habitat suitability | G72: Survey commissioned by LBL's Planning department to establish if SINCs within corridor should be upgraded to MSINC
A73: Great North Wood reserves (DW, GRNR, DRNR, Buckthorne, New Cross) | B73: 5 | C73: Camera traps | G73: Camera traps installed for hedgehog monitoring withing the GNW project
A74: Sydenham Garden | B74: 3 | C74: living roof plant survey | G74: Survey dates: 20 April, 25 May, 22 June includes weather in previous month
A75: Nature's Gym | B75: 1 | C75: butterfly, bird, wildflower | G75: survey at River Pool Linear Park and Bell Green Pond surroundings
A76: Total | B76: =SUM(B63:B75) -> 58
A78: Website data | C78: Views | D78: Visits | E78: Posts published | F78: Link
A79: Nature conservation website | C79: 2969 | D79: 1819 | E79: 9 | F79: https://natureconservationlewisham.co.uk/
A80: Rivers and people website | C80: 376 | D80: 218 | E80: 0 | F80: https://riversandpeople.com/
A81: Total | C81: =SUM(C79:C80) -> 3345 | D81: =SUM(D79:D80) -> 2037 | E81: =SUM(E79:E80) -> 9
A83: Habitat/Species outputs | C83: Category | J83: Summary/Description
A84: Location | C84: Hedge (m) | D84: Loggery | E84: Bird box | F84: Bat box | G84: Bug hotel | H84: Trees | I84: Other habitat
A85: Brindishe Green School | E85: 4 | J85: 1 multi swift box with 4 nesting places
A86: Grove Park LNR | I86: 1 | J86: pond dipping platform
A87: Linear Park | D87: 4
A88: Albion Millennium Green | I88: 1 | J88: Creating meadow areas on advice of Steve Bolton - increase in butterflies
A89: Crossfields Housing Estate | I89: 108m2 living roof | J89: retrofitting 5 bin stores with biodiverse living roof
A90: TOTAL | C90: =SUM(C85:C89) -> 0 | D90: =SUM(D85:D89) -> 4 | E90: =SUM(E85:E89) -> 4 | F90: =SUM(F85:F89) -> 0 | G90: =SUM(G85:G89) -> 0 | H90: =SUM(H85:H89) -> 0 | I90: =COUNTIF(I85:I89, "<>") -> 3
A92: Planning applications/documents reviewed
C93: Number
A94: Number of planning applications/documents reviewed | C94: 33
A96: Habitat/Species outputs/advice given* | C96: Category | L96: Notes
A97: Location | C97: Hedge (m) | D97: Loggery | E97: Bird box | F97: Bat box | G97: Bug hotel | H97: Trees | I97: Living roof (m2) | J97: Other habitat | K97: Advice given (species, habitats, lighting, maintenance etc.)
A98: Knapdale Close - DC/22/125712 | I98: 18
A99: 103 Westwood Hill - DC/22/126529 | E99: 3 | F99: 3
A100: 49 Carholme Road - DC/22/126311 | I100: 5
A101: 28 Dundalk Road - DC/2/126521 | E101: 1 | F101: 1
A102: 2 Holme Lacey Road - DC/22/127214 | F102: 1
A103: 333-337 New Cross Road - DC/22/126780 | E103: 2 | F103: 1
A104: Frankham Street - DC/22/126900 | I104: 1335
A105: TOTAL planning applications | C105: =SUM(C98:C104) -> 0 | D105: =SUM(D98:D104) -> 0 | E105: =SUM(E98:E104) -> 6 | F105: =SUM(F98:F104) -> 6 | G105: =SUM(G98:G104) -> 0 | H105: =SUM(H98:H104) -> 0 | I105: =SUM(I98:I104) -> 1358 | J105: =SUM(J98:J104) -> 0
A106: *Please note that only biodiversity enhancements that are at condition discharge phase are recorded here.

Sheet Jul-Sep
A1: Lewisham Biodiversity Outputs | D1: Date: July - September 2022
C3: Demographic
A4: Organisation | B4: Total events | C4: Total number adults | D4: Total number children | E4: Summary/Description
A5: Environmental education
A6: F/O Garthorne Road | B6: 1 | C6: 9 | D6: 6 | E6: After school open day - 6 July
A7: LBL/ Field Studies Council | B7: 1 | C7: 10 | D7: 12 | E7: Green Art - a 2 hour workshop for children around BPP collecting natural items to create art.
A8: LBL / Butterfly Conservation | B8: 1 | C8: 12 | E8: Butterfly habitat workshop in BPP
A9: F/O Albion Millennium Green and Woodland Fairies | B9: 1 | C9: 4 | D9: 26 | E9: Organised play and Nature Discovey/ Learning
A10: TOTAL | B10: =SUM(B6:B9) -> 4 | C10: =SUM(C6:C9) -> 35 | D10: =SUM(D6:D9) -> 44
A12: Organisation | B12: Total events | C12: Total number adults | D12: Total number children | E12: Total Volunteer Hours | F12: Summary/Description
A13: Volunteer
A14: Lewisham (Jess) | B14: 4 | C14: 50 | E14: =C14*3 -> 150
A15: Lewisham (Lucy BPP) | B15: 43 | C15: 491 | D15: 15 | E15: 1158 | F15: Regular gardening and park maintenance volunteering on Tuesdays (13 sessions), Wednesdays (13 sessions), Fridays (14 sessions) and Saturdays (3 sessions) plus Flower show community event in August which involved over 50 volunteers throughout the 12 hour day
A16: Glendale - NG | B16: 6 | C16: 48 | E16: =C16*3 -> 144
A17: Glendale - RaP | B17: 3 | C17: 13 | E17: 43
A18: Glendale bird survey (with volunteers) | B18: 3 | C18: 3 | E18: 27
A19: Lewisham (Jess - river) | B19: 1 | C19: 18 | D19: 0 | E19: 54 | F19: Wade with the Home Office in Ladywell Fields
A20: F/O Ladywell Fields | B20: 1 | C20: 9 | D20: 0 | E20: =C20*1.5 -> 13.5 | F20: litter picking event ahead of secondary channel desilting (30 July)
A21: Mike Keogh | B21: 1 | C21: 1 | D21: 0 | E21: 7 | F21: Japanese Knotweed treatment along Ladywell Fields and litter pick
A22: Pedro Pires | B22: 1 | C22: 1 | E22: 8 | F22: Moth surveys
A23: Parkrun and Beckenham Running Club | B23: 1 | C23: 6 | D23: 0 | E23: 12 | F23: Litter pick
A24: F/O Beckenham Place Park | B24: 6 | C24: =SUM(8*B24) -> 48 | D24: 0 | E24: =SUM(2*C24) -> 96
A25: F/O Downham Woodland Walk | B25: 2 | C25: 16 | D25: 0 | E25: 28
A26: F/O River Pool | B26: 6 | C26: 41 | D26: 0 | E26: 1230 | F26: River and woodland management, including clearing fallen trees from the park and river, clearing the fish bypass and injecting Japanese Knotweed.
A27: Ladywell Fields User Group | B27: 22 | C27: 3 | E27: 50 | F27: Orchard maintenance, tree watering and litter picking
A28: F/O Chinbrook Meadows | B28: 10 | C28: 8 | E28: 16 | F28: Willow coppicing, wildlife habitat creation, litter picking
A29: F/O Brookmill Park | C29: 11 | E29: 222 | F29: Park work and river & pond work
A30: F/O Brockley Ladywell Cemeteries | B30: 1 | C30: 7 | E30: 16
A31: F/O Albion Millennium Green | B31: 3 | C31: 17 | E31: =SUM(B31*C31) -> 51
A32: F/O Iona Close Orchard | B32: 1 | C32: 4 | E32: 8 | F32: open and volunteer day September
A33: TOTAL | B33: =SUM(B14:B32) -> 115 | C33: =SUM(C14:C32) -> 795 | D33: =SUM(D14:D32) -> 15 | E33: =SUM(E14:E32) -> 3333.5
A36: Organisation | B36: Total events | C36: Total number adults | D36: Total number children | E36: Awards | F36: Summary/Description
A37: Engagement e.g. walk, presentation
A38: Lewisham (Jess) | B38: 1 | C38: 10 | D38: 50 | F38: Assembly with Baring Primary
A39: F/O Garthorne Road | B39: 2 | C39: 92 | D39: 55 | F39: Open Day, including Bake Off
A40: F/O Dacres Wood | B40: 4 | C40: 220 | F40: Open Day, including extra FWG Open Day
A41: Friends of Beckenham Place park | B41: 1 | C41: N/K | D41: 0 | F41: History walk in BPP - would need to contact Friends for attendance figures
A42: CPRE, QWAG and Thames21: River Quaggy Walk for London Rivers Week | B42: 1 | C42: 26 | F42: Walk from Quaggy/Ravensbourne Confluence to Sutcliffe Park. Organised by Thames21 and CPRE, and walk led by QWAG.
A43: Thames21: Chinbrook Meadows SUDS Project | B43: 2 | C43: 12 | D43: 13 | F43: Community engagement events where a Thames21 stall was set up to talk about the upcoming SUDS project in the park. Volunteers assisted with RMI surveys at the beginning of the day, and a tray of invertebrates was brought back to the table where people could then look at them more closely through a microscope. This helped people learn about how these invertebrates can indicate water quality and so how after the wetlands are created there will hopefully be different invertebrates present, indicating improved water quality.
A44: F/O River Pool and The Waterlink Way of Life | B44: 1 | C44: 200 | D44: 100 | F44: We held a community day connecting art and the river. River activities included conservation talks, riverfly sampling and a park and river clean-up to finish the event (30 bags of rubbish).
A45: F/O Brockley Ladywell Cemeteries | B45: 4 | C45: 211 | D45: 15 | F45: Open day and guided walks
A46: F/O Albion Millennium Green | B46: 1 | C46: 6 | F46: Butterfly Walk with Steve Bolton
A47: Creekside Centre | B47: 1 | F47: Annual Open Day
A48: LBL/F/O Hither Green Triangle | B48: 1 | C48: 12 | D48: 0 | F48: September open day
A49: Total | B49: =SUM(B38:B48) -> 19 | C49: =SUM(C38:C48) -> 789 | D49: =SUM(D38:D48) -> 233 | E49: =SUM(E48:E48) -> 0
A51: Total Outputs
B52: Events | C52: Adults | D52: Children | E52: Hours | F52: Awards
B53: =SUM(B10+B33+B49) -> 138 | C53: =SUM(C10+C33+C49) -> 1619 | D53: =SUM(D10+D33+D49) -> 292 | E53: =E33 -> 3333.5 | F53: =SUM(E49) -> 0
A56: Surveys | C56: Category | G56: Summary/Description
A57: Location | B57: Number | C57: Type of survey
A58: Beckenham Place Park | B58: 1 | C58: Bat box inspection | G58: 6 male soprano pipistrelles found in the 13 boxes inspected (2 boxes were inaccessible)
A59: Beckenham Place Park | B59: 3 | C59: moth survey (and other insects) | G59: 25 moth species recorded
A60: Chinbrook Meadows | B60: 2 | C60: RMI | G60: As mentioned above, during the Chinbrook Meadows engagement events, a Thames21 staff member took three volunteers in total over the two events to the Grove Park Ditch/Quaggy Confluence (where the works for the project will occur) to carry out a riverfly monitoring survey. They sampled up- and downstream of the confluence and found very low RMI scores.
A61: Hilly Fields | B61: 3 | C61: Bird
A62: Ladywell Fields | B62: 3 | C62: Bird
A63: Brookmill Park | B63: 3 | C63: Bird
A64: Hilly Fields | B64: 1 | C64: Flora
A65: Lewisham-wide | B65: 1 | C65: Bird | G65: James Newton's borough wide bird survey
A66: Sydenham Garden | B66: 3 | C66: Green roof plant monitoring | G66: monthly survey of green roof
A67: Garthorne Road NR | B67: 1 | C67: bat survey | G67: Ernie Thomason bat survey in August
A68: Garthorne Road NR, Devonshire Road NR | B68: 2 | C68: reptiles | G68: monitoring of reptiles
A69: Total | B69: =SUM(B58:B68) -> 23
A71: Website data | C71: Views | D71: Visits | E71: Posts published | F71: Link
A72: Nature conservation website | C72: 1843 | D72: 1098 | E72: 5 | F72: https://natureconservationlewisham.co.uk/
A73: Rivers and people website | C73: 380 | D73: 222 | E73: 3 | F73: https://riversandpeople.com/
A74: Total | C74: =SUM(C72:C73) -> 2223 | D74: =SUM(D72:D73) -> 1320 | E74: =SUM(E72:E73) -> 8
A76: Habitat/Species outputs | C76: Category | J76: Summary/Description
A77: Location | C77: Hedge (m) | D77: Loggery | E77: Bird box | F77: Bat box | G77: Bug hotel | H77: Trees | I77: Other habitat
A78: River Pool linear park | D78: 2
A79: Chinbrook Meadows | J79: Grassland enhancements
A80: Garthorne Road NR | D80: 2 | I80: dead hedges | J80: 3 benches also installed
A81: 23 | C81: =SUM(C78:C80) -> 0 | D81: =SUM(D78:D80) -> 4 | E81: =SUM(E78:E80) -> 0 | F81: =SUM(F78:F80) -> 0 | G81: =SUM(G78:G80) -> 0 | H81: =SUM(H78:H80) -> 0 | I81: =COUNTIF(I78:I80,"<>") -> 1
A83: Planning applications/documents reviewed
C84: Number
A85: Number of planning applications/documents reviewed | C85: 37
A87: Habitat/Species outputs/advice given* | C87: Category | L87: Notes
A88: Location | C88: Hedge (m) | D88: Loggery | E88: Bird box | F88: Bat box | G88: Bug hotel | H88: hedgehog highways | I88: Trees | J88: Living roof (m2) | K88: Other habitat | L88: Advice given (species, habitats, lighting, maintenance etc.)
A89: 69 Mayow Road - DC/22/127306 | E89: 2 | F89: 2 | M89: swift boxes with sound system
A90: 4-24 BLYTHE VALE - DC/22/127644 | C90: 63 | J90: Y | M90: hornbeam hedge
A91: 208 Sydenham Road, OLSPN - DC/22/127599 | J91: 130.8
A92: 28 Dundalk Road - DC/22/127765 | J92: 45
A93: 11 Brockley Cross - DC/22/129126 | E93: 2 | F93: 1 | H93: asked for to be included
A94: Kent Wharf - DC/22/129283 | J94: 734
A95: 52 Carston Close - DC/22/129207 | E95: 1 | F95: 1 | I95: 3 | J95: 2 | M95: cycle store change from sedum
A96: TOTAL planning applications | C96: =SUM(C89:C95) -> 63 | D96: =SUM(D89:D95) -> 0 | E96: =SUM(E89:E95) -> 5 | F96: =SUM(F89:F95) -> 4 | G96: =SUM(G89:G95) -> 0 | I96: =SUM(I89:I95) -> 3 | J96: =SUM(J89:J95) -> 911.8 | K96: =COUNTIF(K89:K95,"<>") -> 0
A97: *Please note that only biodiversity enhancements that are at condition discharge phase are recorded here.

Sheet Oct-Dec
A1: Lewisham Biodiversity Outputs | D1: Date: October - December 2022
C3: Demographic
A4: Organisation | B4: Total events | C4: Total number adults | D4: Total number children | E4: Schools engaged | F4: Summary/Description
A5: Environmental education
A6: Lewisham (Jess) | B6: 2 | C6: 7 | D6: 47 | E6: 1 | F6: Part of the Rewilding grant - Haseltine
A7: LWT - GNW project | B7: 4 | C7: 25 | D7: 104 | E7: 1 | F7: 4 Year 2 classes from Invicta Primary School in Deptford - 04/11 and 17/11; New Cross Gate Cutting
A8: Fourth Reserve | B8: 66 | C8: 25 | D8: 890 | E8: 1 | F8: Prendergast Primary School, Beecroft, Stillness, Gordonbrock, Edmund Waller, Ivy dale, John Stainer
A9: F/O Chinbrook Community Orchard | B9: 2 | C9: 18 | D9: 85 | E9: 1 | F9: Marvels Lane - Part of 'Our Space' Project
A10: F/O Albion Millennium Green (Mud Club - Ellie Weedman) | B10: 2 | C10: 6 | D10: 5 | F10: Nature based activities, including cooking outdoors
A11: F/O Mayow Park | B11: 1 | C11: 18 | D11: 13 | F11: Apple Day
A12: Field Studies Council | B12: 2 | C12: 9 | D12: 38 | E12: 2 | F12: Greenvale and St William of York
A13: Horniman Museum | B13: 11 | C13: 240 | D13: 345
A14: TOTAL | B14: =SUM(B6:B13) -> 90 | C14: =SUM(C6:C13) -> 348 | D14: =SUM(D6:D13) -> 1527 | E14: =SUM(E6:E13) -> 6
A16: Organisation | B16: Total events | C16: Total number adults | D16: Total number children | E16: Total Vounteer Hours | F16: Summary/Description
A17: Volunteer
A18: Lewisham (Jess) | B18: 4 | C18: 30 | D18: 0 | E18: =C18*3 -> 90
A19: Lewisham (James BPP) | B19: 48 | C19: 288 | D19: 1 | E19: 599 | F19: regular volunteer sessions plus additional individual volunteer hours
A20: Glendale - NG | B20: 6 | C20: 44 | D20: 0 | E20: =C20*3 -> 132
A21: Glendale - RaP | B21: 6 | C21: 25 | D21: 0 | E21: =C21*3 -> 75
A22: Earthwatch/LBL/LFUG/Prendergrast School | B22: 1 | C22: 73 | D22: 117 | E22: =C22*1.5+D22 -> 226.5 | F22: Tiny forest planting - 4 classes from Prendergrast, 26 Bloomberg volunteers, 28 local community volunteers, council staff and councillors, each class 1h, volunteers 1.5h
A23: F/O Iona Close Orchard | F23: Volunteer task days/open days
A24: F/O Albion Millennium Green | B24: 2 | C24: 9 | D24: 54 | F24: Cutting back pond vegetation, cutting back brambles
A25: F/O Brookmill Park | C25: 11 | E25: 161 | F25: Park work and river/pond work
A26: F/O Chinbrook Community Orchard | B26: 19 | C26: 29 | D26: 0 | E26: 52 | F26: Orchard maintenance eg pond maintenance, planting bulbs and saplings, pruning hedges,extending dead hedges, woodchip paths, pruning vines
A27: F/O Chinbrook Meadows | B27: 1 | C27: 4 | D27: 1
A28: F/O Devonshire Road NR/Network Rail/Alstom | B28: 1 | C28: 10 | D28: 0 | E28: =C28*4 -> 40 | F28: Volunteer day to clear vegetation by the ponds and fence, 1 Dec
A29: F/O Brockley & Ladywell Cemeteries | B29: 2 | C29: 8 | D29: 0 | E29: 20 | F29: Sycamore sapling removal plus weeding, mulching and planting
A30: F/O River Pool/Thames 21 | B30: 12 | C30: 102 | D30: 0 | E30: =C30*4 -> 408
A31: Fourth Reserve | B31: 9 | C31: 90 | D31: 6 | E31: 288
A32: F/O Downham Woodland Walk | B32: 2 | C32: 16 | D32: 0 | E32: 28
A33: Healthy Rivers Project (Lawrence BC) | B33: 5 | C33: 77 | D33: 8 | E33: 255 | F33: River clean ups at Brookmill x4 and Ladywell Fields based on 3hr sessions
A34: Horniman Museum | B34: 3 | C34: 24 | D34: 3 | E34: 54
A35: Ladywell Fields User Group | B35: 3 | C35: 21 | D35: 2 | E35: 41 | F35: Orchard and Tiny Forest maintenance, litter clean in river/bankside
A36: LWT - GNW project | B36: 1 | C36: 8 | D36: 0 | E36: 40 | F36: Vol. day at Devonshire Road 04/10/22
A37: LWT - GNW project | B37: 1 | C37: 9 | D37: 0 | E37: 45 | F37: Vol. day at Garthorne Road 14/10/22
A38: LWT - GNW project | B38: 1 | C38: 12 | D38: 0 | E38: 57 | F38: Vol. days at Dacres Wood 18/11/22 and 13/12/22
A39: LWT - GNW project | B39: 1 | C39: 12 | D39: 0 | E39: 60 | F39: Vol. days at New Cross Gate Cutting 25/11/22 and 29/11/22
A40: Mal Mitchel (BPP wildlife Garden) | B40: 6 | C40: 8 | D40: 0 | E40: 96
A42: TOTAL | B42: =SUM(B18:B41) -> 134 | C42: =SUM(C18:C41) -> 910 | D42: =SUM(D18:D41) -> 192 | E42: =SUM(E18:E41) -> 2767.5
A45: Organisation | B45: Total events | C45: Total number adults | D45: Total number children | E45: Awards | F45: Summary/Description
A46: Engagement e.g. walk, presentation
A47: Fourth Reserve | B47: 2 | C47: 200 | D47: 80 | E47: 0 | F47: Carole Singing event and a bat survey.
A48: Friends of Brockley & Ladywell Cemeteries | B48: 2 | C48: 23 | D48: 3 | F48: Remembrance Sunday event and walk + another walk
A49: F/O Dacres Wood | B49: 3 | C49: 64 | F49: Numbers a little higher than this due to Wednesday afternoon opening hours.
A50: LWT | B50: 1 | C50: 11 | D50: 0 | E50: 0 | F50: Woodland ecology and folklore walk and talk @ New Cross Gate Cutting 05/10/22
A51: LWT/Horniman Museum/Lewisham Children's Centre | B51: 1 | C51: 12 | D51: 20 | E51: 0 | F51: Family activities on trees/woodlands targeting newly-based refugee families in Manor House Gardens 08/10/22
A52: LWT/Horniman Museum | B52: 1 | C52: 21 | D52: 0 | E52: 0 | F52: GNW Volunteer social included guided tour and access to butterfly house and exhibition 10/10/22
A53: LWT | B53: 1 | C53: 6 | D53: 0 | E53: 0 | F53: Nature writing workshop at New Cross Gate Cutting
A54: Thames 21 (Philly) tall for Chinbrook Meadows SUDS Project during ChART and FoCM's 'Apple Day' | B54: 1 | F54: Community engagement event (Apple Day) where Thames21 had a stall set up to talk about the upcoming SUDS project in the park. 3 children volunteers assisted with an RMI survey at the beginning of the day, and a tray of invertebrates was brought back to the table where people could then look at them more closely through a microscope. This helped people learn about how these invertebrates can indicate water quality and so how after the wetlands are created there will hopefully be different invertebrates present, indicating improved water quality.
A55: Total | B55: =SUM(B47:B54) -> 12 | C55: =SUM(C47:C54) -> 337 | D55: =SUM(D47:D54) -> 103 | E55: =SUM(E47:E54) -> 0
A57: Total Outputs
B58: Events | C58: Adults | D58: Children | E58: Awards
B59: =SUM(B14+B42+B55) -> 236 | C59: =SUM(C14+C42+C55) -> 1595 | D59: =SUM(D14+D42+D55) -> 1822 | E59: =SUM(E55) -> 0
A62: Surveys | C62: Category | G62: Summary/Description
A63: Location | B63: Number | C63: Type of survey
A64: Fourth Reserve | B64: 4 | C64: 1 x bat and 3 x bird
A65: Lewisham-wide | B65: 1 | C65: Bird | G65: James Newton's borough wide bird survey - roughly 6 hours per month
A66: Sydenham Garden | B66: 1 | C66: Green roof plant monitoring | G66: monthly survey of green roof - 1h/month
A67: Hilly Fields | B67: 3 | C67: Birds | G67: 22.5 hours
A68: Ladywell Fields | B68: 3 | C68: Birds | G68: 31.5 hours
A69: Brookmill Park | B69: 3 | C69: Birds | G69: 9 hours
A70: Chinbrook | B70: 1 | C70: RMI survey | G70: Extending RMI sites to upper catchment
A71: Ravensbourne Riverfly (Brookmill, BPP, Ladywell, Manor Pk, Pool River) | B71: 15 | C71: RMI survey (current sites) | G71: Current RMI surveys Oct-Dec (excluding Sutcliffe Pk)
A72: Total | B72: =SUM(B64:B71) -> 31
A74: Website data | C74: Views | D74: Visits | E74: Posts published | F74: Link
A75: Nature conservation website | C75: 2158 | D75: 1272 | E75: 4 | F75: https://natureconservationlewisham.co.uk/
A76: Rivers and people website | C76: 451 | D76: 221 | E76: 5 | F76: https://riversandpeople.com/
A77: Total | C77: =SUM(C75:C76) -> 2609 | D77: =SUM(D75:D76) -> 1493 | E77: =SUM(E75:E76) -> 9
A79: Habitat/Species outputs | C79: Category | J79: Summary/Description
A80: Location | C80: Hedge (m) | D80: Loggery | E80: Bird box | F80: Bat box | G80: Bug/bee hotel | H80: Trees | I80: Other habitat
A81: Blackheath - bund on Prince Charles Road | I81: bund improvement | J81: preparing bund and sowing locally collected seeds
A82: Bell Green Pond | D82: 1 | I82: dead hedge
A83: Durham Hill | C83: 110 | H83: 60 | J83: planting hedge by school and replanting copse of trees below hill
A84: Folkestone Gardens | D84: 1 | I84: hibernaculum, log piles
A85: Iona Orchard nature reserve | E85: 3 | F85: 1 | G85: 1 | J85: Donated by Shirley Boughton, installed by Friends
A86: Ladywell Fields - middle fields | H86: 600 | J86: Tiny forest
A87: Devonshire Road | J87: 16 bird boxes made by LWT volunteers, need installing
A88: Dacres Wood | I88: fence installed around meadow | J88: fence installed to allow the meadow to regenerate
A89: Fourth Reserve | C89: 120
A90: Chinbrook Orchard | H90: 3 | J90: 3 heritage apple tree planted within Our Space Award project
A92: TOTAL | C92: =SUM(C81:C91) -> 230 | D92: =SUM(D81:D91) -> 2 | E92: =SUM(E81:E91) -> 3 | F92: =SUM(F81:F91) -> 1 | G92: =SUM(G81:G91) -> 1 | H92: =SUM(H81:H91) -> 663 | I92: =COUNTIF(I81:I91,"<>") -> 4
A94: Planning applications/documents reviewed
C95: Number
A96: Number of planning applications reviewed | C96: 42
A98: Habitat/Species outputs/advice given* | C98: Category | L98: Notes
A99: Location | C99: Hedge (m) | D99: Loggery | E99: Bird box | F99: Bat box | G99: Bug hotel | H99: Trees | I99: Living roof (m2) | J99: Other habitat | K99: Advice given (species, habitats, lighting, maintenance etc.)
A100: 30-31 Woodcombe Crescent - DC/22/128654 | E100: 15 | F100: 5 | L100: 10 swift bricks, 5 sparrow bricks
A101: Crossway Court, Endwell Road - DC/22/128419 | C101: 34
A102: Victoria Wharves, Plot 4 - DC/22/128925 | E102: 7 | F102: 2 | I102: 1314 | L102: peregrine, swift, redstart, sparrow
A103: 101-103 Endwell Road - DC/22/128355 | I103: 25
A104: 36 Scawen road - DC/22/128940 | I104: 46.8 | L104: wildflower roof on sloped roof
A105: Constitutional Club - DC/22/129039 | F105: 1
A106: TOTAL planning applications | C106: =SUM(C100:C105) -> 34 | D106: =SUM(D100:D105) -> 0 | E106: =SUM(E100:E105) -> 22 | F106: =SUM(F100:F105) -> 8 | G106: =SUM(G100:G105) -> 0 | H106: =SUM(H100:H105) -> 0 | I106: =SUM(I100:I105) -> 1385.8 | J106: =COUNTIF(J100:J105,"<>") -> 0
A107: *Please note that only biodiversity enhancements that are at condition discharge phase are recorded here.

Sheet Summary
A1: Lewisham Biodiversity Outputs | D1: Updated 27/01/2023
A3: Environmental education
A4: Quarter | B4: Total events | C4: Total number adults | D4: Total number children | E4: Summary of events carried out this quarter | K4: Summary of groups engaged
A5: QTR1 January - March 2022 | B5: ='Jan-Mar'!B15 -> 14 | C5: ='Jan-Mar'!C15 -> 113 | D5: ='Jan-Mar'!D15 -> 155
A6: QTR2 April - June 2022 | B6: ='Apr-Jun'!B15 -> 94 | C6: ='Apr-Jun'!C15 -> 186 | D6: ='Apr-Jun'!D15 -> 1056
A7: QTR3 July - September 2022 | B7: ='Jul-Sep'!B10 -> 4 | C7: ='Jul-Sep'!C10 -> 35 | D7: ='Jul-Sep'!D10 -> 44
A8: QTR4 October - December 2022 | B8: ='Oct-Dec'!B14 -> 90 | C8: ='Oct-Dec'!C14 -> 348 | D8: ='Oct-Dec'!D14 -> 1527
A9: Total | B9: =SUM(B5:B8) -> 202 | C9: =SUM(C5:C8) -> 682 | D9: =SUM(D5:D8) -> 2782
A11: Volunteer (incl. LBL)
A12: Quarter | B12: Total events | C12: Total number adults | D12: Total number children | E12: Total volunteer hours | F12: Summary of events carried out this quarter | K12: Summary of groups engaged
A13: QTR1 January - March 2022 | B13: ='Jan-Mar'!B37 -> 115 | C13: ='Jan-Mar'!C37 -> 944 | D13: ='Jan-Mar'!D37 -> 19 | E13: ='Jan-Mar'!E37 -> 2172
A14: QTR2 April - June 2022 | B14: ='Apr-Jun'!B36 -> 192 | C14: ='Apr-Jun'!C36 -> 834 | D14: ='Apr-Jun'!D36 -> 22 | E14: ='Apr-Jun'!E36 -> 3511.75
A15: QTR3 July - September 2022 | B15: ='Jul-Sep'!B33 -> 115 | C15: ='Jul-Sep'!C33 -> 795 | D15: ='Jul-Sep'!D33 -> 15 | E15: ='Jul-Sep'!E33 -> 3333.5
A16: QTR4 October - December 2022 | B16: ='Oct-Dec'!B42 -> 134 | C16: ='Oct-Dec'!C42 -> 910 | D16: ='Oct-Dec'!D42 -> 192 | E16: ='Oct-Dec'!E42 -> 2767.5
A17: Total: | B17: =SUM(B13:B16) -> 556 | C17: =SUM(C13:C16) -> 3483 | D17: =SUM(D13:D16) -> 248 | E17: =SUM(E13:E16) -> 11784.75
A19: Volunteer events - LBL (also included in above events figures)
A20: Quarter | B20: Total Nature's Gym events | C20: Total number adults (NG) | D20: Total volunteer hours | E20: Total Rivers and People events | F20: Total number adults (RaP) | G20: Total volunteer hours | H20: Total BPP events | I20: Total number adults (BPP) | J20: Total volunteer hours
A21: QTR1 January - March 2021 | B21: ='Jan-Mar'!B22+'Jan-Mar'!B30 -> 12 | C21: ='Jan-Mar'!C22+'Jan-Mar'!C30 -> 126 | D21: =C21*3 -> 378 | E21: ='Jan-Mar'!B31 -> 10 | F21: ='Jan-Mar'!C31 -> 78 | G21: =F21*3 -> 234 | H21: ='Jan-Mar'!B21 -> 39 | I21: ='Jan-Mar'!C21 -> 390 | J21: =I21*2 -> 780
A22: QTR2 April - June 2021 | B22: ='Apr-Jun'!B19+'Apr-Jun'!B34 -> 17 | C22: ='Apr-Jun'!C19+'Apr-Jun'!C34 -> 120 | D22: ='Apr-Jun'!E19+'Apr-Jun'!E34 -> 378 | E22: ='Apr-Jun'!B35 -> 10 | F22: ='Apr-Jun'!C35 -> 41 | G22: ='Apr-Jun'!E35 -> 123 | H22: ='Apr-Jun'!B27 -> 32 | I22: ='Apr-Jun'!C27 -> 256 | J22: ='Apr-Jun'!E27 -> 512
A23: QTR3 July - September 2021 | B23: ='Jul-Sep'!B14+'Jul-Sep'!B16 -> 10 | C23: ='Jul-Sep'!C14+'Jul-Sep'!C16 -> 98 | D23: ='Jul-Sep'!E14+'Jul-Sep'!E16 -> 294 | E23: ='Jul-Sep'!B17 -> 3 | F23: ='Jul-Sep'!C17 -> 13 | G23: ='Jul-Sep'!E17 -> 43 | H23: ='Jul-Sep'!B15 -> 43 | I23: ='Jul-Sep'!C15 -> 491 | J23: ='Jul-Sep'!E15 -> 1158
A24: QTR4 October - December 2021 | B24: ='Oct-Dec'!B18+'Oct-Dec'!B20 -> 10 | C24: ='Oct-Dec'!C18+'Oct-Dec'!C20 -> 74 | D24: ='Oct-Dec'!E18+'Oct-Dec'!E20 -> 222 | E24: ='Oct-Dec'!B21 -> 6 | F24: ='Oct-Dec'!C21 -> 25 | G24: ='Oct-Dec'!E21 -> 75 | H24: ='Oct-Dec'!B19 -> 48 | I24: ='Oct-Dec'!C19+'Oct-Dec'!D19 -> 289 | J24: ='Oct-Dec'!E19 -> 599
A25: Total: | B25: =SUM(B21:B24) -> 49 | C25: =SUM(C21:C24) -> 418 | D25: =SUM(D21:D24) -> 1272 | E25: =SUM(E21:E24) -> 29 | F25: =SUM(F21:F24) -> 157 | G25: =SUM(G21:G24) -> 475 | H25: =SUM(H21:H24) -> 162 | I25: =SUM(I21:I24) -> 1426 | J25: =SUM(J21:J24) -> 3049
A27: Engagement e.g. walk, presentation
A28: Quarter | B28: Total events | C28: Total number adults | D28: Total number children | E28: Awards (details below) | F28: Summary of events carried out this quarter | K28: Summary of groups engaged
A29: QTR1 January - March 2022 | B29: ='Jan-Mar'!B48 -> 11 | C29: ='Jan-Mar'!C48 -> 312 | D29: ='Jan-Mar'!D48 -> 102 | E29: ='Jan-Mar'!E48 -> 0
A30: QTR2 April - June 2022 | B30: ='Apr-Jun'!B54 -> 18 | C30: ='Apr-Jun'!C54 -> 2281 | D30: ='Apr-Jun'!D54 -> 1072 | E30: ='Apr-Jun'!E54 -> 0
A31: QTR3 July - September 2022 | B31: ='Jul-Sep'!B49 -> 19 | C31: ='Jul-Sep'!C49 -> 789 | D31: ='Jul-Sep'!D49 -> 233 | E31: ='Jul-Sep'!E49 -> 0
A32: QTR4 October - December 2022 | B32: ='Oct-Dec'!B55 -> 12 | C32: ='Oct-Dec'!C55 -> 337 | D32: ='Oct-Dec'!D55 -> 103 | E32: ='Oct-Dec'!E55 -> 0
A33: Total | B33: =SUM(B29:B32) -> 60 | C33: =SUM(C29:C32) -> 3719 | D33: =SUM(D29:D32) -> 1510 | E33: =SUM(E29:E32) -> 0
A35: Habitat/Species outputs
A36: Quarter | B36: Hedgerow (m) | C36: Loggery | D36: Bird Box | E36: Bat box | F36: Bug Hotel | G36: Trees | H36: Pond | I36: Living roof | J36: Other habitat - details on tab | K36: Locations
A37: Planning Quarter 1 (January - March 2022) | B37: ='Jan-Mar'!C107 -> 140 | C37: ='Jan-Mar'!D107 -> 0 | D37: ='Jan-Mar'!E107 -> 26 | E37: ='Jan-Mar'!F107 -> 16 | F37: ='Jan-Mar'!G107 -> 4 | G37: ='Jan-Mar'!H107 -> 93 | I37: ='Jan-Mar'!I107 -> 1143.5 | J37: ='Jan-Mar'!J107 -> 2
A38: Parks Quarter 1 (January - March 2022) | B38: ='Jan-Mar'!C92 -> 10 | C38: ='Jan-Mar'!D92 -> 2 | D38: ='Jan-Mar'!E92 -> 21 | E38: ='Jan-Mar'!F92 -> 0 | F38: ='Jan-Mar'!G92 -> 0 | G38: ='Jan-Mar'!H92 -> 692 | H38: ='Jan-Mar'!I92 -> 8 | J38: ='Jan-Mar'!I92 -> 8
A39: Planning Quarter 2 (April-June 2022) | B39: ='Apr-Jun'!C105 -> 0 | C39: ='Apr-Jun'!D105 -> 0 | D39: ='Apr-Jun'!E105 -> 6 | E39: ='Apr-Jun'!F105 -> 6 | F39: ='Apr-Jun'!G105 -> 0 | G39: ='Apr-Jun'!H105 -> 0 | I39: ='Apr-Jun'!I105 -> 1358
A40: Parks and NR Quarter 2 (April-June 2022) | B40: ='Apr-Jun'!C90 -> 0 | C40: ='Apr-Jun'!D90 -> 4 | D40: ='Apr-Jun'!E90 -> 4 | E40: ='Apr-Jun'!F90 -> 0 | F40: ='Apr-Jun'!G90 -> 0 | G40: ='Apr-Jun'!H90 -> 0 | I40: 108 | J40: ='Apr-Jun'!I90 -> 3 | K40: Crossfields estate retrofitting bin stores
A41: Planning Quarter 3 (July-September 2022) | B41: ='Jul-Sep'!C96 -> 63 | C41: ='Jul-Sep'!D96 -> 0 | D41: ='Jul-Sep'!E96 -> 5 | E41: ='Jul-Sep'!F96 -> 4 | F41: ='Jul-Sep'!G96 -> 0 | G41: ='Jul-Sep'!I96 -> 3 | I41: ='Jul-Sep'!J96 -> 911.8 | J41: ='Jul-Sep'!K96 -> 0
A42: Parks and NR Quarter 3 (July-September 2022) | B42: ='Jul-Sep'!C81 -> 0 | C42: ='Jul-Sep'!D81 -> 4 | D42: ='Jul-Sep'!E81 -> 0 | E42: ='Jul-Sep'!F81 -> 0 | F42: ='Jul-Sep'!G81 -> 0 | G42: ='Jul-Sep'!H81 -> 0 | J42: ='Jul-Sep'!I81 -> 1
A43: Planning Quarter 4 (October - December 2022) | B43: ='Oct-Dec'!C106 -> 34 | C43: ='Oct-Dec'!D106 -> 0 | D43: ='Oct-Dec'!E106 -> 22 | E43: ='Oct-Dec'!F106 -> 8 | F43: ='Oct-Dec'!G106 -> 0 | G43: ='Oct-Dec'!H106 -> 0 | I43: ='Oct-Dec'!I106 -> 1385.8 | J43: ='Oct-Dec'!J106 -> 0
A44: Parks and NR Quarter 4 (October - December 2022) | B44: ='Oct-Dec'!C92 -> 230 | C44: ='Oct-Dec'!D92 -> 2 | D44: ='Oct-Dec'!E92 -> 3 | E44: ='Oct-Dec'!F92 -> 1 | F44: ='Oct-Dec'!G92 -> 1 | G44: ='Oct-Dec'!H92 -> 663 | J44: ='Oct-Dec'!I92 -> 4
A45: Planning total | B45: =B37+B39+B41+B43 -> 237 | C45: =C37+C39+C41+C43 -> 0 | D45: =D37+D39+D41+D43 -> 59 | E45: =E37+E39+E41+E43 -> 34 | F45: =F37+F39+F41+F43 -> 4 | G45: =G37+G39+G41+G43 -> 96 | H45: =H37+H39+H41+H43 -> 0 | I45: =I37+I39+I41+I43 -> 4799.1 | J45: =J37+J39+J41+J43 -> 2
A46: Parks and NR total | B46: =B38+B40+B42+B44 -> 240 | C46: =C38+C40+C42+C44 -> 12 | D46: =D38+D40+D42+D44 -> 28 | E46: =E38+E40+E42+E44 -> 1 | F46: =F38+F40+F42+F44 -> 1 | G46: =G38+G40+G42+G44 -> 1355 | H46: =H38+H40+H42+H44 -> 8 | I46: =I38+I40+I42+I44 -> 108 | J46: =J38+J40+J42+J44 -> 16
A47: Total | B47: =SUM(B45:B46) -> 477 | C47: =SUM(C45:C46) -> 12 | D47: =SUM(D45:D46) -> 87 | E47: =SUM(E45:E46) -> 35 | F47: =SUM(F45:F46) -> 5 | G47: =SUM(G45:G46) -> 1451 | H47: =SUM(H45:H46) -> 8 | I47: =SUM(I45:I46) -> 4907.1 | J47: =SUM(J45:J46) -> 18
A49: Surveys
A50: Quarter 1
A51: Surveys | C51: Category | G51: Summary/Description
A52: Location | B52: Number | C52: Type of survey
A53: Beckenham Place Park | B53: 1 | C53: Bird
A54: Beckenham Place Park | B54: 3 | C54: moth
A55: Hilly Fields | B55: 3 | C55: Bird
A56: Ladywell Fields | B56: 3 | C56: Bird
A57: Chinbrook Meadows | B57: 2 | C57: Bird
A58: Brookmill Park | B58: 1 | C58: Bird
A59: Lewisham wide | B59: 55 | C59: Bird | G59: 55 sites in Lewisham surveyed by James Newton
A60: Ravensbourne Catchment (5 locations) | B60: 15 | C60: Riverfly | G60: Monthly Riverfly at 5 locations in LB Lewisham
A61: Sydenham Garden roof | B61: 1 | C61: Living roof
A62: Ravensbourne/Quaggy Confluence to the Lidl on Lee High Road | B62: 1 | C62: ObstacEELS barrier survey (wading in the river) | G62: Surveyed this stretch of the river with a colleague from Thames21 to map and assess the 'passability' of barriers (using ZSL's EBAT score) to European eels migrating upstream.
A63: Albion Millennium Green | B63: 1 | C63: Bird | G63: Big Garden Birdwatch
A64: Hither Green Triangle | B64: 1 | C64: Camera traps and acoustic survey | G64: Network Rail/ZSL pilot project for biodiversity monitoring (e.g. using camera traps that send photos to phones)
A65: Total | B65: =SUM(B53:B64) -> 87
A67: Surveys
A68: Quarter 2
A69: Location | B69: Number | C69: Type of survey | G69: Summary/Description
A70: Hilly Fields | B70: 3 | C70: Bird
A71: Ladywell Fields | B71: 3 | C71: Bird
A72: Brookmill Park | B72: 3 | C72: Bird
A73: Chinbrook Meadows | B73: 1 | C73: Bird
A74: Ravensbourne catchment | B74: 18 | C74: Outfall Safari run by Ravensbourne Riverfly | G74: 18 in Lewisham. 25 volunteers over two months, looking at polluting outfalls. With ZSL and Thames Water.
A75: Ravensbourne Riverfly | B75: 15 | C75: Riverfly freshwater invert sampling | G75: 5 sites in Lewisham, three months surveying, once a month.
A76: Chinbrook Meadows | B76: 1 | C76: RMI | G76: During the Chinbrook Meadows engagement event, a Thames21 staff member took a volunteer to the Grove Park Ditch/Quaggy Confluence (where the works for the project will occur) to carry out a riverfly monitoring survey. They sampled up- and downstream of the confluence and found very low RMI scores.
A77: Beckenham Place Park | B77: 1 | C77: Bat | G77: 5 species identified on the bat walk (Daubenton's, Pipistrelle - soprano and common, Noctule, Serotine
A78: Beckenham Place Park East | B78: 3 | C78: EcIA, Bat, Water vole | G78: Ecology surveys conducted in BPP East for the restoration project
A79: Grove Park railway corridor | B79: 1 | C79: Phase 1, habitat condition for BNG, NVC, habitat suitability | G79: Survey commissioned by LBL's Planning department to establish if SINCs within corridor should be upgraded to MSINC
A80: Grove Park railway corridor | B80: 1 | C80: Camera traps | G80: Survey commissioned by LBL's Planning department to establish if SINCs within corridor should be upgraded to MSINC
A81: Great North Wood reserves (DW, GRNR, DRNR, Buckthorne, New Cross) | B81: 5 | C81: Camera traps | G81: Camera traps installed for hedgehog monitoring withing the GNW project
A82: Sydenham Garden | B82: 3 | C82: living roof plant survey | G82: Survey dates: 20 April, 25 May, 22 June includes weather in previous month
A83: Nature's Gym | B83: 1 | C83: butterfly, bird, wildflower | G83: survey at River Pool Linear Park and Bell Green Pond surroundings
A84: Total | B84: =SUM(B70:B83) -> 59
A86: Surveys
A87: Quarter 3 (July - September 2022)
A88: Location | B88: Number | C88: Type of survey | G88: Summary/Description
A89: Beckenham Place Park | B89: 1 | C89: Bat box inspection | G89: 6 male soprano pipistrelles found in the 13 boxes inspected (2 boxes were inaccessible)
A90: Beckenham Place Park | B90: 3 | C90: moth survey (and other insects) | G90: 25 moth species recorded
A91: Chinbrook Meadows | B91: 2 | C91: RMI | G91: As mentioned above, during the Chinbrook Meadows engagement events, a Thames21 staff member took three volunteers in total over the two events to the Grove Park Ditch/Quaggy Confluence (where the works for the project will occur) to carry out a riverfly monitoring survey. They sampled up- and downstream of the confluence and found very low RMI scores.
A92: Brockley and Ladywell Cemetery | B92: 1 | C92: Butterfly | G92: regular butterfly transects in cemetery, by Katie (FoBLC)
A93: Hilly Fields | B93: 3 | C93: Bird
A94: Ladywell Fields | B94: 3 | C94: Bird
A95: Brookmill Park | B95: 3 | C95: Bird
A96: Hilly Fields | B96: 1 | C96: Flora
A97: Lewisham-wide | B97: 1 | C97: Bird | G97: James Newton's borough wide bird survey
A98: Sydenham Garden | B98: 3 | C98: Green roof plant monitoring | G98: monthly survey of green roof
A99: Garthorne Road NR | B99: 1 | C99: bat survey | G99: Ernie Thomason bat survey in August
A100: Garthorne Road NR, Devonshire Road NR | B100: 2 | C100: reptiles | G100: monitoring of reptiles
A101: Total | B101: =SUM(B89:B100) -> 24
A103: Surveys
A104: Quarter 4 (October - December 2022)
A105: Location | B105: Number | C105: Type of survey | G105: Summary/Description
A106: Fourth Reserve | B106: 4 | C106: 1 x bat and 3 x bird
A107: Lewisham-wide | B107: 1 | C107: Bird | G107: James Newton's borough wide bird survey - roughly 6 hours per month
A108: Sydenham Garden | B108: 1 | C108: Green roof plant monitoring | G108: monthly survey of green roof - 1h/month
A109: Hilly Fields | B109: 3 | C109: Birds | G109: 22.5 hours
...
